Workbook

Sheet สรุปผลรวม ปี69
A1: สรุปผลการดำเนินการจัดซื้อจัดจ้างหรือการจัดหาพัสดุของหน่วยงานในภาพรวม ประจำปีงบประมาณ พ.ศ.2569
A2: ชื่อหน่วยงาน องค์การบริหารส่วนตำบลป่าตึง
C4: ลำดับ | D4: วิธีการจัดซื้อจัดจ้าง | E4: จำนวนโครงการ | F4: จำนวนงบประมาณ
C5: 1 | D5: วิธีเฉพาะเจาะจง | E5: 581 | F5: ='รวม ปี69'!I589 -> 48642592
C6: 2 | D6: วิธีคัดเลือก | E6: - | F6: -
C7: 3 | D7: วิธีประกวดราคาอิเล็คทรอนิกส์ (e-bidding) | E7: 5 | F7: =406500+7220000+539000+429900+630000 -> 9225400
C8: 4 | D8: อื่น ๆ | E8: - | F8: -
D9: รวม | E9: =SUM(E5:E8) -> 586 | F9: =SUM(F5:F8) -> 57867992
A11: ปัญหา/อุปสรรค
A17: ข้อเสนอแนะ

Sheet รวม ปี69
A2: ลำดับที่ | B2: งานที่จัดซื้อจัดจ้าง | C2: วงเงินที่จะซื้อหรือจ้าง | D2: ราคากลาง | E2: วิธีจัดซื้อหรือจ้าง | F2: รายชื่อผู้เสนอราคา | G2: ราคาที่เสนอ | H2: ผู้ได้รับการคัดเลือก | I2: ราคาที่ตกลงซื้อหรือจ้าง | J2: เหตุผลที่คัดเลือกโดยสรุป | K2: เลขที่และวันที่ของสัญญาหรือข้อตกลงในการซื้อหรือจ้าง
A3: 1 | B3: ประกวดราคาจ้างก่อสร้างโครงการก่อสร้างถนน คสล. บ้านแม่เฟือง หมู่ที่ 5 (สายที่ 1) | C3: 545700 | D3: 563745.43 | E3: ด้วยวิธีประกวดราคาอิเล็กทรอนิกส์ (e-bidding) | F3: 1.หจก.แสนใจ คอนสตรัคชั่น 2.หจก.สุทธิพันธ์ 2559 3.หจก.อครา เอ็นเตอร์ไพรส 4.บริษัท ชนะชัยธุรกิจการค้า จำกัด | G3: 530,000.00 407,000.00 452,000.00 518,700.00 | H3: ห้างหุ้นส่วนจำกัด สุทธิพันธ์ 2559 | I3: 406500 | J3: เป็นผู้มีคุณสมบัติและข้อเสนอทางเทคนิค ถูกต้องครบถ้วนและเป็นผู้เสนอราคา ต่ำ สุด | K3: 021/2569 | L3: 244321
A4: 2 | B4: จ้างเหมาซ่อมแซมและบำรุงรักษารถยนต์ส่วนกลาง ยี่ห้ออีซูซุ หมายเลขทะเบียน ๘๑-๘๖๖๙ เชียงราย (ครุภัณฑ์เลขที่ ๐๐๕-๕๗-๐๐๐๒) | C4: 264100 | D4: 264100 | E4: วิธีเฉพาะเจาะจง | F4: อู่ช่างอึ่ง | G4: 264100 | H4: อู่ช่างอึ่ง | I4: 264100 | J4: เป็นผู้มีคุณสมบัติตรงตามเงื่อนไขที่กำหนด | K4: 054/2569 | L4: 244260
A5: 3 | B5: ก่อสร้างถนนคอนกรีตเสริมเหล็ก บ้านป่าบง หมู่ที่ 1 | C5: 500007.84 | D5: 500000 | E5: วิธีเฉพาะเจาะจง | F5: หจก.อครา เอ็นเตอร์ไพรส์498 | G5: 498000 | H5: หจก.อครา เอ็นเตอร์ไพรส์498 | I5: 498000 | J5: เป็นผู้มีคุณสมบัติตรงตามเงื่อนไขที่กำหนด | K5: 007/2569 | L5: 244295
A6: 4 | B6: จ้างเหมาซ่อมแซมและบำรุงรักษาครุภัณฑ์เครื่องปริ้นครุภัณฑ์เลขที่ 478-64-0048 | C6: 850 | D6: 850 | E6: วิธีเฉพาะเจาะจง | F6: หจก.ธนาทรัพย์ศิลา | G6: 850 | H6: หจก.ธนาทรัพย์ศิลา | I6: 850 | J6: เป็นผู้มีคุณสมบัติตรงตามเงื่อนไขที่กำหนด | K6: 055/2569 | L6: 244260
A7: 5 | B7: จ้างวางท่อคอนกรีตเสริมเหล็ก พร้อมบ่อพัก บ้านเล่าฝู่ หมู่ที่ 20 (บ้านโป่งป่าแขม) | C7: 250000 | D7: 250142.62 | E7: วิธีเฉพาะเจาะจง | F7: หจก. เอสเอสเค 888 คอนสตรัคชั่น | G7: 249800 | H7: หจก. เอสเอสเค 888 คอนสตรัคชั่น | I7: 249800 | J7: เป็นผู้มีคุณสมบัติตรงตามเงื่อนไขที่กำหนด | K7: 006//2569 | L7: 244294
A8: 6 | B8: จ้างก่อสร้างรางระบายน้ำคอนกรีตเสริมเหล็ก(ตัวยู) บ้านถ้ำ หมู่ที่ 4 (จำนวน 3 ช่วง) | C8: 499400 | D8: 499322.07 | E8: วิธีเฉพาะเจาะจง | F8: หจก.อครา เอ็นเตอร์ไพรส์498 | G8: 498000 | H8: หจก.อครา เอ็นเตอร์ไพรส์498 | I8: 498000 | J8: เป็นผู้มีคุณสมบัติตรงตามเงื่อนไขที่กำหนด | K8: 005/2569 | L8: 244288
A9: 7 | B9: จ้างบำรุงรักษาและซ่อมแซมทรัพย์สิน (สายสัญญาณกล้องวงจรปิด) | C9: 8500 | D9: 8500 | E9: วิธีเฉพาะเจาะจง | F9: หจก.ธนาทรัพย์ศิลา | G9: 8500 | H9: หจก. ธนา ทรัพท์ศิลา | I9: 8500 | J9: เป็นผู้มีคุณสมบัติตรงตามเงื่อนไขที่กำหนด | K9: 056/2569 | L9: 244260
A10: 8 | B10: จัดซื้อซิมอินเตอร์เน็ตแบบรายปี | C10: 2500 | D10: 2500 | E10: วิธีเฉพาะเจาะจง | F10: หจก.ธนาทรัพย์ศิลา | G10: 2500 | H10: หจก. ธนา ทรัพท์ศิลา | I10: 2500 | J10: เป็นผู้มีคุณสมบัติตรงตามเงื่อนไขที่กำหนด | K10: 013/2569 | L10: 244285
A11: 9 | B11: เช่าเตาเผาขยะ จำนวน ๓ เตา ประจำปีงบประมาณ พ.ศ. ๒๕๖๙ | C11: 1212000 | D11: 1212000 | E11: วิธีเฉพาะเจาะจง | F11: บริษัท พลอยไพลิน กรีน เวิลด์ จำกัด1 | H11: บริษัท พลอยไพลิน กรีน เวิลด์ จำกัด1 | I11: 1212000 | J11: เป็นผู้มีคุณสมบัติตรงตามเงื่อนไขที่กำหนด | K11: 005/2569 | L11: 244258
A12: 10 | B12: จ้างเหมาจัดทำตรายาง จำนวน 5 รายการ (กองคลัง) | C12: 2990 | D12: 2990 | E12: วิธีเฉพาะเจาะจง | F12: ร้านเอกบล็อค | G12: 2990 | H12: ร้านเอกบล็อค | I12: 2990 | J12: เป็นผู้มีคุณสมบัติตรงตามเงื่อนไขที่กำหนด | K12: 068/2569 | L12: 244319
A13: 11 | B13: จ้างเหมาจัดทำป้ายประชาสัมพันธ์ กรุณารักษาความสะอาดน้ำพุร้อนป่าตึง | C13: 3950 | D13: 3950 | E13: วิธีเฉพาะเจาะจง | F13: ร้านแม่จันเจริญ ป้ายโฆษณา | G13: 3950 | H13: ร้านแม่จันเจริญ ป้ายโฆษณา | I13: 3950 | J13: เป็นผู้มีคุณสมบัติตรงตามเงื่อนไขที่กำหนด | K13: 069/2569 | L13: 244319
A14: 12 | B14: ซื้อยางรถยนต์พร้อมติดตั้ง รถยนต์ส่วนกลาง ยี่ห้อมิตซูบิชิ หมายเลขทะเบียน กม 9658 เชียงราย ครุภัณฑ์เลขที่ 001-58-0006 | C14: 22000 | D14: 22000 | E14: วิธีเฉพาะเจาะจง | F14: หจก.เอส.เค.ยางยนต์เชียงรา | G14: 22000 | H14: หจก.เอส.เค.ยางยนต์เชียงรา | I14: 22000 | J14: เป็นผู้มีคุณสมบัติตรงตามเงื่อนไขที่กำหนด | K14: 050/2569 | L14: 244319
A15: 13 | B15: ซื้อยางรถยนต์พร้อมติดตั้ง รถยนต์ส่วนกลาง ยี่ห้อมาสด้า หมายเลขทะเบียน กจ 1386 เชียงราย ครุภัณฑ์เลขที่ 001-48-0002 | C15: 15400 | D15: 15400 | E15: วิธีเฉพาะเจาะจง | F15: หจก.เอส.เค.ยางยนต์เชียงรา | G15: 15400 | H15: หจก.เอส.เค.ยางยนต์เชียงรา | I15: 15400 | J15: เป็นผู้มีคุณสมบัติตรงตามเงื่อนไขที่กำหนด | K15: 049/2569 | L15: 244319
A16: 14 | B16: ซื้อครุภัณฑ์สำนักงาน (เครื่องปรับอากาศ) จำนวน 2 เครื่อง | C16: 161800 | D16: 161800 | E16: วิธีเฉพาะเจาะจง | F16: หจก.จิมมี่ ซัพพลาย | G16: 161800 | H16: หจก.จิมมี่ ซัพพลาย | I16: 161800 | J16: เป็นผู้มีคุณสมบัติตรงตามเงื่อนไขที่กำหนด | K16: 002/2569 | L16: 244320
A17: 15 | B17: จ้างเหมาจัดทำตรายาง จำนวน ๙ รายการ | C17: 5340 | D17: 5340 | E17: วิธีเฉพาะเจาะจง | F17: ร้าน จ.มุ่ยเจริญ | G17: 5340 | H17: ร้าน จ.มุ่ยเจริญ | I17: 5340 | J17: เป็นผู้มีคุณสมบัติตรงตามเงื่อนไขที่กำหนด | K17: 066/2569 | L17: 244316
A18: 16 | B18: จ้างเหมาบำรุงรักษารถตักหน้าขุดหลัง หมายเลขทะเบียน ฒฆ 7613 เชียงราย | C18: 20946.32 | D18: 20946.32 | E18: วิธีเฉพาะเจาะจง | F18: บริษัท ชัยรัชการ (กรุงเทพ) จำกัด | G18: 20946.32 | H18: บริษัท ชัยรัชการ (กรุงเทพ) จำกัด | I18: 20946.32 | J18: เป็นผู้มีคุณสมบัติตรงตามเงื่อนไขที่กำหนด | K18: 067/2569 | L18: 244316
A19: 17 | B19: จ้างเหมาซ่อมแซมและเปลี่ยนอะไหล่รถยนต์ส่วนกลาง ยี่ห้อมิตซูบิชิ เลขทะเบียน กร ๒๖๕๐ เชียงราย (ครุภัณฑ์เลขที่ ๐๒๖-๕๙-๐๐๐๑) | C19: 4130 | D19: 4130 | E19: วิธีเฉพาะเจาะจง | F19: บริษัท มิตซูพันล้าน จำกัด4 | G19: 4130 | H19: บริษัท มิตซูพันล้าน จำกัด4 | I19: 4130 | J19: เป็นผู้มีคุณสมบัติตรงตามเงื่อนไขที่กำหนด | K19: 065/2569 | L19: 244316
A20: 18 | B20: จ้างเหมาเครื่องจักรขุดลอกลำเหมือง บ้านโป่งน้ำร้อน หมู่ที่ 11 | C20: 44800 | D20: 44800 | E20: วิธีเฉพาะเจาะจง | F20: หจก.อครา เอ็นเตอร์ไพรส์ | G20: 44800 | H20: หจก.อครา เอ็นเตอร์ไพรส์ | I20: 44800 | J20: เป็นผู้มีคุณสมบัติตรงตามเงื่อนไขที่กำหนด | K20: 063/2569 | L20: 244314
A21: 19 | B21: จ้างปรับปรุงถนนทางการเกษตรในพื้นที่ตำบลป่าตึง อำเภอแม่จัน จังหวัดเชียงราย | C21: 89600 | D21: 89600 | E21: วิธีเฉพาะเจาะจง | F21: หจก.อครา เอ็นเตอร์ไพรส์ | G21: 89600 | H21: หจก.อครา เอ็นเตอร์ไพรส์ | I21: 89600 | J21: เป็นผู้มีคุณสมบัติตรงตามเงื่อนไขที่กำหนด | K21: 020/2569 | L21: 244315
A22: 20 | B22: ซื้อวัสดุคอมพิวเตอร์ จำนวน ๒ รายการ | C22: 7700 | D22: 7700 | E22: วิธีเฉพาะเจาะจง | F22: หจก.ธนาทรัพย์ศิลา | G22: 7700 | H22: หจก.ธนาทรัพย์ศิลา | I22: 7700 | J22: เป็นผู้มีคุณสมบัติตรงตามเงื่อนไขที่กำหนด | K22: 048/2569 | L22: 244314
A23: 21 | B23: ซื้อวัสดุสำนักงาน จำนวน ๑ รายการ | C23: 7500 | D23: 7500 | E23: วิธีเฉพาะเจาะจง | F23: ห้างหุ้นส่วนจำกัด พีเอส เครื่องเขียน | G23: 7500 | H23: ห้างหุ้นส่วนจำกัด พีเอส เครื่องเขียน | I23: 7500 | J23: เป็นผู้มีคุณสมบัติตรงตามเงื่อนไขที่กำหนด | K23: 031/2569 | L23: 244309
... A39: 37 | B39: ก่อสร้างถนนคอนกรีตเสริมเหล็ก เส้นทางการเกษตร บ้านห้วยต่าง หมู่ที่ 16 | C39: 499500 | D39: 521349.82 | E39: วิธีเฉพาะเจาะจง | F39: หจก.ชิง ไห่ ดีเวลลอปเมนท์ | G39: 499400 | H39: หจก.ชิง ไห่ ดีเวลลอปเมนท์ | I39: 499400 | J39: เป็นผู้มีคุณสมบัติตรงตามเงื่อนไขที่กำหนด | K39: 009/2569 | L39: 244299
A40: 38 | B40: จ้างเหมาบุคลากรปฏิบัติงานกองสาธารณสุข ตั้งแต่วันที่ 1 ต.ค. 68 - 30 ก.ย. 68 | C40: 110400 | D40: 110400 | E40: วิธีเฉพาะเจาะจง | F40: น.ส. ดลพร เยเปี่ย | G40: 110400 | H40: น.ส. ดลพร เยเปี่ย | I40: 110400 | J40: เป็นผู้มีอาชีพที่เสนอพัสดุตรงตามวัตถุประสงค์ในการใช้งาน | K40: 001/2569 | L40: 1/10/2568
A41: 39 | B41: จ้างเหมาบุคลากรปฏิบัติงานกองสาธารณสุข ตั้งแต่วันที่ 1 ต.ค. 68 - 30 ก.ย. 68 | C41: 110400 | D41: 110400 | E41: วิธีเฉพาะเจาะจง | F41: น.ส.วิลาพร ธรรมเดช | G41: 110400 | H41: น.ส.วิลาพร ธรรมเดช | I41: 110400 | J41: เป็นผู้มีอาชีพที่เสนอพัสดุตรงตามวัตถุประสงค์ในการใช้งาน | K41: 002/2569 | L41: 1/10/2568
A42: 40 | B42: จ้างบุคลากร เพื่อปฏิบัติงานบริการต่างๆ (กองคลัง) ตั้งแต่วันที่ 1 ต.ค. 68 - 30 ก.ย. 68 | C42: 55200 | D42: 55200 | E42: วิธีเฉพาะเจาะจง | F42: นายพรไชย ไชยทน | G42: 55200 | H42: นายพรไชย ไชยทน | I42: 55200 | J42: เป็นผู้มีอาชีพที่เสนอพัสดุตรงตามวัตถุประสงค์ในการใช้งาน | K42: 003/2569 | L42: 1/10/2568
A43: 41 | B43: จ้างบุคลากร เพื่อปฏิบัติงานบริการต่างๆ (กองคลัง) ตั้งแต่วันที่ 1 ต.ค. 68 - 30 ก.ย. 68 | C43: 54000 | D43: 54000 | E43: วิธีเฉพาะเจาะจง | F43: นายณัฐพงศ์ กุลวงค์ | G43: 54000 | H43: นายณัฐพงศ์ กุลวงค์ | I43: 54000 | J43: เป็นผู้มีอาชีพที่เสนอพัสดุตรงตามวัตถุประสงค์ในการใช้งาน | K43: 004/2569 | L43: 1/10/2568
A44: 42 | B44: จ้างบุคลากร เพื่อปฏิบัติงานบริการต่างๆ (กองช่าง) ตั้งแต่วันที่ 1 ต.ค. 68 - 31 ธ.ค. 68 | C44: 108000 | D44: 108000 | E44: วิธีเฉพาะเจาะจง | F44: น.ส.เกวรินทร์ จินดาธรรม | G44: 108000 | H44: น.ส.เกวรินทร์ จินดาธรรม | I44: 108000 | J44: เป็นผู้มีอาชีพที่เสนอพัสดุตรงตามวัตถุประสงค์ในการใช้งาน | K44: 005/2569 | L44: 1/10/2568
A45: 43 | B45: จ้างบุคลากร เพื่อปฏิบัติงานบริการต่างๆ (กองช่าง) ตั้งแต่วันที่ 1 ต.ค. 68 - 31 ธ.ค. 68 | C45: 27000 | D45: 27000 | E45: วิธีเฉพาะเจาะจง | F45: น.ส.วิสา ขันแก้วบุญเรือง | G45: 27000 | H45: น.ส.วิสา ขันแก้วบุญเรือง | I45: 27000 | J45: เป็นผู้มีอาชีพที่เสนอพัสดุตรงตามวัตถุประสงค์ในการใช้งาน | K45: 006/2569 | L45: 1/10/2568
A46: 44 | B46: จ้างบุคลากร เพื่อปฏิบัติงานบริการต่างๆ (กองช่าง) ตั้งแต่วันที่ 1 ต.ค. 68 - 31 ธ.ค. 68 | C46: 27000 | D46: 27000 | E46: วิธีเฉพาะเจาะจง | F46: น.ส.สาวิตรี เรืองปัญญา | G46: 27000 | H46: น.ส.สาวิตรี เรืองปัญญา | I46: 27000 | J46: เป็นผู้มีอาชีพที่เสนอพัสดุตรงตามวัตถุประสงค์ในการใช้งาน | K46: 007/2569 | L46: 1/10/2568
A47: 45 | B47: จ้างบุคลากร เพื่อปฏิบัติงานบริการต่างๆ (กองช่าง) ตั้งแต่วันที่ 1 ต.ค. 68 - 31 ธ.ค. 68 | C47: 45000 | D47: 45000 | E47: วิธีเฉพาะเจาะจง | F47: นายแทนทร พูนพัฒนาทรัพย์ | G47: 45000 | H47: นายแทนทร พูนพัฒนาทรัพย์ | I47: 45000 | J47: เป็นผู้มีอาชีพที่เสนอพัสดุตรงตามวัตถุประสงค์ในการใช้งาน | K47: 008/2569 | L47: 1/10/2568
A48: 46 | B48: จ้างเหมาบุคลากรงานกำจัดขยะและสิ่งปฏิกูลฯ ตั้งแต่วันที่ 1 ต.ค. 68 - 31 ธ.ค. 68 | C48: 57600 | D48: 57600 | E48: วิธีเฉพาะเจาะจง | F48: นายวิษณุ กองมา | G48: 57600 | H48: นายวิษณุ กองมา | I48: 57600 | J48: เป็นผู้มีอาชีพที่เสนอพัสดุตรงตามวัตถุประสงค์ในการใช้งาน | K48: 009/2569 | L48: 1/10/2568
A49: 47 | B49: จ้างเหมาบุคลากรงานกำจัดขยะและสิ่งปฏิกูลฯ ตั้งแต่วันที่ 1 ต.ค. 68 - 31 ธ.ค. 68 | C49: 57600 | D49: 57600 | E49: วิธีเฉพาะเจาะจง | F49: นายนิคม มาตรักษา | G49: 57600 | H49: นายนิคม มาตรักษา | I49: 57600 | J49: เป็นผู้มีอาชีพที่เสนอพัสดุตรงตามวัตถุประสงค์ในการใช้งาน | K49: 010/2569 | L49: 1/10/2568
A50: 48 | B50: จ้างเหมาบุคลากรงานกำจัดขยะและสิ่งปฏิกูลฯ ตั้งแต่วันที่ 1 ต.ค. 68 - 31 ธ.ค. 68 | C50: 57600 | D50: 57600 | E50: วิธีเฉพาะเจาะจง | F50: นายบุญทา ยืนยงแสน | G50: 57600 | H50: นายบุญทา ยืนยงแสน | I50: 57600 | J50: เป็นผู้มีอาชีพที่เสนอพัสดุตรงตามวัตถุประสงค์ในการใช้งาน | K50: 011/2569 | L50: 1/10/2568
A51: 49 | B51: จ้างเหมาบุคลากรงานกำจัดขยะและสิ่งปฏิกูลฯ ตั้งแต่วันที่ 1 ต.ค. 68 - 31 ธ.ค. 68 | C51: 57600 | D51: 57600 | E51: วิธีเฉพาะเจาะจง | F51: นายอาล่อง เผอเปี๊ยะ | G51: 57600 | H51: นายอาล่อง เผอเปี๊ยะ | I51: 57600 | J51: เป็นผู้มีอาชีพที่เสนอพัสดุตรงตามวัตถุประสงค์ในการใช้งาน | K51: 012/2569 | L51: 1/10/2568
A52: 50 | B52: จ้างเหมาบุคลากรงานกำจัดขยะและสิ่งปฏิกูลฯ ตั้งแต่วันที่ 1 ต.ค. 68 - 31 ธ.ค. 68 | C52: 57600 | D52: 57600 | E52: วิธีเฉพาะเจาะจง | F52: นายดวงจันทร์ วงค์ธานี | G52: 57600 | H52: นายดวงจันทร์ วงค์ธานี | I52: 57600 | J52: เป็นผู้มีอาชีพที่เสนอพัสดุตรงตามวัตถุประสงค์ในการใช้งาน | K52: 013/2569 | L52: 1/10/2568
A53: 51 | B53: จ้างเหมาบุคลากรงานกำจัดขยะและสิ่งปฏิกูลฯ ตั้งแต่วันที่ 1 ต.ค. 68 - 31 ธ.ค. 68 | C53: 57600 | D53: 57600 | E53: วิธีเฉพาะเจาะจง | F53: นายวัลลพ ศรีดวงใจ | G53: 57600 | H53: นายวัลลพ ศรีดวงใจ | I53: 57600 | J53: เป็นผู้มีอาชีพที่เสนอพัสดุตรงตามวัตถุประสงค์ในการใช้งาน | K53: 014/2569 | L53: 244258
A54: 52 | B54: จ้างเหมาบุคลากรงานกำจัดขยะและสิ่งปฏิกูลฯ ตั้งแต่วันที่ 1 ต.ค. 68 - 31 ธ.ค. 68 | C54: 57000 | D54: 57000 | E54: วิธีเฉพาะเจาะจง | F54: นายสมศักดิ์ กำแพงแก้ว | G54: 57000 | H54: นายสมศักดิ์ กำแพงแก้ว | I54: 57000 | J54: เป็นผู้มีอาชีพที่เสนอพัสดุตรงตามวัตถุประสงค์ในการใช้งาน | K54: 015/2569 | L54: 244258
A55: 53 | B55: จ้างเหมบุคลากรงานดูแลสวนสาธาณะสถานที่ท่องเที่ยวน้ำพุร้อนป่าตึง ตั้งแต่วันที่ 1 ต.ค. 68 - 31 ธ.ค. 68 | C55: 27000 | D55: 27000 | E55: วิธีเฉพาะเจาะจง | F55: นายพิชิต ศรีโลเจียว | G55: 27000 | H55: นายพิชิต ศรีโลเจียว | I55: 27000 | J55: เป็นผู้มีอาชีพที่เสนอพัสดุตรงตามวัตถุประสงค์ในการใช้งาน | K55: 016/2569 | L55: 244258
A56: 54 | B56: จ้างเหมบุคลากรงานดูแลสวนสาธาณะสถานที่ท่องเที่ยวน้ำพุร้อนป่าตึง ตั้งแต่วันที่ 1 ต.ค. 68 - 31 ธ.ค. 68 | C56: 110400 | D56: 110400 | E56: วิธีเฉพาะเจาะจง | F56: นายสมศักดิ์ คืนมาเมือง | G56: 110400 | H56: นายสมศักดิ์ คืนมาเมือง | I56: 110400 | J56: เป็นผู้มีอาชีพที่เสนอพัสดุตรงตามวัตถุประสงค์ในการใช้งาน | K56: 017/2569 | L56: 244258
...

Sheet สรุปผล ตค
A1: สรุปผลการดำเนินการจัดซื้อจัดจ้างหรือการจัดหาพัสดุของหน่วยงานประจำเดือน ปีงบประมาณ พ.ศ.2569
A2: ชื่อหน่วยงาน องค์การบริหารส่วนตำบลป่าตึง
D3: ประจำเดือน ตุลาคม 2568
C4: ลำดับ | D4: วิธีการจัดซื้อจัดจ้าง | E4: จำนวนโครงการ | F4: จำนวนงบประมาณ
C5: 1 | D5: วิธีเฉพาะเจาะจง | E5: 97 | F5: ='ตค 68'!I101-'สรุปผล ตค'!F7 -> 11344510
C6: 2 | D6: วิธีคัดเลือก | E6: - | F6: -
C7: 3 | D7: วิธีประกวดราคาอิเล็คทรอนิกส์ (e-bidding) | E7: 1 | F7: 406500
C8: 4 | D8: อื่น ๆ | E8: - | F8: -
D9: รวม | E9: =SUM(E5:E8) -> 98 | F9: =SUM(F5:F8) -> 11751010
A11: ปัญหา/อุปสรรค
A17: ข้อเสนอแนะ

Sheet ตค 68
A2: ลำดับที่ | B2: งานที่จัดซื้อจัดจ้าง | C2: วงเงินที่จะซื้อหรือจ้าง | D2: ราคากลาง | E2: วิธีจัดซื้อหรือจ้าง | F2: รายชื่อผู้เสนอราคา | G2: ราคาที่เสนอ | H2: ผู้ได้รับการคัดเลือก | I2: ราคาที่ตกลงซื้อหรือจ้าง | J2: เหตุผลที่คัดเลือกโดยสรุป | K2: เลขที่และวันที่ของสัญญาหรือข้อตกลงในการซื้อหรือจ้าง
A3: 1 | B3: ประกวดราคาจ้างก่อสร้างโครงการก่อสร้างถนน คสล. บ้านแม่เฟือง หมู่ที่ 5 (สายที่ 1) | C3: 545700 | D3: 563745.43 | E3: ด้วยวิธีประกวดราคาอิเล็กทรอนิกส์ (e-bidding) | F3: 1.หจก.แสนใจ คอนสตรัคชั่น 2.หจก.สุทธิพันธ์ 2559 3.หจก.อครา เอ็นเตอร์ไพรส 4.บริษัท ชนะชัยธุรกิจการค้า จำกัด | G3: 530,000.00 407,000.00 452,000.00 518,700.00 | H3: ห้างหุ้นส่วนจำกัด สุทธิพันธ์ 2559 | I3: 406500 | J3: เป็นผู้มีคุณสมบัติและข้อเสนอทางเทคนิค ถูกต้องครบถ้วนและเป็นผู้เสนอราคา ต่ำ สุด | K3: 021/2569 | L3: 244321
A4: 2 | B4: จ้างเหมาซ่อมแซมและบำรุงรักษารถยนต์ส่วนกลาง ยี่ห้ออีซูซุ หมายเลขทะเบียน ๘๑-๘๖๖๙ เชียงราย (ครุภัณฑ์เลขที่ ๐๐๕-๕๗-๐๐๐๒) | C4: 264100 | D4: 264100 | E4: วิธีเฉพาะเจาะจง | F4: อู่ช่างอึ่ง | G4: 264100 | H4: อู่ช่างอึ่ง | I4: 264100 | J4: เป็นผู้มีคุณสมบัติตรงตามเงื่อนไขที่กำหนด | K4: 054/2569 | L4: 244260
A5: 3 | B5: ก่อสร้างถนนคอนกรีตเสริมเหล็ก บ้านป่าบง หมู่ที่ 1 | C5: 500007.84 | D5: 500000 | E5: วิธีเฉพาะเจาะจง | F5: หจก.อครา เอ็นเตอร์ไพรส์498 | G5: 498000 | H5: หจก.อครา เอ็นเตอร์ไพรส์498 | I5: 498000 | J5: เป็นผู้มีคุณสมบัติตรงตามเงื่อนไขที่กำหนด | K5: 007/2569 | L5: 244295
A6: 4 | B6: จ้างเหมาซ่อมแซมและบำรุงรักษาครุภัณฑ์เครื่องปริ้นครุภัณฑ์เลขที่ 478-64-0048 | C6: 850 | D6: 850 | E6: วิธีเฉพาะเจาะจง | F6: หจก.ธนาทรัพย์ศิลา | G6: 850 | H6: หจก.ธนาทรัพย์ศิลา | I6: 850 | J6: เป็นผู้มีคุณสมบัติตรงตามเงื่อนไขที่กำหนด | K6: 055/2569 | L6: 244260
A7: 5 | B7: จ้างวางท่อคอนกรีตเสริมเหล็ก พร้อมบ่อพัก บ้านเล่าฝู่ หมู่ที่ 20 (บ้านโป่งป่าแขม) | C7: 250000 | D7: 250142.62 | E7: วิธีเฉพาะเจาะจง | F7: หจก. เอสเอสเค 888 คอนสตรัคชั่น | G7: 249800 | H7: หจก. เอสเอสเค 888 คอนสตรัคชั่น | I7: 249800 | J7: เป็นผู้มีคุณสมบัติตรงตามเงื่อนไขที่กำหนด | K7: 006//2569 | L7: 244294
A8: 6 | B8: จ้างก่อสร้างรางระบายน้ำคอนกรีตเสริมเหล็ก(ตัวยู) บ้านถ้ำ หมู่ที่ 4 (จำนวน 3 ช่วง) | C8: 499400 | D8: 499322.07 | E8: วิธีเฉพาะเจาะจง | F8: หจก.อครา เอ็นเตอร์ไพรส์498 | G8: 498000 | H8: หจก.อครา เอ็นเตอร์ไพรส์498 | I8: 498000 | J8: เป็นผู้มีคุณสมบัติตรงตามเงื่อนไขที่กำหนด | K8: 005/2569 | L8: 244288
A9: 7 | B9: จ้างบำรุงรักษาและซ่อมแซมทรัพย์สิน (สายสัญญาณกล้องวงจรปิด) | C9: 8500 | D9: 8500 | E9: วิธีเฉพาะเจาะจง | F9: หจก.ธนาทรัพย์ศิลา | G9: 8500 | H9: หจก. ธนา ทรัพท์ศิลา | I9: 8500 | J9: เป็นผู้มีคุณสมบัติตรงตามเงื่อนไขที่กำหนด | K9: 056/2569 | L9: 244260
A10: 8 | B10: จัดซื้อซิมอินเตอร์เน็ตแบบรายปี | C10: 2500 | D10: 2500 | E10: วิธีเฉพาะเจาะจง | F10: หจก.ธนาทรัพย์ศิลา | G10: 2500 | H10: หจก. ธนา ทรัพท์ศิลา | I10: 2500 | J10: เป็นผู้มีคุณสมบัติตรงตามเงื่อนไขที่กำหนด | K10: 013/2569 | L10: 244285
A11: 9 | B11: เช่าเตาเผาขยะ จำนวน ๓ เตา ประจำปีงบประมาณ พ.ศ. ๒๕๖๙ | C11: 1212000 | D11: 1212000 | E11: วิธีเฉพาะเจาะจง | F11: บริษัท พลอยไพลิน กรีน เวิลด์ จำกัด1 | H11: บริษัท พลอยไพลิน กรีน เวิลด์ จำกัด1 | I11: 1212000 | J11: เป็นผู้มีคุณสมบัติตรงตามเงื่อนไขที่กำหนด | K11: 005/2569 | L11: 244258
A12: 10 | B12: จ้างเหมาจัดทำตรายาง จำนวน 5 รายการ (กองคลัง) | C12: 2990 | D12: 2990 | E12: วิธีเฉพาะเจาะจง | F12: ร้านเอกบล็อค | G12: 2990 | H12: ร้านเอกบล็อค | I12: 2990 | J12: เป็นผู้มีคุณสมบัติตรงตามเงื่อนไขที่กำหนด | K12: 068/2569 | L12: 244319
A13: 11 | B13: จ้างเหมาจัดทำป้ายประชาสัมพันธ์ กรุณารักษาความสะอาดน้ำพุร้อนป่าตึง | C13: 3950 | D13: 3950 | E13: วิธีเฉพาะเจาะจง | F13: ร้านแม่จันเจริญ ป้ายโฆษณา | G13: 3950 | H13: ร้านแม่จันเจริญ ป้ายโฆษณา | I13: 3950 | J13: เป็นผู้มีคุณสมบัติตรงตามเงื่อนไขที่กำหนด | K13: 069/2569 | L13: 244319
A14: 12 | B14: ซื้อยางรถยนต์พร้อมติดตั้ง รถยนต์ส่วนกลาง ยี่ห้อมิตซูบิชิ หมายเลขทะเบียน กม 9658 เชียงราย ครุภัณฑ์เลขที่ 001-58-0006 | C14: 22000 | D14: 22000 | E14: วิธีเฉพาะเจาะจง | F14: หจก.เอส.เค.ยางยนต์เชียงรา | G14: 22000 | H14: หจก.เอส.เค.ยางยนต์เชียงรา | I14: 22000 | J14: เป็นผู้มีคุณสมบัติตรงตามเงื่อนไขที่กำหนด | K14: 050/2569 | L14: 244319
A15: 13 | B15: ซื้อยางรถยนต์พร้อมติดตั้ง รถยนต์ส่วนกลาง ยี่ห้อมาสด้า หมายเลขทะเบียน กจ 1386 เชียงราย ครุภัณฑ์เลขที่ 001-48-0002 | C15: 15400 | D15: 15400 | E15: วิธีเฉพาะเจาะจง | F15: หจก.เอส.เค.ยางยนต์เชียงรา | G15: 15400 | H15: หจก.เอส.เค.ยางยนต์เชียงรา | I15: 15400 | J15: เป็นผู้มีคุณสมบัติตรงตามเงื่อนไขที่กำหนด | K15: 049/2569 | L15: 244319
A16: 14 | B16: ซื้อครุภัณฑ์สำนักงาน (เครื่องปรับอากาศ) จำนวน 2 เครื่อง | C16: 161800 | D16: 161800 | E16: วิธีเฉพาะเจาะจง | F16: หจก.จิมมี่ ซัพพลาย | G16: 161800 | H16: หจก.จิมมี่ ซัพพลาย | I16: 161800 | J16: เป็นผู้มีคุณสมบัติตรงตามเงื่อนไขที่กำหนด | K16: 002/2569 | L16: 244320
A17: 15 | B17: จ้างเหมาจัดทำตรายาง จำนวน ๙ รายการ | C17: 5340 | D17: 5340 | E17: วิธีเฉพาะเจาะจง | F17: ร้าน จ.มุ่ยเจริญ | G17: 5340 | H17: ร้าน จ.มุ่ยเจริญ | I17: 5340 | J17: เป็นผู้มีคุณสมบัติตรงตามเงื่อนไขที่กำหนด | K17: 066/2569 | L17: 244316
A18: 16 | B18: จ้างเหมาบำรุงรักษารถตักหน้าขุดหลัง หมายเลขทะเบียน ฒฆ 7613 เชียงราย | C18: 20946.32 | D18: 20946.32 | E18: วิธีเฉพาะเจาะจง | F18: บริษัท ชัยรัชการ (กรุงเทพ) จำกัด | G18: 20946.32 | H18: บริษัท ชัยรัชการ (กรุงเทพ) จำกัด | I18: 20946.32 | J18: เป็นผู้มีคุณสมบัติตรงตามเงื่อนไขที่กำหนด | K18: 067/2569 | L18: 244316
A19: 17 | B19: จ้างเหมาซ่อมแซมและเปลี่ยนอะไหล่รถยนต์ส่วนกลาง ยี่ห้อมิตซูบิชิ เลขทะเบียน กร ๒๖๕๐ เชียงราย (ครุภัณฑ์เลขที่ ๐๒๖-๕๙-๐๐๐๑) | C19: 4130 | D19: 4130 | E19: วิธีเฉพาะเจาะจง | F19: บริษัท มิตซูพันล้าน จำกัด4 | G19: 4130 | H19: บริษัท มิตซูพันล้าน จำกัด4 | I19: 4130 | J19: เป็นผู้มีคุณสมบัติตรงตามเงื่อนไขที่กำหนด | K19: 065/2569 | L19: 244316
A20: 18 | B20: จ้างเหมาเครื่องจักรขุดลอกลำเหมือง บ้านโป่งน้ำร้อน หมู่ที่ 11 | C20: 44800 | D20: 44800 | E20: วิธีเฉพาะเจาะจง | F20: หจก.อครา เอ็นเตอร์ไพรส์ | G20: 44800 | H20: หจก.อครา เอ็นเตอร์ไพรส์ | I20: 44800 | J20: เป็นผู้มีคุณสมบัติตรงตามเงื่อนไขที่กำหนด | K20: 063/2569 | L20: 244314
A21: 19 | B21: จ้างปรับปรุงถนนทางการเกษตรในพื้นที่ตำบลป่าตึง อำเภอแม่จัน จังหวัดเชียงราย | C21: 89600 | D21: 89600 | E21: วิธีเฉพาะเจาะจง | F21: หจก.อครา เอ็นเตอร์ไพรส์ | G21: 89600 | H21: หจก.อครา เอ็นเตอร์ไพรส์ | I21: 89600 | J21: เป็นผู้มีคุณสมบัติตรงตามเงื่อนไขที่กำหนด | K21: 020/2569 | L21: 244315
A22: 20 | B22: ซื้อวัสดุคอมพิวเตอร์ จำนวน ๒ รายการ | C22: 7700 | D22: 7700 | E22: วิธีเฉพาะเจาะจง | F22: หจก.ธนาทรัพย์ศิลา | G22: 7700 | H22: หจก.ธนาทรัพย์ศิลา | I22: 7700 | J22: เป็นผู้มีคุณสมบัติตรงตามเงื่อนไขที่กำหนด | K22: 048/2569 | L22: 244314
A23: 21 | B23: ซื้อวัสดุสำนักงาน จำนวน ๑ รายการ | C23: 7500 | D23: 7500 | E23: วิธีเฉพาะเจาะจง | F23: ห้างหุ้นส่วนจำกัด พีเอส เครื่องเขียน | G23: 7500 | H23: ห้างหุ้นส่วนจำกัด พีเอส เครื่องเขียน | I23: 7500 | J23: เป็นผู้มีคุณสมบัติตรงตามเงื่อนไขที่กำหนด | K23: 031/2569 | L23: 244309
... A39: 37 | B39: ก่อสร้างถนนคอนกรีตเสริมเหล็ก เส้นทางการเกษตร บ้านห้วยต่าง หมู่ที่ 16 | C39: 499500 | D39: 521349.82 | E39: วิธีเฉพาะเจาะจง | F39: หจก.ชิง ไห่ ดีเวลลอปเมนท์ | G39: 499400 | H39: หจก.ชิง ไห่ ดีเวลลอปเมนท์ | I39: 499400 | J39: เป็นผู้มีคุณสมบัติตรงตามเงื่อนไขที่กำหนด | K39: 009/2569 | L39: 244299
A40: 38 | B40: จ้างเหมาบุคลากรปฏิบัติงานกองสาธารณสุข ตั้งแต่วันที่ 1 ต.ค. 68 - 30 ก.ย. 68 | C40: 110400 | D40: 110400 | E40: วิธีเฉพาะเจาะจง | F40: น.ส. ดลพร เยเปี่ย | G40: 110400 | H40: น.ส. ดลพร เยเปี่ย | I40: 110400 | J40: เป็นผู้มีอาชีพที่เสนอพัสดุตรงตามวัตถุประสงค์ในการใช้งาน | K40: 001/2569 | L40: 1/10/2568
A41: 39 | B41: จ้างเหมาบุคลากรปฏิบัติงานกองสาธารณสุข ตั้งแต่วันที่ 1 ต.ค. 68 - 30 ก.ย. 68 | C41: 110400 | D41: 110400 | E41: วิธีเฉพาะเจาะจง | F41: น.ส.วิลาพร ธรรมเดช | G41: 110400 | H41: น.ส.วิลาพร ธรรมเดช | I41: 110400 | J41: เป็นผู้มีอาชีพที่เสนอพัสดุตรงตามวัตถุประสงค์ในการใช้งาน | K41: 002/2569 | L41: 1/10/2568
A42: 40 | B42: จ้างบุคลากร เพื่อปฏิบัติงานบริการต่างๆ (กองคลัง) ตั้งแต่วันที่ 1 ต.ค. 68 - 30 ก.ย. 68 | C42: 55200 | D42: 55200 | E42: วิธีเฉพาะเจาะจง | F42: นายพรไชย ไชยทน | G42: 55200 | H42: นายพรไชย ไชยทน | I42: 55200 | J42: เป็นผู้มีอาชีพที่เสนอพัสดุตรงตามวัตถุประสงค์ในการใช้งาน | K42: 003/2569 | L42: 1/10/2568
A43: 41 | B43: จ้างบุคลากร เพื่อปฏิบัติงานบริการต่างๆ (กองคลัง) ตั้งแต่วันที่ 1 ต.ค. 68 - 30 ก.ย. 68 | C43: 54000 | D43: 54000 | E43: วิธีเฉพาะเจาะจง | F43: นายณัฐพงศ์ กุลวงค์ | G43: 54000 | H43: นายณัฐพงศ์ กุลวงค์ | I43: 54000 | J43: เป็นผู้มีอาชีพที่เสนอพัสดุตรงตามวัตถุประสงค์ในการใช้งาน | K43: 004/2569 | L43: 1/10/2568
A44: 42 | B44: จ้างบุคลากร เพื่อปฏิบัติงานบริการต่างๆ (กองช่าง) ตั้งแต่วันที่ 1 ต.ค. 68 - 31 ธ.ค. 68 | C44: 108000 | D44: 108000 | E44: วิธีเฉพาะเจาะจง | F44: น.ส.เกวรินทร์ จินดาธรรม | G44: 108000 | H44: น.ส.เกวรินทร์ จินดาธรรม | I44: 108000 | J44: เป็นผู้มีอาชีพที่เสนอพัสดุตรงตามวัตถุประสงค์ในการใช้งาน | K44: 005/2569 | L44: 1/10/2568
A45: 43 | B45: จ้างบุคลากร เพื่อปฏิบัติงานบริการต่างๆ (กองช่าง) ตั้งแต่วันที่ 1 ต.ค. 68 - 31 ธ.ค. 68 | C45: 27000 | D45: 27000 | E45: วิธีเฉพาะเจาะจง | F45: น.ส.วิสา ขันแก้วบุญเรือง | G45: 27000 | H45: น.ส.วิสา ขันแก้วบุญเรือง | I45: 27000 | J45: เป็นผู้มีอาชีพที่เสนอพัสดุตรงตามวัตถุประสงค์ในการใช้งาน | K45: 006/2569 | L45: 1/10/2568
A46: 44 | B46: จ้างบุคลากร เพื่อปฏิบัติงานบริการต่างๆ (กองช่าง) ตั้งแต่วันที่ 1 ต.ค. 68 - 31 ธ.ค. 68 | C46: 27000 | D46: 27000 | E46: วิธีเฉพาะเจาะจง | F46: น.ส.สาวิตรี เรืองปัญญา | G46: 27000 | H46: น.ส.สาวิตรี เรืองปัญญา | I46: 27000 | J46: เป็นผู้มีอาชีพที่เสนอพัสดุตรงตามวัตถุประสงค์ในการใช้งาน | K46: 007/2569 | L46: 1/10/2568
A47: 45 | B47: จ้างบุคลากร เพื่อปฏิบัติงานบริการต่างๆ (กองช่าง) ตั้งแต่วันที่ 1 ต.ค. 68 - 31 ธ.ค. 68 | C47: 45000 | D47: 45000 | E47: วิธีเฉพาะเจาะจง | F47: นายแทนทร พูนพัฒนาทรัพย์ | G47: 45000 | H47: นายแทนทร พูนพัฒนาทรัพย์ | I47: 45000 | J47: เป็นผู้มีอาชีพที่เสนอพัสดุตรงตามวัตถุประสงค์ในการใช้งาน | K47: 008/2569 | L47: 1/10/2568
A48: 46 | B48: จ้างเหมาบุคลากรงานกำจัดขยะและสิ่งปฏิกูลฯ ตั้งแต่วันที่ 1 ต.ค. 68 - 31 ธ.ค. 68 | C48: 57600 | D48: 57600 | E48: วิธีเฉพาะเจาะจง | F48: นายวิษณุ กองมา | G48: 57600 | H48: นายวิษณุ กองมา | I48: 57600 | J48: เป็นผู้มีอาชีพที่เสนอพัสดุตรงตามวัตถุประสงค์ในการใช้งาน | K48: 009/2569 | L48: 1/10/2568
A49: 47 | B49: จ้างเหมาบุคลากรงานกำจัดขยะและสิ่งปฏิกูลฯ ตั้งแต่วันที่ 1 ต.ค. 68 - 31 ธ.ค. 68 | C49: 57600 | D49: 57600 | E49: วิธีเฉพาะเจาะจง | F49: นายนิคม มาตรักษา | G49: 57600 | H49: นายนิคม มาตรักษา | I49: 57600 | J49: เป็นผู้มีอาชีพที่เสนอพัสดุตรงตามวัตถุประสงค์ในการใช้งาน | K49: 010/2569 | L49: 1/10/2568
A50: 48 | B50: จ้างเหมาบุคลากรงานกำจัดขยะและสิ่งปฏิกูลฯ ตั้งแต่วันที่ 1 ต.ค. 68 - 31 ธ.ค. 68 | C50: 57600 | D50: 57600 | E50: วิธีเฉพาะเจาะจง | F50: นายบุญทา ยืนยงแสน | G50: 57600 | H50: นายบุญทา ยืนยงแสน | I50: 57600 | J50: เป็นผู้มีอาชีพที่เสนอพัสดุตรงตามวัตถุประสงค์ในการใช้งาน | K50: 011/2569 | L50: 1/10/2568
A51: 49 | B51: จ้างเหมาบุคลากรงานกำจัดขยะและสิ่งปฏิกูลฯ ตั้งแต่วันที่ 1 ต.ค. 68 - 31 ธ.ค. 68 | C51: 57600 | D51: 57600 | E51: วิธีเฉพาะเจาะจง | F51: นายอาล่อง เผอเปี๊ยะ | G51: 57600 | H51: นายอาล่อง เผอเปี๊ยะ | I51: 57600 | J51: เป็นผู้มีอาชีพที่เสนอพัสดุตรงตามวัตถุประสงค์ในการใช้งาน | K51: 012/2569 | L51: 1/10/2568
A52: 50 | B52: จ้างเหมาบุคลากรงานกำจัดขยะและสิ่งปฏิกูลฯ ตั้งแต่วันที่ 1 ต.ค. 68 - 31 ธ.ค. 68 | C52: 57600 | D52: 57600 | E52: วิธีเฉพาะเจาะจง | F52: นายดวงจันทร์ วงค์ธานี | G52: 57600 | H52: นายดวงจันทร์ วงค์ธานี | I52: 57600 | J52: เป็นผู้มีอาชีพที่เสนอพัสดุตรงตามวัตถุประสงค์ในการใช้งาน | K52: 013/2569 | L52: 1/10/2568
A53: 51 | B53: จ้างเหมาบุคลากรงานกำจัดขยะและสิ่งปฏิกูลฯ ตั้งแต่วันที่ 1 ต.ค. 68 - 31 ธ.ค. 68 | C53: 57600 | D53: 57600 | E53: วิธีเฉพาะเจาะจง | F53: นายวัลลพ ศรีดวงใจ | G53: 57600 | H53: นายวัลลพ ศรีดวงใจ | I53: 57600 | J53: เป็นผู้มีอาชีพที่เสนอพัสดุตรงตามวัตถุประสงค์ในการใช้งาน | K53: 014/2569 | L53: 244258
A54: 52 | B54: จ้างเหมาบุคลากรงานกำจัดขยะและสิ่งปฏิกูลฯ ตั้งแต่วันที่ 1 ต.ค. 68 - 31 ธ.ค. 68 | C54: 57000 | D54: 57000 | E54: วิธีเฉพาะเจาะจง | F54: นายสมศักดิ์ กำแพงแก้ว | G54: 57000 | H54: นายสมศักดิ์ กำแพงแก้ว | I54: 57000 | J54: เป็นผู้มีอาชีพที่เสนอพัสดุตรงตามวัตถุประสงค์ในการใช้งาน | K54: 015/2569 | L54: 244258
A55: 53 | B55: จ้างเหมบุคลากรงานดูแลสวนสาธาณะสถานที่ท่องเที่ยวน้ำพุร้อนป่าตึง ตั้งแต่วันที่ 1 ต.ค. 68 - 31 ธ.ค. 68 | C55: 27000 | D55: 27000 | E55: วิธีเฉพาะเจาะจง | F55: นายพิชิต ศรีโลเจียว | G55: 27000 | H55: นายพิชิต ศรีโลเจียว | I55: 27000 | J55: เป็นผู้มีอาชีพที่เสนอพัสดุตรงตามวัตถุประสงค์ในการใช้งาน | K55: 016/2569 | L55: 244258
A56: 54 | B56: จ้างเหมบุคลากรงานดูแลสวนสาธาณะสถานที่ท่องเที่ยวน้ำพุร้อนป่าตึง ตั้งแต่วันที่ 1 ต.ค. 68 - 31 ธ.ค. 68 | C56: 110400 | D56: 110400 | E56: วิธีเฉพาะเจาะจง | F56: นายสมศักดิ์ คืนมาเมือง | G56: 110400 | H56: นายสมศักดิ์ คืนมาเมือง | I56: 110400 | J56: เป็นผู้มีอาชีพที่เสนอพัสดุตรงตามวัตถุประสงค์ในการใช้งาน | K56: 017/2569 | L56: 244258
...

Sheet สรุปผล พย
A1: สรุปผลการดำเนินการจัดซื้อจัดจ้างหรือการจัดหาพัสดุของหน่วยงานประจำเดือน ปีงบประมาณ พ.ศ.2569
A2: ชื่อหน่วยงาน องค์การบริหารส่วนตำบลป่าตึง
D3: ประจำเดือน พฤศจิกายน 2568
C4: ลำดับ | D4: วิธีการจัดซื้อจัดจ้าง | E4: จำนวนโครงการ | F4: จำนวนงบประมาณ
C5: 1 | D5: วิธีเฉพาะเจาะจง | E5: 35 | F5: 4756389.7
C6: 2 | D6: วิธีคัดเลือก | E6: - | F6: -
C7: 3 | D7: วิธีประกวดราคาอิเล็คทรอนิกส์ (e-bidding) | E7: - | F7: -
C8: 4 | D8: อื่น ๆ | E8: - | F8: -
D9: รวม | E9: =SUM(E5:E8) -> 35 | F9: =SUM(F5:F8) -> 4756389.7
A11: ปัญหา/อุปสรรค
A17: ข้อเสนอแนะ

Sheet พย 68
A2: ลำดับที่ | B2: งานที่จัดซื้อจัดจ้าง | C2: วงเงินที่จะซื้อหรือจ้าง | D2: ราคากลาง | E2: วิธีจัดซื้อหรือจ้าง | F2: รายชื่อผู้เสนอราคา | G2: ราคาที่เสนอ | H2: ผู้ได้รับการคัดเลือก | I2: ราคาที่ตกลงซื้อหรือจ้าง | J2: เหตุผลที่คัดเลือกโดยสรุป | K2: เลขที่และวันที่ของสัญญาหรือข้อตกลงในการซื้อหรือจ้าง
A3: 1 | B3: จ้างเหมาจัดทำตรายาง จำนวน 5 รายการ (กองคลัง) | C3: 2990 | D3: 2990 | E3: โดยวิธีเฉพาะเจาะจง | F3: ร้านเอกบล็อค | G3: 2990 | H3: ร้านเอกบล็อค | I3: 2990 | J3: เป็นผู้มีคุณสมบัติตรงตามเงื่อนไขที่กำหนด | K3: 068/2569 | L3: 01/12/2568
A4: 2 | B4: จ้างเหมาจัดทำป้ายประชาสัมพันธ์ กรุณารักษาความสะอาดน้ำพุร้อนป่าตึง | C4: 3950 | D4: 3950 | E4: โดยวิธีเฉพาะเจาะจง | F4: ร้านแม่จันเจริญ ป้ายโฆษณา | G4: 3950 | H4: ร้านแม่จันเจริญ ป้ายโฆษณา | I4: 3950 | J4: เป็นผู้มีคุณสมบัติตรงตามเงื่อนไขที่กำหนด | K4: 069/2569 | L4: 244319
A5: 3 | B5: ซื้อยางรถยนต์พร้อมติดตั้ง รถยนต์ส่วนกลาง ยี่ห้อมิตซูบิชิ หมายเลขทะเบียน กม 9658 เชียงราย ครุภัณฑ์เลขที่ 001-58-0006 | C5: 22000 | D5: 22000 | E5: โดยวิธีเฉพาะเจาะจง | F5: หจก.เอส.เค.ยางยนต์เชียงราย | G5: 22000 | H5: หจก.เอส.เค.ยางยนต์เชียงราย | I5: 22000 | J5: เป็นผู้มีคุณสมบัติตรงตามเงื่อนไขที่กำหนด | K5: 050/2569 | L5: 244319
A6: 4 | B6: ซื้อยางรถยนต์พร้อมติดตั้ง รถยนต์ส่วนกลาง ยี่ห้อมาสด้า หมายเลขทะเบียน กจ 1386 เชียงราย ครุภัณฑ์เลขที่ 001-48-0002 | C6: 13400 | D6: 13400 | E6: โดยวิธีเฉพาะเจาะจง | F6: หจก.เอส.เค.ยางยนต์เชียงราย | G6: 13400 | H6: หจก.เอส.เค.ยางยนต์เชียงราย | I6: 13400 | J6: เป็นผู้มีคุณสมบัติตรงตามเงื่อนไขที่กำหนด | K6: 049/2569 | L6: 244319
A7: 5 | B7: ซื้อครุภัณฑ์สำนักงาน (เครื่องปรับอากาศ) จำนวน 2 เครื่อง | C7: 161800 | D7: 161800 | E7: โดยวิธีเฉพาะเจาะจง | F7: ห้างหุ้นส่วนจำกัด จิมมี่ ซัพพลาย | G7: 161800 | H7: ห้างหุ้นส่วนจำกัด จิมมี่ ซัพพลาย | I7: 161800 | J7: เป็นผู้มีคุณสมบัติตรงตามเงื่อนไขที่กำหนด | K7: 002/2569 | L7: 244320
A8: 6 | B8: จ้างเหมาจัดทำตรายาง จำนวน ๙ รายการ | C8: 5340 | D8: 5340 | E8: โดยวิธีเฉพาะเจาะจง | F8: ร้าน จ.มุ่ยเจริญ | G8: 5340 | H8: ร้าน จ.มุ่ยเจริญ | I8: 5340 | J8: เป็นผู้มีคุณสมบัติตรงตามเงื่อนไขที่กำหนด | K8: 066/2569 | L8: 244316
A9: 7 | B9: จ้างเหมาบำรุงรักษารถตักหน้าขุดหลัง หมายเลขทะเบียน ฒฆ 7613 เชียงราย | C9: 20946.32 | D9: 20946.32 | E9: โดยวิธีเฉพาะเจาะจง | F9: บริษัท ชัยรัชการ (กรุงเทพ) จำกัด | G9: 20946.32 | H9: บริษัท ชัยรัชการ (กรุงเทพ) จำกัด | I9: 20946.32 | J9: เป็นผู้มีคุณสมบัติตรงตามเงื่อนไขที่กำหนด | K9: 067/2569 | L9: 244316
A10: 8 | B10: จ้างเหมาซ่อมแซมและเปลี่ยนอะไหล่รถยนต์ส่วนกลาง ยี่ห้อมิตซูบิชิ เลขทะเบียน กร ๒๖๕๐ เชียงราย (ครุภัณฑ์เลขที่ ๐๒๖-๕๙-๐๐๐๑) | C10: 4130.2 | D10: 4130.2 | E10: โดยวิธีเฉพาะเจาะจง | F10: บริษัท มิตซูพันล้าน จำกัด | G10: 4130.2 | H10: บริษัท มิตซูพันล้าน จำกัด | I10: 4130.2 | J10: เป็นผู้มีคุณสมบัติตรงตามเงื่อนไขที่กำหนด | K10: 065/2569 | L10: 28/11/2568
A11: 9 | B11: จ้างเหมาเครื่องจักรขุดลอกลำเหมือง บ้านโป่งน้ำร้อน หมู่ที่ 11 ตำบลป่าตึง อำเภอแม่จัน จังหวัดเชียงราย | C11: 44800 | D11: 44800 | E11: โดยวิธีเฉพาะเจาะจง | F11: ห้างหุ้นส่วนจำกัด อครา เอ็นเตอร์ไพรส์ | G11: 44800 | H11: ห้างหุ้นส่วนจำกัด อครา เอ็นเตอร์ไพรส์ | I11: 44800 | J11: เป็นผู้มีคุณสมบัติตรงตามเงื่อนไขที่กำหนด | K11: 063/2569 | L11: 26/11/2568
A12: 10 | B12: จ้างปรับปรุงถนนทางการเกษตรในพื้นที่ตำบลป่าตึง อำเภอแม่จัน จังหวัดเชียงราย | C12: 89632.54 | D12: 89632.54 | E12: โดยวิธีเฉพาะเจาะจง | F12: ห้างหุ้นส่วนจำกัด อครา เอ็นเตอร์ไพรส์ | G12: 89600 | H12: ห้างหุ้นส่วนจำกัด อครา เอ็นเตอร์ไพรส์ | I12: 89600 | J12: เป็นผู้มีคุณสมบัติตรงตามเงื่อนไขที่กำหนด | K12: 020/2569 | L12: 27/11/2568
A13: 11 | B13: ซื้อวัสดุคอมพิวเตอร์ จำนวน ๒ รายการ | C13: 7700 | D13: 7700 | E13: โดยวิธีเฉพาะเจาะจง | F13: ห้างหุ้นส่วนจำกัด ธนาทรัพย์ศิลา | G13: 7700 | H13: ห้างหุ้นส่วนจำกัด ธนาทรัพย์ศิลา | I13: 7700 | J13: เป็นผู้มีคุณสมบัติตรงตามเงื่อนไขที่กำหนด | K13: 048/2569 | L13: 244314
A14: 12 | B14: ซื้อวัสดุสำนักงาน จำนวน ๑ รายการ | C14: 7500 | D14: 7500 | E14: โดยวิธีเฉพาะเจาะจง | F14: ห้างหุ้นส่วนจำกัด พีเอส เครื่องเขียน | G14: 7500 | H14: ห้างหุ้นส่วนจำกัด พีเอส เครื่องเขียน | I14: 7500 | J14: เป็นผู้มีคุณสมบัติตรงตามเงื่อนไขที่กำหนด | K14: 031/2569 | L14: 21/11/2568
A15: 13 | B15: จ้างเหมาจัดทำสื่อประชาสัมพันธ์แจ้งข้อมูลติดต่อและรายงานผลการปฏิบัติงาน องค์การบริหารส่วนตำบลป่าตึง และประชาสัมพันธ์แหล่งท่องเที่ยวตำบลป่าตึง | C15: 87500 | D15: 87500 | E15: โดยวิธีเฉพาะเจาะจง | F15: คอมพ์ แอนด์ อาร์ต การพิมพ์ | G15: 87500 | H15: คอมพ์ แอนด์ อาร์ต การพิมพ์ | I15: 87500 | J15: เป็นผู้มีคุณสมบัติตรงตามเงื่อนไขที่กำหนด | K15: 061/2569 | L15: 21/11/2568
A16: 14 | B16: จ้างวางท่อระบายน้ำคอนกรีตเสริมเหล็ก พร้อมก่อสร้างอุโมงค์ บ้านท่าต้นแฟน หมู่ที่ 3 ตำบลป่าตึง อำเภอแม่จัน จังหวัดเชียงราย | C16: 500000 | D16: 502293.18 | E16: โดยวิธีเฉพาะเจาะจง | F16: ห้างหุ้นส่วนจำกัด อครา เอ็นเตอร์ไพรส์ | G16: 498000 | H16: ห้างหุ้นส่วนจำกัด อครา เอ็นเตอร์ไพรส์ | I16: 498000 | J16: เป็นผู้มีคุณสมบัติตรงตามเงื่อนไขที่กำหนด | K16: 018/2569 | L16: 21/11/2568
A17: 15 | B17: จ้างเหมาจัดทำตรายาง จำนวน 23 อัน | C17: 4880 | D17: 4880 | E17: โดยวิธีเฉพาะเจาะจง | F17: ร้านเอกบล็อค | G17: 4880 | H17: ร้านเอกบล็อค | I17: 4880 | J17: เป็นผู้มีคุณสมบัติตรงตามเงื่อนไขที่กำหนด | K17: 062/2569 | L17: 244314
A18: 16 | B18: จ้างก่อสร้างท่อลอดเหลี่ยมคอนกรีตเสริมเหล็ก ชนิดช่องเดียว พร้อมกำแพงปากท่อลอดเหลี่ยมคอนกรีตเสริมเหล็ก บ้านใหม่เจริญ หมู่ที่ 18 (จำนวน 2 จุด) ตำบลป่าตึง อำเภอแม่จันจังหวัดเชียงราย | C18: 436000 | D18: 443447.27 | E18: โดยวิธีเฉพาะเจาะจง | F18: ห้างหุ้นส่วนจำกัด ชิง ไห่ ดีเวลลอปเมนท์ | G18: 435000 | H18: ห้างหุ้นส่วนจำกัด ชิง ไห่ ดีเวลลอปเมนท์ | I18: 435000 | J18: เป็นผู้มีคุณสมบัติตรงตามเงื่อนไขที่กำหนด | K18: 019/2569 | L18: 244312
A19: 17 | B19: จ้างก่อสร้างดาดคอนกรีต หมู่ที่ 15 (บ้านป่าบงงามบน) ตำบลป่าตึง อำเภอแม่จัน จังหวัดเชียงราย | C19: 100000 | D19: 99644.79 | E19: โดยวิธีเฉพาะเจาะจง | F19: ห้างหุ้นส่วนจำกัด ชิงหลง คอนสทรัคชั่น | G19: 99600 | H19: ห้างหุ้นส่วนจำกัด ชิงหลง คอนสทรัคชั่น | I19: 99600 | J19: เป็นผู้มีคุณสมบัติตรงตามเงื่อนไขที่กำหนด | K19: 016/2569 | L19: 19/11/2568
A20: 18 | B20: จ้างก่อสร้างรางระบายน้ำคอนกรีตเสริมเหล็ก (ตัวยู) พร้อมฝาปิดตะแกรงเหล็กและฝาปิดคอนกรีต บ้านสันติสุข หมู่ที่ 19 (บ้านเฮโก) ตำบลป่าตึง อำเภอแม่จัน จังหวัดเชียงราย | C20: 250000 | D20: 252598.86 | E20: โดยวิธีเฉพาะเจาะจง | F20: ห้างหุ้นส่วนจำกัด ไทยนุรัฐพัฒนก่อสร้าง | G20: 249200 | H20: ห้างหุ้นส่วนจำกัด ไทยนุรัฐพัฒนก่อสร้าง | I20: 249200 | J20: เป็นผู้มีคุณสมบัติตรงตามเงื่อนไขที่กำหนด | K20: 017/2569 | L20: 19/11/2568
A21: 19 | B21: ประกวดราคาจ้างก่อสร้างโครงการก่อสร้างถนน คสล. บ้านแม่เฟือง หมู่ที่ 5 (สายที่ 1) ตำบลป่าตึง อำเภอแม่จัน จังหวัดเชียงราย | C21: 545700 | D21: 563745.43 | E21: ด้วยวิธีประกวดราคาอิเล็กทรอนิกส์ (e-bidding) | F21: ห้างหุ้นส่วนจำกัด สุทธิพันธ์ 2559 | G21: 406500 | H21: ห้างหุ้นส่วนจำกัด สุทธิพันธ์ 2559 | I21: 406500 | J21: เป็นผู้มีคุณสมบัติและข้อเสนอทางเทคนิคถูกต้องครบถ้วนและเป็นผู้เสนอราคา ต่ำสุด | K21: 021/2569 | L21: 03/12/2568
A22: 20 | B22: จ้างเหมาซ่อมแซมและเปลี่ยนอะไหล่รถยนต์ส่วนกลาง ยี่ห้อมิตซูบิชิ เลขทะเบียน กร ๒๖๕๐ เชียงราย | C22: 5796.19 | D22: 5796.19 | E22: โดยวิธีเฉพาะเจาะจง | F22: บริษัท มิตซูพันล้าน จำกัด | G22: 5796.19 | H22: บริษัท มิตซูพันล้าน จำกัด | I22: 5796.19 | J22: เป็นผู้มีคุณสมบัติตรงตามเงื่อนไขที่กำหนด | K22: 059/2569 | L22: 14/11/2568
A23: 21 | B23: ซื้อวัสดุแบบพิมพ์งานเลือกตั้ง จำนวน ๖ รายการ | C23: 16507 | D23: 16507 | E23: โดยวิธีเฉพาะเจาะจง | F23: โรงพิมพ์อาสารักษาดินแดน กรมการปกครอง | G23: 16507 | H23: โรงพิมพ์อาสารักษาดินแดน กรมการปกครอง | I23: 16507 | J23: เป็นผู้มีคุณสมบัติตรงตามเงื่อนไขที่กำหนด | K23: 030/2569 | L23: 14/11/2568
A24: 22 | B24: จ้างบำรุงรักษาและซ่อมแซมทรัพย์สิน (สายสัญญาณกล้องวงจรปิด) จำนวน ๒ งาน | C24: 13500 | D24: 13500 | E24: โดยวิธีเฉพาะเจาะจง | F24: ห้างหุ้นส่วนจำกัด ธนาทรัพย์ศิลา | G24: 13500 | H24: ห้างหุ้นส่วนจำกัด ธนาทรัพย์ศิลา | I24: 13500 | J24: เป็นผู้มีคุณสมบัติตรงตามเงื่อนไขที่กำหนด | K24: 058/2569 | L24: 12/11/2568
A25: 23 | B25: จ้างก่อสร้างท่อลอดเหลี่ยมคอนกรีตเสริมเหล็ก ขนาดช่องเดียว พร้อมกำแพงปากท่อลอดเหลี่ยมคอนกรีตเสริมเหล็ก บ้านเล่าฝู่ หมู่ที่ 20 (บ้านจะหยี) ตำบลป่าตึง อำเภอแม่จันจังหวัดเชียงราย | C25: 250000 | D25: 251234.87 | E25: โดยวิธีเฉพาะเจาะจง | F25: ห้างหุ้นส่วนจำกัด เอสเอสเค 888 คอนสตรัคชั่น | G25: 249800 | H25: ห้างหุ้นส่วนจำกัด เอสเอสเค 888 คอนสตรัคชั่น | I25: 249800 | J25: เป็นผู้มีคุณสมบัติตรงตามเงื่อนไขที่กำหนด | K25: 015/2568 | L25: 244306
A26: 24 | B26: จ้างก่อสร้างท่อลอดเหลี่ยมคอนกรีตเสริมเหล็ก ชนิดช่องเดียว พร้อมกำแพงปากท่อลอดเหลี่ยม คสล. บ้านอาแหยะ หมู่ที่ 16 ตำบลป่าตึง อำเภอแม่จัน จังหวัดเชียงราย | C26: 250000 | D26: 258295.54 | E26: โดยวิธีเฉพาะเจาะจง | F26: ห้างหุ้นส่วนจำกัด ไทยนุรัฐพัฒนก่อสร้าง | G26: 249700 | H26: ห้างหุ้นส่วนจำกัด ไทยนุรัฐพัฒนก่อสร้าง | I26: 249700 | J26: เป็นผู้มีคุณสมบัติตรงตามเงื่อนไขที่กำหนด | K26: 014/2569 | L26: 17/11/2568
A27: 25 | B27: จ้างก่อสร้างถังเก็บน้ำคอนกรีตเสริมเหล็ก บ้านห้วยก้างปลา หมู่ที่ 15 (บ้านห้วยยาโนบน) ตำบลป่าตึง อำเภอแม่จัน จังหวัดเชียงราย | C27: 250000 | D27: 252994.26 | E27: โดยวิธีเฉพาะเจาะจง | F27: ห้างหุ้นส่วนจำกัด ชิง ไห่ ดีเวลลอปเมนท์ | G27: 249900 | H27: ห้างหุ้นส่วนจำกัด ชิง ไห่ ดีเวลลอปเมนท์ | I27: 249900 | J27: เป็นผู้มีคุณสมบัติตรงตามเงื่อนไขที่กำหนด | K27: 013/2568 | L27: 17/11/2568
A28: 26 | B28: จ้างเหมาล้างทำความสะอาดเครื่องปรับอากาศ จำนวน ๑๒ เครื่อง | C28: 27600 | D28: 27600 | E28: โดยวิธีเฉพาะเจาะจง | F28: ห้างหุ้นส่วนจำกัด จิมมี่ ซัพพลาย | G28: 27600 | H28: ห้างหุ้นส่วนจำกัด จิมมี่ ซัพพลาย | I28: 27600 | J28: เป็นผู้มีคุณสมบัติตรงตามเงื่อนไขที่กำหนด | K28: 057/2569 | L28: 244300
A29: 27 | B29: จ้างก่อสร้างรางส่งน้ำคอนกรีตเสริมเหล็ก (ตัวยู) เส้นทุ่งหลวง ตำบลป่าตึง อำเภอแม่จัน จังหวัดเชียงราย | C29: 500000 | D29: 491938.13 | E29: โดยวิธีเฉพาะเจาะจง | F29: ห้างหุ้นส่วนจำกัด อครา เอ็นเตอร์ไพรส์ | G29: 491000 | H29: ห้างหุ้นส่วนจำกัด อครา เอ็นเตอร์ไพรส์ | I29: 491000 | J29: เป็นผู้มีคุณสมบัติตรงตามเงื่อนไขที่กำหนด | K29: 008/2569 | L29: 07/11/2568
A30: 28 | B30: จ้างก่อสร้างรางระบายน้ำคอนกรีตเสริมเหล็ก (ตัวยู) บ้านห้วยยาโน หมู่ที่ 12 (บ้านปางผักฮี้) จำนวน 2 ช่วง ตำบลป่าตึง อำเภอแม่จัน จังหวัดเชียงราย | C30: 250000 | D30: 249813.9 | E30: โดยวิธีเฉพาะเจาะจง | F30: ห้างหุ้นส่วนจำกัด ชิงหลง คอนสทรัคชั่น | G30: 248900 | H30: ห้างหุ้นส่วนจำกัด ชิงหลง คอนสทรัคชั่น | I30: 248900 | J30: เป็นผู้มีคุณสมบัติตรงตามเงื่อนไขที่กำหนด | K30: 010/2569 | L30: 244299
A31: 29 | B31: จ้างก่อสร้างถนนคอนกรีตเสริมเหล็ก เส้นทางการเกษตร บ้านห้วยต่าง หมู่ที่ 16 ตำบลป่าตึง อำเภอแม่จัน จังหวัดเชียงราย | C31: 499500 | D31: 521349.82 | E31: โดยวิธีเฉพาะเจาะจง | F31: ห้างหุ้นส่วนจำกัด ชิง ไห่ ดีเวลลอปเมนท์ | G31: 499400 | H31: ห้างหุ้นส่วนจำกัด ชิง ไห่ ดีเวลลอปเมนท์ | I31: 499400 | J31: เป็นผู้มีคุณสมบัติตรงตามเงื่อนไขที่กำหนด | K31: 009/2569 | L31: 244299
A32: 30 | B32: จ้างก่อสร้างถังเก็บน้ำคอนกรีตเสริมเหล็ก บ้านสันติสุข หมู่ที่ 19 (บ้านกิ่วสะไต) ตำบลป่าตึง อำเภอแม่จัน จังหวัดเชียงราย | C32: 250000 | D32: 253340.93 | E32: โดยวิธีเฉพาะเจาะจง | F32: ห้างหุ้นส่วนจำกัด ไทยนุรัฐพัฒนก่อสร้าง | G32: 249700 | H32: ห้างหุ้นส่วนจำกัด ไทยนุรัฐพัฒนก่อสร้าง | I32: 249700 | J32: เป็นผู้มีคุณสมบัติตรงตามเงื่อนไขที่กำหนด | K32: 011/2569 | L32: 244299
A33: 31 | B33: จ้างก่อสร้างรางระบายน้ำคอนกรีตเสริมเหล็ก (ตัวยู) พร้อมฝาปิดตะแกรงเหล้ก บ้านสันติสุข หมู่ที่ 19 (บ้านหล่อชา) ตำบลป่าตึง อำเภอแม่จัน จังหวัดเชียงราย | C33: 250000 | D33: 257670.31 | E33: โดยวิธีเฉพาะเจาะจง | F33: ห้างหุ้นส่วนจำกัด ชิงหลง คอนสทรัคชั่น | G33: 249900 | H33: ห้างหุ้นส่วนจำกัด ชิงหลง คอนสทรัคชั่น | I33: 249900 | J33: เป็นผู้มีคุณสมบัติตรงตามเงื่อนไขที่กำหนด | K33: 012/2569 | L33: 244299
A34: 32 | B34: จ้างเหมาจัดทำอาหารว่างพร้อมเครื่องดื่มและอาหารกลางวัน ประชุม ศบกต.ป่าตึง ประจำเดือนพฤศจิกายน 2568 | C34: 4650 | D34: 4650 | E34: โดยวิธีเฉพาะเจาะจง | F34: นางแก้วมาเรือน จขุเนตร | G34: 4650 | H34: นางแก้วมาเรือน จขุเนตร | I34: 4650 | J34: เป็นผู้มีอาชีพที่เสนอพัสดุตรงตามวัตถุประสงค์ในการใช้งาน | K34: ไม่มีเลขที่สัญญาเนื่องจากการจัดซื้อจัดจ้างตามหนังสือ ด่วนที่สุด ที่ กค (กวจ) 0405.5/ว119 | L34: 244298
A35: 33 | B35: จ้างเหมาจัดทำอาหารว่างพร้อมเครื่องดื่มและอาหารกลางวัน ประชุมสภา 13 พ.ย.2568 | C35: 6200 | D35: 6200 | E35: โดยวิธีเฉพาะเจาะจง | F35: นางแก้วมาเรือน จขุเนตร | G35: 6200 | H35: นางแก้วมาเรือน จขุเนตร | I35: 6200 | J35: เป็นผู้มีอาชีพที่เสนอพัสดุตรงตามวัตถุประสงค์ในการใช้งาน | K35: ไม่มีเลขที่สัญญาเนื่องจากการจัดซื้อจัดจ้างตามหนังสือ ด่วนที่สุด ที่ กค (กวจ) 0405.5/ว119 | L35: 244299
A36: 34 | B36: ค่าจ้างเหมาจัดทำพวงมาลา + พานพุม 25 พฤศจิกายน 2568 | C36: 2000 | D36: 2000 | E36: โดยวิธีเฉพาะเจาะจง | F36: นางชญานันท์ ซางสุภาพ | G36: 2000 | H36: นางชญานันท์ ซางสุภาพ | I36: 2000 | J36: เป็นผู้มีอาชีพที่เสนอพัสดุตรงตามวัตถุประสงค์ในการใช้งาน | K36: ไม่มีเลขที่สัญญาเนื่องจากการจัดซื้อจัดจ้างตามหนังสือ ด่วนที่สุด ที่ กค (กวจ) 0405.5/ว119 | L36: 244313
A37: 35 | B37: จ้างเหมาบุคลากรกองคลัง เพื่อปฏิบัติงานด้านเอกสารต่างๆ ตั้งแต่วันที่ 1 ธ.ค. 68 - 28 ก.พ. 68 | C37: 27000 | D37: 27000 | E37: โดยวิธีเฉพาะเจาะจง | F37: นางสาวปฐมมาวดี ซือสวัสดิ์พาณิชย์ | G37: 27000 | H37: นางสาวปฐมมาวดี ซือสวัสดิ์พาณิชย์ | I37: 27000 | J37: เป็นผู้มีอาชีพที่เสนอพัสดุตรงตามวัตถุประสงค์ในการใช้งาน | K37: ไม่มีเลขที่สัญญาเนื่องจากการจัดซื้อจัดจ้างตามหนังสือ ด่วนที่สุด ที่ กค (กวจ) 0405.5/ว119 | L37: 244312
I38: =SUM(I3:I37) -> 4756389.7

Sheet สรุปผล ธค
A1: สรุปผลการดำเนินการจัดซื้อจัดจ้างหรือการจัดหาพัสดุของหน่วยงานประจำเดือน ปีงบประมาณ พ.ศ.2569
A2: ชื่อหน่วยงาน องค์การบริหารส่วนตำบลป่าตึง
D3: ประจำเดือน ธันวาคม 2568
C4: ลำดับ | D4: วิธีการจัดซื้อจัดจ้าง | E4: จำนวนโครงการ | F4: จำนวนงบประมาณ
C5: 1 | D5: วิธีเฉพาะเจาะจง | E5: 36 | F5: =ธค68!I40-'สรุปผล ธค'!F7 -> 1483697.3
C6: 2 | D6: วิธีคัดเลือก | E6: - | F6: -
C7: 3 | D7: วิธีประกวดราคาอิเล็คทรอนิกส์ (e-bidding) | E7: 1 | F7: 7220000
C8: 4 | D8: อื่น ๆ | E8: - | F8: -
D9: รวม | E9: =SUM(E5:E8) -> 37 | F9: =SUM(F5:F8) -> 8703697.3
A11: ปัญหา/อุปสรรค
A17: ข้อเสนอแนะ

Sheet ธค68
A2: ลำดับที่ | B2: งานที่จัดซื้อจัดจ้าง | C2: วงเงินที่จะซื้อหรือจ้าง | D2: ราคากลาง | E2: วิธีจัดซื้อหรือจ้าง | F2: รายชื่อผู้เสนอราคา | G2: ราคาที่เสนอ | H2: ผู้ได้รับการคัดเลือก | I2: ราคาที่ตกลงซื้อหรือจ้าง | J2: เหตุผลที่คัดเลือกโดยสรุป | K2: เลขที่และวันที่ของสัญญาหรือข้อตกลงในการซื้อหรือจ้าง
A3: 1 | B3: จ้างเหมาซ่อมแซมรถจักรยานยนต์ส่วนกลาง หมายเลขทะเบียน ขฉท 902 เชียงราย สำหรับกองการศึกษา ศาสนาและวัฒนธรรม | C3: 2400 | D3: 2400 | E3: โดยวิธีเฉพาะเจาะจง | F3: นายศราวุธ จันพุดซา | G3: 2400 | H3: นายศราวุธ จันพุดซา | I3: 2400 | J3: เป็นผู้มีคุณสมบัติตรงตามเงื่อนไขที่กำหนด | K3: 101/2569 | L3: 244354
A4: 2 | B4: ซื้อวัสดุเพื่อปรับปรุงซ่อมแซมคอสะพานและไหล่ทางถนน | C4: 4200 | D4: 4200 | E4: โดยวิธีเฉพาะเจาะจง | F4: บริษัท แม่จันคอนกรีต (999) จำกัด | G4: 4200 | H4: บริษัท แม่จันคอนกรีต (999) จำกัด | I4: 4200 | J4: เป็นผู้มีคุณสมบัติตรงตามเงื่อนไขที่กำหนด | K4: 066/2569 | L4: 244348
A5: 3 | B5: ซื้อคอนกรีตผสมเสร็จ เพื่อใช้ซ่อมแซมถนนบ้านป่าบงงามบน หมู่ที่ ๑๕ ตำบลป่าตึง อำเภอแม่จัน จังหวัดเชียงราย | C5: 5640 | D5: 5640 | E5: โดยวิธีเฉพาะเจาะจง | F5: ห้างหุ้นส่วนจำกัด พีที คอนกรีต | G5: 5640 | H5: ห้างหุ้นส่วนจำกัด พีที คอนกรีต | I5: 5640 | J5: เป็นผู้มีคุณสมบัติตรงตามเงื่อนไขที่กำหนด | K5: 065/2569 | L5: 244348
A6: 4 | B6: จ้างเหมาทำป้ายประชาสัมพันธ์รณรงค์ประชาสัมพันธ์การเลือกตั้งตามโครงการหมู่บ้านพลเมืองดีวิธีประชาธิปไตย | C6: 8960 | D6: 8960 | E6: โดยวิธีเฉพาะเจาะจง | F6: รุ่งเรืองปริ้น 99 | G6: 8960 | H6: รุ่งเรืองปริ้น 99 | I6: 8960 | J6: เป็นผู้มีคุณสมบัติตรงตามเงื่อนไขที่กำหนด | K6: 095/2569 | L6: 244348
A7: 5 | B7: ซื้อดอกเจาะคอริ่งเจาะคอนกรีต | C7: 24000 | D7: 24000 | E7: โดยวิธีเฉพาะเจาะจง | F7: ห้างหุ้นส่วนจำกัด เชียงราย ซี ไอ จี | G7: 24000 | H7: ห้างหุ้นส่วนจำกัด เชียงราย ซี ไอ จี | I7: 24000 | J7: เป็นผู้มีคุณสมบัติตรงตามเงื่อนไขที่กำหนด | K7: 067/2569 | L7: 244348
A8: 6 | B8: ซื้อวัสดุเพื่อปรับปรุงซ่อมแซมคอสะพานและไหล่ทางถนน | C8: 7400 | D8: 7400 | E8: โดยวิธีเฉพาะเจาะจง | F8: ห้างหุ้นส่วนจำกัด พีที คอนกรีต | G8: 7400 | H8: ห้างหุ้นส่วนจำกัด พีที คอนกรีต | I8: 7400 | J8: เป็นผู้มีคุณสมบัติตรงตามเงื่อนไขที่กำหนด | K8: 068/2569 | L8: 244348
A9: 7 | B9: จ้างจ้างเหมารถเครื่องเสียงประชาสัมพันธ์การเลือกตั้งตามโครงการหมู่บ้านพลเมืองดีวิธีประชาธิปไตย | C9: 14000 | D9: 14000 | E9: โดยวิธีเฉพาะเจาะจง | F9: นาย บุญรัตน์ พลสวัสดิ์ | G9: 14000 | H9: นาย บุญรัตน์ พลสวัสดิ์ | I9: 14000 | J9: เป็นผู้มีคุณสมบัติตรงตามเงื่อนไขที่กำหนด | K9: 096/2569 | L9: 244348
A10: 8 | B10: จ้างเหมาซ่อมแซมกระเบื้องพื้นอาคารสำนักงานที่ทำการองค์การบริหารส่วนตำบลป่าตึง อำเภอแม่จัน จังหวัดเชียงราย | C10: 10004.31 | D10: 10004.31 | E10: โดยวิธีเฉพาะเจาะจง | F10: นายคณภรณ์ จันสิงห์ | G10: 10004.31 | H10: นายคณภรณ์ จันสิงห์ | I10: 10004.31 | J10: เป็นผู้มีคุณสมบัติตรงตามเงื่อนไขที่กำหนด | K10: 092/2569 | L10: 244348
A11: 9 | B11: ซื้อวัสดุแบบพิมพ์งานเลือกตั้ง จำนวน ๔ รายการ | C11: 7280 | D11: 7280 | E11: โดยวิธีเฉพาะเจาะจง | F11: โรงพิมพ์อาสารักษาดินแดน กรมการปกครอง | G11: 7280 | H11: โรงพิมพ์อาสารักษาดินแดน กรมการปกครอง | I11: 7280 | J11: เป็นผู้มีคุณสมบัติตรงตามเงื่อนไขที่กำหนด | K11: 064/2569 | L11: 29/12/2568
A12: 10 | B12: จ้างเหมาซ่อมแซมและบำรุงรักษาครุภัณฑ์เครื่องคอมพิวเตอร์ (ครุภัณฑ์เลขที่ ๔๑๖-๖๒-๐๑๔๕) | C12: 2800 | D12: 2800 | E12: โดยวิธีเฉพาะเจาะจง | F12: ห้างหุ้นส่วนจำกัด ธนาทรัพย์ศิลา | G12: 2800 | H12: ห้างหุ้นส่วนจำกัด ธนาทรัพย์ศิลา | I12: 2800 | J12: เป็นผู้มีคุณสมบัติตรงตามเงื่อนไขที่กำหนด | K12: 091/2569 | L12: 29/12/2568
A13: 11 | B13: จ้างเหมาซ่อมแซมและบำรุงรักษาครุภัณฑ์รถยนต์ยี่ห้อฟอร์ด หมายเลขทะเบียน บธ ๑๘๔๒ | C13: 2330 | D13: 2330 | E13: โดยวิธีเฉพาะเจาะจง | F13: ช.การช่าง | G13: 2330 | H13: ช.การช่าง | I13: 2330 | J13: เป็นผู้มีคุณสมบัติตรงตามเงื่อนไขที่กำหนด | K13: 089/2569 | L13: 29/12/2568
A14: 12 | B14: ประกวดราคาจ้างก่อสร้างโครงการซ่อมแซมถนนลาดยางแอสฟัลท์ติกคอนกรีต รหัสสายทาง ชร.ถ.011 บ้านป่าบง หมู่ที่ 2 เชื่อม บ้านสันโค้ง หมู่ที่ 10 | C14: 9608000 | D14: 7226726.3 | E14: ด้วยวิธีประกวดราคาอิเล็กทรอนิกส์ | F14: ห้างหุ้นส่วนจำกัด ธนะชัย แอสโซซิเอท | G14: 7220000 | H14: ห้างหุ้นส่วนจำกัด ธนะชัย แอสโซซิเอท | I14: 7220000 | J14: เป็นผู้มีคุณสมบัติและข้อเสนอทางเทคนิคถูกต้องครบถ้วนและเป็นผู้เสนอราคา ต่ำสุด | K14: 052/2569 | L14: 16/02/2569
A15: 13 | B15: จ้างเหมาจัดทำตราประทับบัตรเลือกตั้งหรือเครื่องหมายบนบัตรเลือกตั้ง จำนวน ๔ อัน | C15: 1400 | D15: 1400 | E15: โดยวิธีเฉพาะเจาะจง | F15: ร้านแม่จันเจริญ ป้ายโฆษณา | G15: 1400 | H15: ร้านแม่จันเจริญ ป้ายโฆษณา | I15: 1400 | J15: เป็นผู้มีคุณสมบัติตรงตามเงื่อนไขที่กำหนด | K15: 087/2569 | L15: 244343
A16: 14 | B16: ซื้อวัสดุวิทยาศาสตร์หรือการแพทย์ จำนวน ๔ รายการ | C16: 19350 | D16: 19350 | E16: โดยวิธีเฉพาะเจาะจง | F16: บริษัท ท็อป เมดิคอล จำกัด | G16: 19350 | H16: บริษัท ท็อป เมดิคอล จำกัด | I16: 19350 | J16: เป็นผู้มีคุณสมบัติตรงตามเงื่อนไขที่กำหนด | K16: 061/2569 | L16: 244344
A17: 15 | B17: จ้างเหมาจัดทำธงแดงพร้อมติดตั้ง จำนวน ๑๐๐ ชุด และจ้างเหมาจัดทำป้ายโครงการฯ ชนิดไวนิล จำนวน ๑ ป้าย | C17: 11600 | D17: 11600 | E17: โดยวิธีเฉพาะเจาะจง | F17: รุ่งเรืองปริ้น 99 | G17: 11600 | H17: รุ่งเรืองปริ้น 99 | I17: 11600 | J17: เป็นผู้มีคุณสมบัติตรงตามเงื่อนไขที่กำหนด | K17: 088/2569 | L17: 244344
A18: 16 | B18: ซื้อคอนกรีตผสมเสร็จ เพื่อใช้ซ่อมแซมถนนบ้านเล่าฝู่ หมู่ที่ ๒๐ (บ้านเล่าฝู่ , บ้านจะหยี และบ้านโป่งป่าแขม) | C18: 33600 | D18: 33600 | E18: โดยวิธีเฉพาะเจาะจง | F18: ห้างหุ้นส่วนจำกัด เอสเอสเค คอนสตรัคชั่น แอนด์แมชชีน | G18: 33600 | H18: ห้างหุ้นส่วนจำกัด เอสเอสเค คอนสตรัคชั่น แอนด์แมชชีน | I18: 33600 | J18: เป็นผู้มีคุณสมบัติตรงตามเงื่อนไขที่กำหนด | K18: 062/2569 | L18: 244344
A19: 17 | B19: ซื้อวัสดุเพื่อลดอุบัติเหตุการจราจรในตำบลป่าตึง จำนวน ๘ รายการ | C19: 8720 | D19: 8720 | E19: โดยวิธีเฉพาะเจาะจง | F19: หจก.ป่าตึงวัสดุก่อสร้าง | G19: 8720 | H19: หจก.ป่าตึงวัสดุก่อสร้าง | I19: 8720 | J19: เป็นผู้มีคุณสมบัติตรงตามเงื่อนไขที่กำหนด | K19: 063/2569 | L19: 244344
A20: 18 | B20: จ้างก่อสร้างรางระบายน้ำคอนกรีตเสริมเหล็ก (ตัวยู) บ้านสันโค้ง หมู่ที่ 10 ตำบลป่าตึง อำเภอแม่จัน จังหวัดเชียงราย | C20: 169000 | D20: 169035.33 | E20: โดยวิธีเฉพาะเจาะจง | F20: ห้างหุ้นส่วนจำกัด อาเพียวคอนสตรัคชั่น | G20: 169000 | H20: ห้างหุ้นส่วนจำกัด อาเพียวคอนสตรัคชั่น | I20: 169000 | J20: เป็นผู้มีคุณสมบัติตรงตามเงื่อนไขที่กำหนด | K20: 024/2569 | L20: 29/12/2568
A21: 19 | B21: จ้างก่อสร้างรางระบายน้ำคอนกรีตเสริมเหล็ก (ตัวยู) บ้านป่าบง หมู่ที่ 2 (สายที่ 2) ตำบลป่าตึง อำเภอแม่จัน จังหวัดเชียงราย | C21: 280600 | D21: 281809.06 | E21: โดยวิธีเฉพาะเจาะจง | F21: ห้างหุ้นส่วนจำกัด อาเพียวคอนสตรัคชั่น | G21: 280600 | H21: ห้างหุ้นส่วนจำกัด อาเพียวคอนสตรัคชั่น | I21: 280600 | J21: เป็นผู้มีคุณสมบัติตรงตามเงื่อนไขที่กำหนด | K21: 026/2569 | L21: 29/12/2568
A22: 20 | B22: จ้างก่อสร้างรางระบายน้ำคอนกรีตเสริมเหล็ก (ตัวยู) บ้านป่าบง หมู่ที่ 2 (สายที่ 1) ตำบลป่าตึง อำเภอแม่จัน จังหวัดเชียงราย | C22: 73000 | D22: 73648.32 | E22: โดยวิธีเฉพาะเจาะจง | F22: ห้างหุ้นส่วนจำกัด อาเพียวคอนสตรัคชั่น | G22: 73000 | H22: ห้างหุ้นส่วนจำกัด อาเพียวคอนสตรัคชั่น | I22: 73000 | J22: เป็นผู้มีคุณสมบัติตรงตามเงื่อนไขที่กำหนด | K22: 025/2569 | L22: 29/12/2568
A23: 21 | B23: ซื้อวัสดุคอมพิวเตอร์ จำนวน ๓ รายการ | C23: 8700 | D23: 8700 | E23: โดยวิธีเฉพาะเจาะจง | F23: ห้างหุ้นส่วนจำกัด ธนาทรัพย์ศิลา | G23: 8700 | H23: ห้างหุ้นส่วนจำกัด ธนาทรัพย์ศิลา | I23: 8700 | J23: เป็นผู้มีคุณสมบัติตรงตามเงื่อนไขที่กำหนด | K23: 059/2569 | L23: 244342
A24: 22 | B24: ซื้อคอนกรีตผสมเสร็จ เพื่อใช้ซ่อมแซมถนนบ้านป่าตึง หมู่ที่ ๘ ตำบลป่าตึง อำเภอแม่จัน จังหวัดเชียงราย | C24: 3000 | D24: 3000 | E24: โดยวิธีเฉพาะเจาะจง | F24: บริษัท แม่จันคอนกรีต (999) จำกัด | G24: 3000 | H24: บริษัท แม่จันคอนกรีต (999) จำกัด | I24: 3000 | J24: เป็นผู้มีคุณสมบัติตรงตามเงื่อนไขที่กำหนด | K24: 060/2569 | L24: 244342
A25: 23 | B25: ซื้อวัสดุไฟฟ้า จำนวน ๕ ชุด | C25: 17250 | D25: 17250 | E25: โดยวิธีเฉพาะเจาะจง | F25: ห้างหุ้นส่วนจำกัด โซล่าร์เซลล์ เชียงราย | G25: 17250 | H25: ห้างหุ้นส่วนจำกัด โซล่าร์เซลล์ เชียงราย | I25: 17250 | J25: เป็นผู้มีคุณสมบัติตรงตามเงื่อนไขที่กำหนด | K25: 058/2569 | L25: 244342
A26: 24 | B26: จ้างก่อสร้างรางระบายน้ำคอนกรีตเสริมเหล็ก (ตัวยู) บ้านป่าตึง หมู่ที่ 7 (บ้านน้ำตกตาดทอง) ตำบลป่าตึง อำเภอแม่จัน จังหวัดเชียงราย | C26: 309500 | D26: 312631.79 | E26: โดยวิธีเฉพาะเจาะจง | F26: ห้างหุ้นส่วนจำกัด อาเพียวคอนสตรัคชั่น | G26: 309500 | H26: ห้างหุ้นส่วนจำกัด อาเพียวคอนสตรัคชั่น | I26: 309500 | J26: เป็นผู้มีคุณสมบัติตรงตามเงื่อนไขที่กำหนด | K26: 023/2569 | L26: 29/12/2568
A27: 25 | B27: จ้างเหมาเครื่องจักรปรับเกลี่ยถนนทางการเกษตร บ้านสันติสุข หมู่ที่ 19 (บ้านหล่อโย) จำนวน 3 จุด ตำบลป่าตึง อำเภอแม่จัน จังหวัดเชียงราย | C27: 36000 | D27: 36000 | E27: โดยวิธีเฉพาะเจาะจง | F27: ร้าน จ.รุ่งเรืองค้าวัสดุ | G27: 36000 | H27: ร้าน จ.รุ่งเรืองค้าวัสดุ | I27: 36000 | J27: เป็นผู้มีคุณสมบัติตรงตามเงื่อนไขที่กำหนด | K27: 077/2568 | L27: 244335
A28: 26 | B28: จ้างเหมาซ่อมแซมหลังคาอาคารสำนักงานองค์การบริหารส่วนตำบลป่าตึง อำเภอแม่จัน จังหวัดเชียงราย | C28: 3500 | D28: 3500 | E28: โดยวิธีเฉพาะเจาะจง | F28: ร้าน จ.รุ่งเรืองค้าวัสดุ | G28: 3500 | H28: ร้าน จ.รุ่งเรืองค้าวัสดุ | I28: 3500 | J28: เป็นผู้มีคุณสมบัติตรงตามเงื่อนไขที่กำหนด | K28: 075/2569 | L28: 244335
A29: 27 | B29: จ้างเหมาถมดิน บ้านสันติสุข หมู่ที่ 19 (บ้านแสนใหม่) ตำบลป่าตึง อำเภอแม่จัน จังหวัดเชียงราย | C29: 12300 | D29: 12300 | E29: โดยวิธีเฉพาะเจาะจง | F29: ร้าน จ.รุ่งเรืองค้าวัสดุ | G29: 12300 | H29: ร้าน จ.รุ่งเรืองค้าวัสดุ | I29: 12300 | J29: เป็นผู้มีคุณสมบัติตรงตามเงื่อนไขที่กำหนด | K29: 078/2569 | L29: 244335
A30: 28 | B30: ซื้อครุภัณฑ์งานบ้านงานครัว จำนวน ๒ รายการ | C30: 36400 | D30: 36400 | E30: โดยวิธีเฉพาะเจาะจง | F30: ร้านสากลการเกษตร 2015 | G30: 31500 | H30: ร้านสากลการเกษตร 2015 | I30: 31500 | J30: เป็นผู้มีคุณสมบัติตรงตามเงื่อนไขที่กำหนด | K30: 054/2569 | L30: 244335
A31: 29 | B31: ซื้อแบตเตอรี่พร้อมเปลี่ยน รถยนต์ส่วนกลาง ยี่ห้ออีซูซุ เลขทะเบียน ๘๑-๘๖๖๙ | C31: 7383 | D31: 7383 | E31: โดยวิธีเฉพาะเจาะจง | F31: อู่ช่างอึ่ง | G31: 7383 | H31: อู่ช่างอึ่ง | I31: 7383 | J31: เป็นผู้มีคุณสมบัติตรงตามเงื่อนไขที่กำหนด | K31: 052/2569 | L31: 244335
A32: 30 | B32: ซื้อครุภัณฑ์ชุดเครื่องเสียงห้องประชุม จำนวน ๓ รายการ | C32: 53900 | D32: 53900 | E32: โดยวิธีเฉพาะเจาะจง | F32: ห้างหุ้นส่วนจำกัด ธนาทรัพย์ศิลา | G32: 53900 | H32: ห้างหุ้นส่วนจำกัด ธนาทรัพย์ศิลา | I32: 53900 | J32: เป็นผู้มีคุณสมบัติตรงตามเงื่อนไขที่กำหนด | K32: 053/2569 | L32: 244335
A33: 31 | B33: ซื้อวัสดุอุปกรณ์ตามโครงการพัฒนาผู้เรียนการแข่งขันกีฬา (กิจกรรมกีฬากลุ่มป่าตึง) ประจำปีงบประมาณ 2569 ณ โรงเรียนบ้านห้วยมะหินฝน ตำบลป่าตึง อำเภอแม่จันจังหวัดเชียงราย | C33: 11980 | D33: 11980 | E33: โดยวิธีเฉพาะเจาะจง | F33: ร้าน พีพีเครื่องเขียน | G33: 11980 | H33: ร้าน พีพีเครื่องเขียน | I33: 11980 | J33: เป็นผู้มีคุณสมบัติตรงตามเงื่อนไขที่กำหนด | K33: 001/2569 | L33: 244322
A34: 32 | B34: ซื้อคอนกรีตผสมเสร็จ เพื่อใช้ซ่อมแซมถนนบ้านห้วยก้างปลา หมู่ที่ 15 (บ้านห้วยปู, บ้านป่าบงงามบนและบ้านห้วยก้างปลา) ตำบลป่าตึง อำเภอแม่จัน จังหวัดเชียงราย | C34: 14700 | D34: 14700 | E34: โดยวิธีเฉพาะเจาะจง | F34: บริษัท แม่จันคอนกรีต (999) จำกัด | G34: 14700 | H34: บริษัท แม่จันคอนกรีต (999) จำกัด | I34: 14700 | J34: เป็นผู้มีคุณสมบัติตรงตามเงื่อนไขที่กำหนด | K34: 051/2569 | L34: 244321
A35: 33 | B35: จ้างเหมาจัดทำป้ายเกี่ยวกับงานเลือกตั้ง ส.อบต. และนายก อบต. จำนวน 32 ป้าย | C35: 11050 | D35: 11050 | E35: โดยวิธีเฉพาะเจาะจง | F35: ร้านแม่จันเจริญ ป้ายโฆษณา | G35: 11050 | H35: ร้านแม่จันเจริญ ป้ายโฆษณา | I35: 11050 | J35: เป็นผู้มีคุณสมบัติตรงตามเงื่อนไขที่กำหนด | K35: 071/2569 | L35: 244321
A36: 34 | B36: จ้างเหมาซ่อมแซมและเปลี่ยนอะไหล่รถยนต์ส่วนกลาง โตโยต้า หมายเลขทะเบียน ผฉ 8455 เชียงราย | C36: 19350 | D36: 19350 | E36: โดยวิธีเฉพาะเจาะจง | F36: อู่ช่างอึ่ง | G36: 19350 | H36: อู่ช่างอึ่ง | I36: 19350 | J36: เป็นผู้มีคุณสมบัติตรงตามเงื่อนไขที่กำหนด | K36: 070/2569 | L36: 03/12/2568
A37: 35 | B37: จ้างเหมาซ่อมแซมและบำรุงรักษาครุภัณฑ์เครื่องคอมพิวเตอร์ (ครุภัณฑ์เลขที่ 416-62-0146) | C37: 6800 | D37: 6800 | E37: โดยวิธีเฉพาะเจาะจง | F37: ห้างหุ้นส่วนจำกัด ธนาทรัพย์ศิลา | G37: 6800 | H37: ห้างหุ้นส่วนจำกัด ธนาทรัพย์ศิลา | I37: 6800 | J37: เป็นผู้มีคุณสมบัติตรงตามเงื่อนไขที่กำหนด | K37: 072/2569 | L37: 03/12/2568
A38: 36 | B38: จ้างก่อสร้างรางระบายน้ำคอนกรีตเสริมเหล็ก (ตัวยู) บ้านป่าตึง หมู่ที่ 7(ลำเหมืองอู่) ตำบลป่าตึง อำเภอแม่จัน จังหวัดเชียงราย | C38: 249500 | D38: 256809 | E38: โดยวิธีเฉพาะเจาะจง | F38: ห้างหุ้นส่วนจำกัด อาเพียวคอนสตรัคชั่น | G38: 249500 | H38: ห้างหุ้นส่วนจำกัด อาเพียวคอนสตรัคชั่น | I38: 249500 | J38: เป็นผู้มีคุณสมบัติตรงตามเงื่อนไขที่กำหนด | K38: 022/2569 | L38: 04/12/2568
A39: 37 | B39: ค่าจ้างเหมาจัดทำพานพุ่ม 5 ธันวาคม 2568 | C39: 1000 | D39: 1000 | E39: โดยวิธีเฉพาะเจาะจง | F39: นางชญานันท์ ซางสุภาพ | G39: 1000 | H39: นางชญานันท์ ซางสุภาพ | I39: 1000 | J39: เป็นผู้มีอาชีพที่เสนอพัสดุตรงตามวัตถุประสงค์ | K39: ไม่มีเลขที่สัญญาเนื่องจากการจัดซื้อจัดจ้างตามหนังสือ ด่วนที่สุด ที่ กค (กวจ) 0405.5/ว119 | L39: 244327
I40: =SUM(I3:I39) -> 8703697.3

Sheet สรุปผล มค
A1: สรุปผลการดำเนินการจัดซื้อจัดจ้างหรือการจัดหาพัสดุของหน่วยงานประจำเดือน ปีงบประมาณ พ.ศ.2569
A2: ชื่อหน่วยงาน องค์การบริหารส่วนตำบลป่าตึง
D3: ประจำเดือน มกราคม 2569
C4: ลำดับ | D4: วิธีการจัดซื้อจัดจ้าง | E4: จำนวนโครงการ | F4: จำนวนงบประมาณ
C5: 1 | D5: วิธีเฉพาะเจาะจง | E5: 98 | F5: 7795820.6
C6: 2 | D6: วิธีคัดเลือก | E6: - | F6: -
C7: 3 | D7: วิธีประกวดราคาอิเล็คทรอนิกส์ (e-bidding) | E7: - | F7: -
C8: 4 | D8: อื่น ๆ | E8: - | F8: -
D9: รวม | E9: =SUM(E5:E8) -> 98 | F9: =SUM(F5:F8) -> 7795820.6
A11: ปัญหา/อุปสรรค
A17: ข้อเสนอแนะ

Sheet มค69
A2: ลำดับที่ | B2: งานที่จัดซื้อจัดจ้าง | C2: วงเงินที่จะซื้อหรือจ้าง | D2: ราคากลาง | E2: วิธีจัดซื้อหรือจ้าง | F2: รายชื่อผู้เสนอราคา | G2: ราคาที่เสนอ | H2: ผู้ได้รับการคัดเลือก | I2: ราคาที่ตกลงซื้อหรือจ้าง | J2: เหตุผลที่คัดเลือกโดยสรุป | K2: เลขที่และวันที่ของสัญญาหรือข้อตกลงในการซื้อหรือจ้าง
A3: 1 | B3: จ้างปรับปรุงถนนทางการเกษตรในพื้นที่ตำบลป่าตึง บ้านป่าตึง หมู่ที่ 8 ตำบลป่าตึง อำเภอแม่จัน จังหวัดเชียงราย | C3: 9900 | D3: 9900 | E3: โดยวิธีเฉพาะเจาะจง | F3: ห้างหุ้นส่วนจำกัด อครา เอ็นเตอร์ไพรส์ | G3: 9900 | H3: ห้างหุ้นส่วนจำกัด อครา เอ็นเตอร์ไพรส์ | I3: 9900 | J3: เป็นผู้มีคุณสมบัติตรงตามเงื่อนไขที่กำหนด | K3: 117/2569 | L3: 244383
A4: 2 | B4: จ้างเหมาซ่อมแซมและปรับเปลี่ยนอะไหล่รถยนต์ส่วนกลาง ยี่ห้อโตโยต้า หมายเลขทะเบียน บม 2913 เชียงราย ครุภัณฑ์เลขที่ 019 - 49 - 0001 | C4: 75690 | D4: 75690 | E4: โดยวิธีเฉพาะเจาะจง | F4: อู่ช่างอึ่ง | G4: 75690 | H4: อู่ช่างอึ่ง | I4: 75690 | J4: เป็นผู้มีคุณสมบัติตรงตามเงื่อนไขที่กำหนด | K4: 116/2569 | L4: 244382
A5: 3 | B5: จ้างก่อสร้างรางระบายน้ำคอนกรีตเสริมเหล็ก บ้านห้วยยาโน หมู่ที่ 12 (สายที่ 3) ตำบลป่าตึง อำเภอแม่จัน จังหวัดเชียงราย | C5: 195000 | D5: 199514.39 | E5: โดยวิธีเฉพาะเจาะจง | F5: ห้างหุ้นส่วนจำกัด ชิงหลง คอนสทรัคชั่น | G5: 194700 | H5: ห้างหุ้นส่วนจำกัด ชิงหลง คอนสทรัคชั่น | I5: 194700 | J5: เป็นผู้มีคุณสมบัติตรงตามเงื่อนไขที่กำหนด | K5: 046/2569 | L5: 244385
A6: 4 | B6: จ้างก่อสร้างถนนคอนกรีตเสริมเหล็ก บ้านทุ่งต่าง หมู่ที่ 13 ตำบลป่าตึง อำเภอแม่จัน จังหวัดเชียงราย | C6: 500000 | D6: 500386.18 | E6: โดยวิธีเฉพาะเจาะจง | F6: ห้างหุ้นส่วนจำกัด ฉีหลิง คอนสตรัคชั่น | G6: 499600 | H6: ห้างหุ้นส่วนจำกัด ฉีหลิง คอนสตรัคชั่น | I6: 499600 | J6: เป็นผู้มีคุณสมบัติตรงตามเงื่อนไขที่กำหนด | K6: 045/2569 | L6: 244385
A7: 5 | B7: จ้างก่อสร้างรางระบายน้ำคอนกรีตเสริมเหล็ก (ตัวยู) บ้านห้วยมะหินฝน หมู่ที่ 14 (สายที่ 2) ตำบลป่าตึง อำเภอแม่จัน จังหวัดเชียงราย | C7: 53700 | D7: 53541.02 | E7: โดยวิธีเฉพาะเจาะจง | F7: ร้านสองวัสดุการค้า | G7: 53200 | H7: ร้านสองวัสดุการค้า | I7: 53200 | J7: เป็นผู้มีคุณสมบัติตรงตามเงื่อนไขที่กำหนด | K7: 047/2569 | L7: 244385
A8: 6 | B8: จ้างก่อสร้างถนนคอนกรีตเสริมเหล็ก บ้านสันโค้ง หมู่ที่ 10 ตำบลป่าตึง อำเภอแม่จัน จังหวัดเชียงราย | C8: 331000 | D8: 331535.6 | E8: โดยวิธีเฉพาะเจาะจง | F8: ห้างหุ้นส่วนจำกัด อครา เอ็นเตอร์ไพรส์ | G8: 330000 | H8: ห้างหุ้นส่วนจำกัด อครา เอ็นเตอร์ไพรส์ | I8: 330000 | J8: เป็นผู้มีคุณสมบัติและข้อเสนอทางเทคนิคถูกต้องครบถ้วนและเป็นผู้เสนอราคา ต่ำสุด | K8: 043/2569 | L8: 244379
A9: 7 | B9: จ้างก่อสร้างถนนคอนกรีตเสริมเหล็ก (ชนิดมีไหล่ทาง) ข้างละ 0.50 เมตร บ้านป่าบง หมู่ที่ ๒ ตำบลป่าตึง อำเภอแม่จัน จังหวัดเชียงราย | C9: 346400 | D9: 345775.28 | E9: โดยวิธีเฉพาะเจาะจง | F9: ห้างหุ้นส่วนจำกัด อครา เอ็นเตอร์ไพรส์ | G9: 345000 | H9: ห้างหุ้นส่วนจำกัด อครา เอ็นเตอร์ไพรส์ | I9: 345000 | J9: เป็นผู้มีคุณสมบัติและข้อเสนอทางเทคนิคถูกต้องครบถ้วนและเป็นผู้เสนอราคา ต่ำสุด | K9: 044/2569 | L9: 244379
A10: 8 | B10: จ้างปรับปรุงถนนทางการเกษตรในพื้นที่ตำบลป่าตึง บ้านป่าตึง หมู่ที่ 7 ตำบลป่าตึง อำเภอแม่จัน จังหวัดเชียงราย | C10: 9999.43 | D10: 9999.43 | E10: โดยวิธีเฉพาะเจาะจง | F10: ห้างหุ้นส่วนจำกัด อครา เอ็นเตอร์ไพรส์ | G10: 9900 | H10: ห้างหุ้นส่วนจำกัด อครา เอ็นเตอร์ไพรส์ | I10: 9900 | J10: เป็นผู้มีคุณสมบัติและข้อเสนอทางเทคนิคถูกต้องครบถ้วนและเป็นผู้เสนอราคา ต่ำสุด | K10: 115/2569 | L10: 244376
A11: 9 | B11: จ้างเหมาจัดทำป้ายไวนิลพร้อมติดตั้ง (พระบรมฉายาลักษณ์) จำนวน ๕ ป้าย | C11: 4500 | D11: 4500 | E11: โดยวิธีเฉพาะเจาะจง | F11: ร้านแม่จันเจริญ ป้ายโฆษณา | G11: 4500 | H11: ร้านแม่จันเจริญ ป้ายโฆษณา | I11: 4500 | J11: เป็นผู้มีคุณสมบัติและข้อเสนอทางเทคนิคถูกต้องครบถ้วนและเป็นผู้เสนอราคา ต่ำสุด | K11: 114/2569 | L11: 244375
A12: 10 | B12: ซื้อวัสดุก่อสร้าง จำนวน ๑๑ รายการ | C12: 6920 | D12: 6920 | E12: โดยวิธีเฉพาะเจาะจง | F12: หจก.ป่าตึงวัสดุก่อสร้าง | G12: 6920 | H12: หจก.ป่าตึงวัสดุก่อสร้าง | I12: 6920 | J12: เป็นผู้มีคุณสมบัติและข้อเสนอทางเทคนิคถูกต้องครบถ้วนและเป็นผู้เสนอราคา ต่ำสุด | K12: 076/2569 | L12: 244375
A13: 11 | B13: จ้างเหมาซักผ้าคลุมโต๊ะ ผ้าคลุมเก้าอี้และผ้าประดับ จำนวน ๕ รายการ | C13: 7830 | D13: 7830 | E13: โดยวิธีเฉพาะเจาะจง | F13: นาง นิศารัตน์ คำดวงดี | G13: 7830 | H13: นาง นิศารัตน์ คำดวงดี | I13: 7830 | J13: เป็นผู้มีคุณสมบัติและข้อเสนอทางเทคนิคถูกต้องครบถ้วนและเป็นผู้เสนอราคา ต่ำสุด | K13: 113/2569 | L13: 244375
A14: 12 | B14: ซื้อวัสดุอุปกรณ์ก่อสร้าง จำนวน ๕ รายการ ตามโครงการปรับสภาพแวดล้อมและสิ่งอำนวยความสะดวก ให้เหมาะสมและปลอดภัยสำหรับผู้สูงอายุ ประจำปีงบประมาณ พ.ศ.๒๕๖๙ | C14: 40000 | D14: 40000 | E14: โดยวิธีเฉพาะเจาะจง | F14: หอมนานค้าไม้ | G14: 40000 | H14: หอมนานค้าไม้ | I14: 40000 | J14: เป็นผู้มีคุณสมบัติและข้อเสนอทางเทคนิคถูกต้องครบถ้วนและเป็นผู้เสนอราคา ต่ำสุด | K14: 078/2569 | L14: 244375
... A16: 14 | B16: จ้างปรับปรุงอาคารอเนกประสงค์ บ้านโป่งป่าแขม หมู่ที่ 20 ตำบลป่าตึง อำเภอแม่จัน จังหวัดเชียงราย | C16: 150000 | D16: 151619.65 | E16: โดยวิธีเฉพาะเจาะจง | F16: ห้างหุ้นส่วนจำกัด เอสเอสเค คอนสตรัคชั่น แอนด์แมชชีน | G16: 149300 | H16: ห้างหุ้นส่วนจำกัด เอสเอสเค คอนสตรัคชั่น แอนด์แมชชีน | I16: 149300 | J16: เป็นผู้มีคุณสมบัติและข้อเสนอทางเทคนิคถูกต้องครบถ้วนและเป็นผู้เสนอราคา ต่ำสุด | K16: 042/2569 | L16: 244378
A17: 15 | B17: ซื้อโคมไฟฟ้าส่องสว่างสาธารณะพลังงานแสงอาทิตย์ พร้อมติดตั้ง บ้านเล่าฝู่ หมู่ที่ ๒๐ ตำบลป่าตึง อำเภอแม่จัน จังหวัดเชียงราย | C17: 68000 | D17: 68000 | E17: โดยวิธีเฉพาะเจาะจง | F17: ห้างหุ้นส่วนจำกัด โซล่าร์เซลล์ เชียงราย | G17: 68000 | H17: ห้างหุ้นส่วนจำกัด โซล่าร์เซลล์ เชียงราย | I17: 68000 | J17: เป็นผู้มีคุณสมบัติและข้อเสนอทางเทคนิคถูกต้องครบถ้วนและเป็นผู้เสนอราคา ต่ำสุด | K17: 005/2569 | L17: 28/01/2569
A18: 16 | B18: ซื้อโคมไฟฟ้าส่องสว่างสาธารณะพลังงานแสงอาทิตย์ พร้อมติดตั้ง บ้านห้วยก้างปลา หมู่ที่ ๑๕ (บ้านป่าบงงามบน) ตำบลป่าตึง อำเภอแม่จัน จังหวัดเชียงราย | C18: 51000 | D18: 51000 | E18: โดยวิธีเฉพาะเจาะจง | F18: ห้างหุ้นส่วนจำกัด โซล่าร์เซลล์ เชียงราย | G18: 51000 | H18: ห้างหุ้นส่วนจำกัด โซล่าร์เซลล์ เชียงราย | I18: 51000 | J18: เป็นผู้มีคุณสมบัติและข้อเสนอทางเทคนิคถูกต้องครบถ้วนและเป็นผู้เสนอราคา ต่ำสุด | K18: 006/2569 | L18: 28/01/2569
A19: 17 | B19: ซื้อโคมไฟฟ้าส่องสว่างสาธารณะพลังงานแสงอาทิตย์ พร้อมติดตั้ง บ้านห้วยก้างปลา หมู่ที่ ๑๕ (บ้านป่าบงงามล่าง) ตำบลป่าตึง อำเภอแม่จัน จังหวัดเชียงราย | C19: 85000 | D19: 85000 | E19: โดยวิธีเฉพาะเจาะจง | F19: ห้างหุ้นส่วนจำกัด โซล่าร์เซลล์ เชียงราย | G19: 85000 | H19: ห้างหุ้นส่วนจำกัด โซล่าร์เซลล์ เชียงราย | I19: 85000 | J19: เป็นผู้มีคุณสมบัติและข้อเสนอทางเทคนิคถูกต้องครบถ้วนและเป็นผู้เสนอราคา ต่ำสุด | K19: 007/2569 | L19: 28/01/2569
