Workbook

Sheet สรุปผลรวม ปี69
A1: สรุปผลการดำเนินการจัดซื้อจัดจ้างหรือการจัดหาพัสดุของหน่วยงานในภาพรวม ประจำปีงบประมาณ พ.ศ.2569
A2: ชื่อหน่วยงาน องค์การบริหารส่วนตำบลป่าตึง
C4: ลำดับ | D4: วิธีการจัดซื้อจัดจ้าง | E4: จำนวนโครงการ | F4: จำนวนงบประมาณ
C5: 1 | D5: วิธีเฉพาะเจาะจง | E5: 581 | F5: ='รวม ปี69'!I589 -> 48642592
C6: 2 | D6: วิธีคัดเลือก | E6: - | F6: -
C7: 3 | D7: วิธีประกวดราคาอิเล็คทรอนิกส์ (e-bidding) | E7: 5 | F7: =406500+7220000+539000+429900+630000 -> 9225400
C8: 4 | D8: อื่น ๆ | E8: - | F8: -
D9: รวม | E9: =SUM(E5:E8) -> 586 | F9: =SUM(F5:F8) -> 57867992
A11: ปัญหา/อุปสรรค
A17: ข้อเสนอแนะ

Sheet รวม ปี69
A2: ลำดับที่ | B2: งานที่จัดซื้อจัดจ้าง | C2: วงเงินที่จะซื้อหรือจ้าง | D2: ราคากลาง | E2: วิธีจัดซื้อหรือจ้าง | F2: รายชื่อผู้เสนอราคา | G2: ราคาที่เสนอ | H2: ผู้ได้รับการคัดเลือก | I2: ราคาที่ตกลงซื้อหรือจ้าง | J2: เหตุผลที่คัดเลือกโดยสรุป | K2: เลขที่และวันที่ของสัญญาหรือข้อตกลงในการซื้อหรือจ้าง
A3: 1 | B3: ประกวดราคาจ้างก่อสร้างโครงการก่อสร้างถนน คสล. บ้านแม่เฟือง หมู่ที่ 5 (สายที่ 1) | C3: 545700 | D3: 563745.43 | E3: ด้วยวิธีประกวดราคาอิเล็กทรอนิกส์ (e-bidding) | F3: 1.หจก.แสนใจ คอนสตรัคชั่น 2.หจก.สุทธิพันธ์ 2559 3.หจก.อครา เอ็นเตอร์ไพรส 4.บริษัท ชนะชัยธุรกิจการค้า จำกัด | G3: 530,000.00 407,000.00 452,000.00 518,700.00 | H3: ห้างหุ้นส่วนจำกัด สุทธิพันธ์ 2559 | I3: 406500 | J3: เป็นผู้มีคุณสมบัติและข้อเสนอทางเทคนิค ถูกต้องครบถ้วนและเป็นผู้เสนอราคา ต่ำ สุด | K3: 021/2569 | L3: 244321
A4: 2 | B4: จ้างเหมาซ่อมแซมและบำรุงรักษารถยนต์ส่วนกลาง ยี่ห้ออีซูซุ หมายเลขทะเบียน ๘๑-๘๖๖๙ เชียงราย (ครุภัณฑ์เลขที่ ๐๐๕-๕๗-๐๐๐๒) | C4: 264100 | D4: 264100 | E4: วิธีเฉพาะเจาะจง | F4: อู่ช่างอึ่ง | G4: 264100 | H4: อู่ช่างอึ่ง | I4: 264100 | J4: เป็นผู้มีคุณสมบัติตรงตามเงื่อนไขที่กำหนด | K4: 054/2569 | L4: 244260
A5: 3 | B5: ก่อสร้างถนนคอนกรีตเสริมเหล็ก บ้านป่าบง หมู่ที่ 1 | C5: 500007.84 | D5: 500000 | E5: วิธีเฉพาะเจาะจง | F5: หจก.อครา เอ็นเตอร์ไพรส์498 | G5: 498000 | H5: หจก.อครา เอ็นเตอร์ไพรส์498 | I5: 498000 | J5: เป็นผู้มีคุณสมบัติตรงตามเงื่อนไขที่กำหนด | K5: 007/2569 | L5: 244295
A6: 4 | B6: จ้างเหมาซ่อมแซมและบำรุงรักษาครุภัณฑ์เครื่องปริ้นครุภัณฑ์เลขที่ 478-64-0048 | C6: 850 | D6: 850 | E6: วิธีเฉพาะเจาะจง | F6: หจก.ธนาทรัพย์ศิลา | G6: 850 | H6: หจก.ธนาทรัพย์ศิลา | I6: 850 | J6: เป็นผู้มีคุณสมบัติตรงตามเงื่อนไขที่กำหนด | K6: 055/2569 | L6: 244260
A7: 5 | B7: จ้างวางท่อคอนกรีตเสริมเหล็ก พร้อมบ่อพัก บ้านเล่าฝู่ หมู่ที่ 20 (บ้านโป่งป่าแขม) | C7: 250000 | D7: 250142.62 | E7: วิธีเฉพาะเจาะจง | F7: หจก. เอสเอสเค 888 คอนสตรัคชั่น | G7: 249800 | H7: หจก. เอสเอสเค 888 คอนสตรัคชั่น | I7: 249800 | J7: เป็นผู้มีคุณสมบัติตรงตามเงื่อนไขที่กำหนด | K7: 006//2569 | L7: 244294
A8: 6 | B8: จ้างก่อสร้างรางระบายน้ำคอนกรีตเสริมเหล็ก(ตัวยู) บ้านถ้ำ หมู่ที่ 4 (จำนวน 3 ช่วง) | C8: 499400 | D8: 499322.07 | E8: วิธีเฉพาะเจาะจง | F8: หจก.อครา เอ็นเตอร์ไพรส์498 | G8: 498000 | H8: หจก.อครา เอ็นเตอร์ไพรส์498 | I8: 498000 | J8: เป็นผู้มีคุณสมบัติตรงตามเงื่อนไขที่กำหนด | K8: 005/2569 | L8: 244288
A9: 7 | B9: จ้างบำรุงรักษาและซ่อมแซมทรัพย์สิน (สายสัญญาณกล้องวงจรปิด) | C9: 8500 | D9: 8500 | E9: วิธีเฉพาะเจาะจง | F9: หจก.ธนาทรัพย์ศิลา | G9: 8500 | H9: หจก. ธนา ทรัพท์ศิลา | I9: 8500 | J9: เป็นผู้มีคุณสมบัติตรงตามเงื่อนไขที่กำหนด | K9: 056/2569 | L9: 244260
A10: 8 | B10: จัดซื้อซิมอินเตอร์เน็ตแบบรายปี | C10: 2500 | D10: 2500 | E10: วิธีเฉพาะเจาะจง | F10: หจก.ธนาทรัพย์ศิลา | G10: 2500 | H10: หจก. ธนา ทรัพท์ศิลา | I10: 2500 | J10: เป็นผู้มีคุณสมบัติตรงตามเงื่อนไขที่กำหนด | K10: 013/2569 | L10: 244285
A11: 9 | B11: เช่าเตาเผาขยะ จำนวน ๓ เตา ประจำปีงบประมาณ พ.ศ. ๒๕๖๙ | C11: 1212000 | D11: 1212000 | E11: วิธีเฉพาะเจาะจง | F11: บริษัท พลอยไพลิน กรีน เวิลด์ จำกัด1 | H11: บริษัท พลอยไพลิน กรีน เวิลด์ จำกัด1 | I11: 1212000 | J11: เป็นผู้มีคุณสมบัติตรงตามเงื่อนไขที่กำหนด | K11: 005/2569 | L11: 244258
A12: 10 | B12: จ้างเหมาจัดทำตรายาง จำนวน 5 รายการ (กองคลัง) | C12: 2990 | D12: 2990 | E12: วิธีเฉพาะเจาะจง | F12: ร้านเอกบล็อค | G12: 2990 | H12: ร้านเอกบล็อค | I12: 2990 | J12: เป็นผู้มีคุณสมบัติตรงตามเงื่อนไขที่กำหนด | K12: 068/2569 | L12: 244319
A13: 11 | B13: จ้างเหมาจัดทำป้ายประชาสัมพันธ์ กรุณารักษาความสะอาดน้ำพุร้อนป่าตึง | C13: 3950 | D13: 3950 | E13: วิธีเฉพาะเจาะจง | F13: ร้านแม่จันเจริญ ป้ายโฆษณา | G13: 3950 | H13: ร้านแม่จันเจริญ ป้ายโฆษณา | I13: 3950 | J13: เป็นผู้มีคุณสมบัติตรงตามเงื่อนไขที่กำหนด | K13: 069/2569 | L13: 244319
A14: 12 | B14: ซื้อยางรถยนต์พร้อมติดตั้ง รถยนต์ส่วนกลาง ยี่ห้อมิตซูบิชิ หมายเลขทะเบียน กม 9658 เชียงราย ครุภัณฑ์เลขที่ 001-58-0006 | C14: 22000 | D14: 22000 | E14: วิธีเฉพาะเจาะจง | F14: หจก.เอส.เค.ยางยนต์เชียงรา | G14: 22000 | H14: หจก.เอส.เค.ยางยนต์เชียงรา | I14: 22000 | J14: เป็นผู้มีคุณสมบัติตรงตามเงื่อนไขที่กำหนด | K14: 050/2569 | L14: 244319
A15: 13 | B15: ซื้อยางรถยนต์พร้อมติดตั้ง รถยนต์ส่วนกลาง ยี่ห้อมาสด้า หมายเลขทะเบียน กจ 1386 เชียงราย ครุภัณฑ์เลขที่ 001-48-0002 | C15: 15400 | D15: 15400 | E15: วิธีเฉพาะเจาะจง | F15: หจก.เอส.เค.ยางยนต์เชียงรา | G15: 15400 | H15: หจก.เอส.เค.ยางยนต์เชียงรา | I15: 15400 | J15: เป็นผู้มีคุณสมบัติตรงตามเงื่อนไขที่กำหนด | K15: 049/2569 | L15: 244319
A16: 14 | B16: ซื้อครุภัณฑ์สำนักงาน (เครื่องปรับอากาศ) จำนวน 2 เครื่อง | C16: 161800 | D16: 161800 | E16: วิธีเฉพาะเจาะจง | F16: หจก.จิมมี่ ซัพพลาย | G16: 161800 | H16: หจก.จิมมี่ ซัพพลาย | I16: 161800 | J16: เป็นผู้มีคุณสมบัติตรงตามเงื่อนไขที่กำหนด | K16: 002/2569 | L16: 244320
A17: 15 | B17: จ้างเหมาจัดทำตรายาง จำนวน ๙ รายการ | C17: 5340 | D17: 5340 | E17: วิธีเฉพาะเจาะจง | F17: ร้าน จ.มุ่ยเจริญ | G17: 5340 | H17: ร้าน จ.มุ่ยเจริญ | I17: 5340 | J17: เป็นผู้มีคุณสมบัติตรงตามเงื่อนไขที่กำหนด | K17: 066/2569 | L17: 244316
A18: 16 | B18: จ้างเหมาบำรุงรักษารถตักหน้าขุดหลัง หมายเลขทะเบียน ฒฆ 7613 เชียงราย | C18: 20946.32 | D18: 20946.32 | E18: วิธีเฉพาะเจาะจง | F18: บริษัท ชัยรัชการ (กรุงเทพ) จำกัด | G18: 20946.32 | H18: บริษัท ชัยรัชการ (กรุงเทพ) จำกัด | I18: 20946.32 | J18: เป็นผู้มีคุณสมบัติตรงตามเงื่อนไขที่กำหนด | K18: 067/2569 | L18: 244316
A19: 17 | B19: จ้างเหมาซ่อมแซมและเปลี่ยนอะไหล่รถยนต์ส่วนกลาง ยี่ห้อมิตซูบิชิ เลขทะเบียน กร ๒๖๕๐ เชียงราย (ครุภัณฑ์เลขที่ ๐๒๖-๕๙-๐๐๐๑) | C19: 4130 | D19: 4130 | E19: วิธีเฉพาะเจาะจง | F19: บริษัท มิตซูพันล้าน จำกัด4 | G19: 4130 | H19: บริษัท มิตซูพันล้าน จำกัด4 | I19: 4130 | J19: เป็นผู้มีคุณสมบัติตรงตามเงื่อนไขที่กำหนด | K19: 065/2569 | L19: 244316
A20: 18 | B20: จ้างเหมาเครื่องจักรขุดลอกลำเหมือง บ้านโป่งน้ำร้อน หมู่ที่ 11 | C20: 44800 | D20: 44800 | E20: วิธีเฉพาะเจาะจง | F20: หจก.อครา เอ็นเตอร์ไพรส์ | G20: 44800 | H20: หจก.อครา เอ็นเตอร์ไพรส์ | I20: 44800 | J20: เป็นผู้มีคุณสมบัติตรงตามเงื่อนไขที่กำหนด | K20: 063/2569 | L20: 244314
A21: 19 | B21: จ้างปรับปรุงถนนทางการเกษตรในพื้นที่ตำบลป่าตึง อำเภอแม่จัน จังหวัดเชียงราย | C21: 89600 | D21: 89600 | E21: วิธีเฉพาะเจาะจง | F21: หจก.อครา เอ็นเตอร์ไพรส์ | G21: 89600 | H21: หจก.อครา เอ็นเตอร์ไพรส์ | I21: 89600 | J21: เป็นผู้มีคุณสมบัติตรงตามเงื่อนไขที่กำหนด | K21: 020/2569 | L21: 244315
A22: 20 | B22: ซื้อวัสดุคอมพิวเตอร์ จำนวน ๒ รายการ | C22: 7700 | D22: 7700 | E22: วิธีเฉพาะเจาะจง | F22: หจก.ธนาทรัพย์ศิลา | G22: 7700 | H22: หจก.ธนาทรัพย์ศิลา | I22: 7700 | J22: เป็นผู้มีคุณสมบัติตรงตามเงื่อนไขที่กำหนด | K22: 048/2569 | L22: 244314
A23: 21 | B23: ซื้อวัสดุสำนักงาน จำนวน ๑ รายการ | C23: 7500 | D23: 7500 | E23: วิธีเฉพาะเจาะจง | F23: ห้างหุ้นส่วนจำกัด พีเอส เครื่องเขียน | G23: 7500 | H23: ห้างหุ้นส่วนจำกัด พีเอส เครื่องเขียน | I23: 7500 | J23: เป็นผู้มีคุณสมบัติตรงตามเงื่อนไขที่กำหนด | K23: 031/2569 | L23: 244309
... A39: 37 | B39: ก่อสร้างถนนคอนกรีตเสริมเหล็ก เส้นทางการเกษตร บ้านห้วยต่าง หมู่ที่ 16 | C39: 499500 | D39: 521349.82 | E39: วิธีเฉพาะเจาะจง | F39: หจก.ชิง ไห่ ดีเวลลอปเมนท์ | G39: 499400 | H39: หจก.ชิง ไห่ ดีเวลลอปเมนท์ | I39: 499400 | J39: เป็นผู้มีคุณสมบัติตรงตามเงื่อนไขที่กำหนด | K39: 009/2569 | L39: 244299
A40: 38 | B40: จ้างเหมาบุคลากรปฏิบัติงานกองสาธารณสุข ตั้งแต่วันที่ 1 ต.ค. 68 - 30 ก.ย. 68 | C40: 110400 | D40: 110400 | E40: วิธีเฉพาะเจาะจง | F40: น.ส. ดลพร เยเปี่ย | G40: 110400 | H40: น.ส. ดลพร เยเปี่ย | I40: 110400 | J40: เป็นผู้มีอาชีพที่เสนอพัสดุตรงตามวัตถุประสงค์ในการใช้งาน | K40: 001/2569 | L40: 1/10/2568
A41: 39 | B41: จ้างเหมาบุคลากรปฏิบัติงานกองสาธารณสุข ตั้งแต่วันที่ 1 ต.ค. 68 - 30 ก.ย. 68 | C41: 110400 | D41: 110400 | E41: วิธีเฉพาะเจาะจง | F41: น.ส.วิลาพร ธรรมเดช | G41: 110400 | H41: น.ส.วิลาพร ธรรมเดช | I41: 110400 | J41: เป็นผู้มีอาชีพที่เสนอพัสดุตรงตามวัตถุประสงค์ในการใช้งาน | K41: 002/2569 | L41: 1/10/2568
A42: 40 | B42: จ้างบุคลากร เพื่อปฏิบัติงานบริการต่างๆ (กองคลัง) ตั้งแต่วันที่ 1 ต.ค. 68 - 30 ก.ย. 68 | C42: 55200 | D42: 55200 | E42: วิธีเฉพาะเจาะจง | F42: นายพรไชย ไชยทน | G42: 55200 | H42: นายพรไชย ไชยทน | I42: 55200 | J42: เป็นผู้มีอาชีพที่เสนอพัสดุตรงตามวัตถุประสงค์ในการใช้งาน | K42: 003/2569 | L42: 1/10/2568
A43: 41 | B43: จ้างบุคลากร เพื่อปฏิบัติงานบริการต่างๆ (กองคลัง) ตั้งแต่วันที่ 1 ต.ค. 68 - 30 ก.ย. 68 | C43: 54000 | D43: 54000 | E43: วิธีเฉพาะเจาะจง | F43: นายณัฐพงศ์ กุลวงค์ | G43: 54000 | H43: นายณัฐพงศ์ กุลวงค์ | I43: 54000 | J43: เป็นผู้มีอาชีพที่เสนอพัสดุตรงตามวัตถุประสงค์ในการใช้งาน | K43: 004/2569 | L43: 1/10/2568
A44: 42 | B44: จ้างบุคลากร เพื่อปฏิบัติงานบริการต่างๆ (กองช่าง) ตั้งแต่วันที่ 1 ต.ค. 68 - 31 ธ.ค. 68 | C44: 108000 | D44: 108000 | E44: วิธีเฉพาะเจาะจง | F44: น.ส.เกวรินทร์ จินดาธรรม | G44: 108000 | H44: น.ส.เกวรินทร์ จินดาธรรม | I44: 108000 | J44: เป็นผู้มีอาชีพที่เสนอพัสดุตรงตามวัตถุประสงค์ในการใช้งาน | K44: 005/2569 | L44: 1/10/2568
A45: 43 | B45: จ้างบุคลากร เพื่อปฏิบัติงานบริการต่างๆ (กองช่าง) ตั้งแต่วันที่ 1 ต.ค. 68 - 31 ธ.ค. 68 | C45: 27000 | D45: 27000 | E45: วิธีเฉพาะเจาะจง | F45: น.ส.วิสา ขันแก้วบุญเรือง | G45: 27000 | H45: น.ส.วิสา ขันแก้วบุญเรือง | I45: 27000 | J45: เป็นผู้มีอาชีพที่เสนอพัสดุตรงตามวัตถุประสงค์ในการใช้งาน | K45: 006/2569 | L45: 1/10/2568
A46: 44 | B46: จ้างบุคลากร เพื่อปฏิบัติงานบริการต่างๆ (กองช่าง) ตั้งแต่วันที่ 1 ต.ค. 68 - 31 ธ.ค. 68 | C46: 27000 | D46: 27000 | E46: วิธีเฉพาะเจาะจง | F46: น.ส.สาวิตรี เรืองปัญญา | G46: 27000 | H46: น.ส.สาวิตรี เรืองปัญญา | I46: 27000 | J46: เป็นผู้มีอาชีพที่เสนอพัสดุตรงตามวัตถุประสงค์ในการใช้งาน | K46: 007/2569 | L46: 1/10/2568
A47: 45 | B47: จ้างบุคลากร เพื่อปฏิบัติงานบริการต่างๆ (กองช่าง) ตั้งแต่วันที่ 1 ต.ค. 68 - 31 ธ.ค. 68 | C47: 45000 | D47: 45000 | E47: วิธีเฉพาะเจาะจง | F47: นายแทนทร พูนพัฒนาทรัพย์ | G47: 45000 | H47: นายแทนทร พูนพัฒนาทรัพย์ | I47: 45000 | J47: เป็นผู้มีอาชีพที่เสนอพัสดุตรงตามวัตถุประสงค์ในการใช้งาน | K47: 008/2569 | L47: 1/10/2568
A48: 46 | B48: จ้างเหมาบุคลากรงานกำจัดขยะและสิ่งปฏิกูลฯ ตั้งแต่วันที่ 1 ต.ค. 68 - 31 ธ.ค. 68 | C48: 57600 | D48: 57600 | E48: วิธีเฉพาะเจาะจง | F48: นายวิษณุ กองมา | G48: 57600 | H48: นายวิษณุ กองมา | I48: 57600 | J48: เป็นผู้มีอาชีพที่เสนอพัสดุตรงตามวัตถุประสงค์ในการใช้งาน | K48: 009/2569 | L48: 1/10/2568
A49: 47 | B49: จ้างเหมาบุคลากรงานกำจัดขยะและสิ่งปฏิกูลฯ ตั้งแต่วันที่ 1 ต.ค. 68 - 31 ธ.ค. 68 | C49: 57600 | D49: 57600 | E49: วิธีเฉพาะเจาะจง | F49: นายนิคม มาตรักษา | G49: 57600 | H49: นายนิคม มาตรักษา | I49: 57600 | J49: เป็นผู้มีอาชีพที่เสนอพัสดุตรงตามวัตถุประสงค์ในการใช้งาน | K49: 010/2569 | L49: 1/10/2568
A50: 48 | B50: จ้างเหมาบุคลากรงานกำจัดขยะและสิ่งปฏิกูลฯ ตั้งแต่วันที่ 1 ต.ค. 68 - 31 ธ.ค. 68 | C50: 57600 | D50: 57600 | E50: วิธีเฉพาะเจาะจง | F50: นายบุญทา ยืนยงแสน | G50: 57600 | H50: นายบุญทา ยืนยงแสน | I50: 57600 | J50: เป็นผู้มีอาชีพที่เสนอพัสดุตรงตามวัตถุประสงค์ในการใช้งาน | K50: 011/2569 | L50: 1/10/2568
A51: 49 | B51: จ้างเหมาบุคลากรงานกำจัดขยะและสิ่งปฏิกูลฯ ตั้งแต่วันที่ 1 ต.ค. 68 - 31 ธ.ค. 68 | C51: 57600 | D51: 57600 | E51: วิธีเฉพาะเจาะจง | F51: นายอาล่อง เผอเปี๊ยะ | G51: 57600 | H51: นายอาล่อง เผอเปี๊ยะ | I51: 57600 | J51: เป็นผู้มีอาชีพที่เสนอพัสดุตรงตามวัตถุประสงค์ในการใช้งาน | K51: 012/2569 | L51: 1/10/2568
A52: 50 | B52: จ้างเหมาบุคลากรงานกำจัดขยะและสิ่งปฏิกูลฯ ตั้งแต่วันที่ 1 ต.ค. 68 - 31 ธ.ค. 68 | C52: 57600 | D52: 57600 | E52: วิธีเฉพาะเจาะจง | F52: นายดวงจันทร์ วงค์ธานี | G52: 57600 | H52: นายดวงจันทร์ วงค์ธานี | I52: 57600 | J52: เป็นผู้มีอาชีพที่เสนอพัสดุตรงตามวัตถุประสงค์ในการใช้งาน | K52: 013/2569 | L52: 1/10/2568
A53: 51 | B53: จ้างเหมาบุคลากรงานกำจัดขยะและสิ่งปฏิกูลฯ ตั้งแต่วันที่ 1 ต.ค. 68 - 31 ธ.ค. 68 | C53: 57600 | D53: 57600 | E53: วิธีเฉพาะเจาะจง | F53: นายวัลลพ ศรีดวงใจ | G53: 57600 | H53: นายวัลลพ ศรีดวงใจ | I53: 57600 | J53: เป็นผู้มีอาชีพที่เสนอพัสดุตรงตามวัตถุประสงค์ในการใช้งาน | K53: 014/2569 | L53: 244258
A54: 52 | B54: จ้างเหมาบุคลากรงานกำจัดขยะและสิ่งปฏิกูลฯ ตั้งแต่วันที่ 1 ต.ค. 68 - 31 ธ.ค. 68 | C54: 57000 | D54: 57000 | E54: วิธีเฉพาะเจาะจง | F54: นายสมศักดิ์ กำแพงแก้ว | G54: 57000 | H54: นายสมศักดิ์ กำแพงแก้ว | I54: 57000 | J54: เป็นผู้มีอาชีพที่เสนอพัสดุตรงตามวัตถุประสงค์ในการใช้งาน | K54: 015/2569 | L54: 244258
A55: 53 | B55: จ้างเหมบุคลากรงานดูแลสวนสาธาณะสถานที่ท่องเที่ยวน้ำพุร้อนป่าตึง ตั้งแต่วันที่ 1 ต.ค. 68 - 31 ธ.ค. 68 | C55: 27000 | D55: 27000 | E55: วิธีเฉพาะเจาะจง | F55: นายพิชิต ศรีโลเจียว | G55: 27000 | H55: นายพิชิต ศรีโลเจียว | I55: 27000 | J55: เป็นผู้มีอาชีพที่เสนอพัสดุตรงตามวัตถุประสงค์ในการใช้งาน | K55: 016/2569 | L55: 244258
A56: 54 | B56: จ้างเหมบุคลากรงานดูแลสวนสาธาณะสถานที่ท่องเที่ยวน้ำพุร้อนป่าตึง ตั้งแต่วันที่ 1 ต.ค. 68 - 31 ธ.ค. 68 | C56: 110400 | D56: 110400 | E56: วิธีเฉพาะเจาะจง | F56: นายสมศักดิ์ คืนมาเมือง | G56: 110400 | H56: นายสมศักดิ์ คืนมาเมือง | I56: 110400 | J56: เป็นผู้มีอาชีพที่เสนอพัสดุตรงตามวัตถุประสงค์ในการใช้งาน | K56: 017/2569 | L56: 244258
A57: 55 | B57: จ้างเหมบุคลากรงานดูแลสวนสาธาณะสถานที่ท่องเที่ยวน้ำพุร้อนป่าตึง ตั้งแต่วันที่ 1 ต.ค. 68 - 31 ธ.ค. 68 | C57: 110400 | D57: 110400 | E57: วิธีเฉพาะเจาะจง | F57: นายชยพล ผลสว่าง | G57: 110400 | H57: นายชยพล ผลสว่าง | I57: 110400 | J57: เป็นผู้มีอาชีพที่เสนอพัสดุตรงตามวัตถุประสงค์ในการใช้งาน | K57: 018/2569 | L57: 244258
A58: 56 | B58: จ้างเหมบุคลากรงานดูแลสวนสาธาณะสถานที่ท่องเที่ยวน้ำพุร้อนป่าตึง ตั้งแต่วันที่ 1 ต.ค. 68 - 31 ธ.ค. 68 | C58: 110400 | D58: 110400 | E58: วิธีเฉพาะเจาะจง | F58: นายสมเพชร ชุ่มใจ | G58: 110400 | H58: นายสมเพชร ชุ่มใจ | I58: 110400 | J58: เป็นผู้มีอาชีพที่เสนอพัสดุตรงตามวัตถุประสงค์ในการใช้งาน | K58: 019/2569 | L58: 244258
A59: 57 | B59: จ้างเหมบุคลากรงานดูแลสวนสาธาณะสถานที่ท่องเที่ยวน้ำพุร้อนป่าตึง ตั้งแต่วันที่ 1 ต.ค. 68 - 31 ธ.ค. 68 | C59: 81000 | D59: 81000 | E59: วิธีเฉพาะเจาะจง | F59: นางศรีวรรณ ฟูคำ | G59: 81000 | H59: นางศรีวรรณ ฟูคำ | I59: 81000 | J59: เป็นผู้มีอาชีพที่เสนอพัสดุตรงตามวัตถุประสงค์ในการใช้งาน | K59: 020/2569 | L59: 244258
A60: 58 | B60: จ้างเหมาบุคลากรเพื่อปฏิบัติงานในเขต อบต. ป่าตึง ตั้งแต่วันที่ 1 ต.ค. 68 - 30 มิ.ย. 69 | C60: 110400 | D60: 110400 | E60: วิธีเฉพาะเจาะจง | F60: นางพูนสุข จันอิน | G60: 110400 | H60: นางพูนสุข จันอิน | I60: 110400 | J60: เป็นผู้มีอาชีพที่เสนอพัสดุตรงตามวัตถุประสงค์ในการใช้งาน | K60: 021/2569 | L60: 244258
A61: 59 | B61: จ้างเหมาบุคลากรสำนักปลัด เพื่อปฏิบัติงานบริการต่างๆ ตั้งแต่วันที่ 1 ต.ค. 68 - 31 ธ.ค. 67 | C61: 81000 | D61: 81000 | E61: วิธีเฉพาะเจาะจง | F61: นายสมัย สุขโน | G61: 81000 | H61: นายสมัย สุขโน | I61: 81000 | J61: เป็นผู้มีอาชีพที่เสนอพัสดุตรงตามวัตถุประสงค์ในการใช้งาน | K61: 022/2569 | L61: 244258
A62: 60 | B62: จ้างเหมาบุคลากรสำนักปลัด เพื่อปฏิบัติงานบริการต่างๆ ตั้งแต่วันที่ 1 ต.ค. 68 - 31 ธ.ค. 68 | C62: 18000 | D62: 18000 | E62: วิธีเฉพาะเจาะจง | F62: น.ส.เล็กลงวรรณ ใจยะ | G62: 18000 | H62: น.ส.เล็กลงวรรณ ใจยะ | I62: 18000 | J62: เป็นผู้มีอาชีพที่เสนอพัสดุตรงตามวัตถุประสงค์ในการใช้งาน | K62: 023/2569 | L62: 244258
A63: 61 | B63: จ้างเหมาบุคลากรสำนักปลัด เพื่อปฏิบัติงานบริการต่างๆ ตั้งแต่วันที่ 1 ต.ค. 68 - 31 ธ.ค. 68 | C63: 110400 | D63: 110400 | E63: วิธีเฉพาะเจาะจง | F63: นายอุดร ดาวรื่น | G63: 110400 | H63: นายอุดร ดาวรื่น | I63: 110400 | J63: เป็นผู้มีอาชีพที่เสนอพัสดุตรงตามวัตถุประสงค์ในการใช้งาน | K63: 024/2569 | L63: 244258
A64: 62 | B64: จ้างบุคลากร เพื่อปฏิบัติงานบริการต่างๆ (งานป้องกันฯ) ตั้งแต่วันที่ 1 ต.ค. 68 - 31 ธ.ค. 68 | C64: 27880 | D64: 27880 | E64: วิธีเฉพาะเจาะจง | F64: นายพงษ์สิทธ์ ยืนยงแสน | G64: 27880 | H64: นายพงษ์สิทธ์ ยืนยงแสน | I64: 27880 | J64: เป็นผู้มีอาชีพที่เสนอพัสดุตรงตามวัตถุประสงค์ในการใช้งาน | K64: 025/2569 | L64: 244258
... A100: 98 | B100: จ้างเหมาจัดทำอาหารว่างพร้อมเครื่องดื่ม และอาหารกลางวัน การสอบภาค ค. และประชุมกรรมการสอบคัดเลือก | C100: 3040 | D100: 3040 | E100: วิธีเฉพาะเจาะจง | F100: นางอัมรา คำซอน | G100: 3040 | H100: นางอัมรา คำซอน | I100: 3040 | J100: เป็นผู้มีอาชีพที่เสนอพัสดุตรงตามวัตถุประสงค์ในการใช้งาน | K100: ไม่มีเลขที่สัญญาเนื่องจากการจัดซื้อจัดจ้างตามหนังสือ ด่วนที่สุด ที่ กค (กวจ) 0405.5/ว119 | L100: 244287
A101: 99 | B101: จ้างเหมาจัดทำตรายาง จำนวน 5 รายการ (กองคลัง) | C101: 2990 | D101: 2990 | E101: โดยวิธีเฉพาะเจาะจง | F101: ร้านเอกบล็อค | G101: 2990 | H101: ร้านเอกบล็อค | I101: 2990 | J101: เป็นผู้มีคุณสมบัติตรงตามเงื่อนไขที่กำหนด | K101: 068/2569 | L101: 01/12/2568
A102: 100 | B102: จ้างเหมาจัดทำป้ายประชาสัมพันธ์ กรุณารักษาความสะอาดน้ำพุร้อนป่าตึง | C102: 3950 | D102: 3950 | E102: โดยวิธีเฉพาะเจาะจง | F102: ร้านแม่จันเจริญ ป้ายโฆษณา | G102: 3950 | H102: ร้านแม่จันเจริญ ป้ายโฆษณา | I102: 3950 | J102: เป็นผู้มีคุณสมบัติตรงตามเงื่อนไขที่กำหนด | K102: 069/2569 | L102: 244319
A103: 101 | B103: ซื้อยางรถยนต์พร้อมติดตั้ง รถยนต์ส่วนกลาง ยี่ห้อมิตซูบิชิ หมายเลขทะเบียน กม 9658 เชียงราย ครุภัณฑ์เลขที่ 001-58-0006 | C103: 22000 | D103: 22000 | E103: โดยวิธีเฉพาะเจาะจง | F103: หจก.เอส.เค.ยางยนต์เชียงราย | G103: 22000 | H103: หจก.เอส.เค.ยางยนต์เชียงราย | I103: 22000 | J103: เป็นผู้มีคุณสมบัติตรงตามเงื่อนไขที่กำหนด | K103: 050/2569 | L103: 244319
A104: 102 | B104: ซื้อยางรถยนต์พร้อมติดตั้ง รถยนต์ส่วนกลาง ยี่ห้อมาสด้า หมายเลขทะเบียน กจ 1386 เชียงราย ครุภัณฑ์เลขที่ 001-48-0002 | C104: 13400 | D104: 13400 | E104: โดยวิธีเฉพาะเจาะจง | F104: หจก.เอส.เค.ยางยนต์เชียงราย | G104: 13400 | H104: หจก.เอส.เค.ยางยนต์เชียงราย | I104: 13400 | J104: เป็นผู้มีคุณสมบัติตรงตามเงื่อนไขที่กำหนด | K104: 049/2569 | L104: 244319
A105: 103 | B105: ซื้อครุภัณฑ์สำนักงาน (เครื่องปรับอากาศ) จำนวน 2 เครื่อง | C105: 161800 | D105: 161800 | E105: โดยวิธีเฉพาะเจาะจง | F105: ห้างหุ้นส่วนจำกัด จิมมี่ ซัพพลาย | G105: 161800 | H105: ห้างหุ้นส่วนจำกัด จิมมี่ ซัพพลาย | I105: 161800 | J105: เป็นผู้มีคุณสมบัติตรงตามเงื่อนไขที่กำหนด | K105: 002/2569 | L105: 244320
A106: 104 | B106: จ้างเหมาจัดทำตรายาง จำนวน ๙ รายการ | C106: 5340 | D106: 5340 | E106: โดยวิธีเฉพาะเจาะจง | F106: ร้าน จ.มุ่ยเจริญ | G106: 5340 | H106: ร้าน จ.มุ่ยเจริญ | I106: 5340 | J106: เป็นผู้มีคุณสมบัติตรงตามเงื่อนไขที่กำหนด | K106: 066/2569 | L106: 244316
A107: 105 | B107: จ้างเหมาบำรุงรักษารถตักหน้าขุดหลัง หมายเลขทะเบียน ฒฆ 7613 เชียงราย | C107: 20946.32 | D107: 20946.32 | E107: โดยวิธีเฉพาะเจาะจง | F107: บริษัท ชัยรัชการ (กรุงเทพ) จำกัด | G107: 20946.32 | H107: บริษัท ชัยรัชการ (กรุงเทพ) จำกัด | I107: 20946.32 | J107: เป็นผู้มีคุณสมบัติตรงตามเงื่อนไขที่กำหนด | K107: 067/2569 | L107: 244316
A108: 106 | B108: จ้างเหมาซ่อมแซมและเปลี่ยนอะไหล่รถยนต์ส่วนกลาง ยี่ห้อมิตซูบิชิ เลขทะเบียน กร ๒๖๕๐ เชียงราย (ครุภัณฑ์เลขที่ ๐๒๖-๕๙-๐๐๐๑) | C108: 4130.2 | D108: 4130.2 | E108: โดยวิธีเฉพาะเจาะจง | F108: บริษัท มิตซูพันล้าน จำกัด | G108: 4130.2 | H108: บริษัท มิตซูพันล้าน จำกัด | I108: 4130.2 | J108: เป็นผู้มีคุณสมบัติตรงตามเงื่อนไขที่กำหนด | K108: 065/2569 | L108: 28/11/2568
A109: 107 | B109: จ้างเหมาเครื่องจักรขุดลอกลำเหมือง บ้านโป่งน้ำร้อน หมู่ที่ 11 ตำบลป่าตึง อำเภอแม่จัน จังหวัดเชียงราย | C109: 44800 | D109: 44800 | E109: โดยวิธีเฉพาะเจาะจง | F109: ห้างหุ้นส่วนจำกัด อครา เอ็นเตอร์ไพรส์ | G109: 44800 | H109: ห้างหุ้นส่วนจำกัด อครา เอ็นเตอร์ไพรส์ | I109: 44800 | J109: เป็นผู้มีคุณสมบัติตรงตามเงื่อนไขที่กำหนด | K109: 063/2569 | L109: 26/11/2568
A110: 108 | B110: จ้างปรับปรุงถนนทางการเกษตรในพื้นที่ตำบลป่าตึง อำเภอแม่จัน จังหวัดเชียงราย | C110: 89632.54 | D110: 89632.54 | E110: โดยวิธีเฉพาะเจาะจง | F110: ห้างหุ้นส่วนจำกัด อครา เอ็นเตอร์ไพรส์ | G110: 89600 | H110: ห้างหุ้นส่วนจำกัด อครา เอ็นเตอร์ไพรส์ | I110: 89600 | J110: เป็นผู้มีคุณสมบัติตรงตามเงื่อนไขที่กำหนด | K110: 020/2569 | L110: 27/11/2568
A111: 109 | B111: ซื้อวัสดุคอมพิวเตอร์ จำนวน ๒ รายการ | C111: 7700 | D111: 7700 | E111: โดยวิธีเฉพาะเจาะจง | F111: ห้างหุ้นส่วนจำกัด ธนาทรัพย์ศิลา | G111: 7700 | H111: ห้างหุ้นส่วนจำกัด ธนาทรัพย์ศิลา | I111: 7700 | J111: เป็นผู้มีคุณสมบัติตรงตามเงื่อนไขที่กำหนด | K111: 048/2569 | L111: 244314
A112: 110 | B112: ซื้อวัสดุสำนักงาน จำนวน ๑ รายการ | C112: 7500 | D112: 7500 | E112: โดยวิธีเฉพาะเจาะจง | F112: ห้างหุ้นส่วนจำกัด พีเอส เครื่องเขียน | G112: 7500 | H112: ห้างหุ้นส่วนจำกัด พีเอส เครื่องเขียน | I112: 7500 | J112: เป็นผู้มีคุณสมบัติตรงตามเงื่อนไขที่กำหนด | K112: 031/2569 | L112: 21/11/2568
A113: 111 | B113: จ้างเหมาจัดทำสื่อประชาสัมพันธ์แจ้งข้อมูลติดต่อและรายงานผลการปฏิบัติงาน องค์การบริหารส่วนตำบลป่าตึง และประชาสัมพันธ์แหล่งท่องเที่ยวตำบลป่าตึง | C113: 87500 | D113: 87500 | E113: โดยวิธีเฉพาะเจาะจง | F113: คอมพ์ แอนด์ อาร์ต การพิมพ์ | G113: 87500 | H113: คอมพ์ แอนด์ อาร์ต การพิมพ์ | I113: 87500 | J113: เป็นผู้มีคุณสมบัติตรงตามเงื่อนไขที่กำหนด | K113: 061/2569 | L113: 21/11/2568
A114: 112 | B114: จ้างวางท่อระบายน้ำคอนกรีตเสริมเหล็ก พร้อมก่อสร้างอุโมงค์ บ้านท่าต้นแฟน หมู่ที่ 3 ตำบลป่าตึง อำเภอแม่จัน จังหวัดเชียงราย | C114: 500000 | D114: 502293.18 | E114: โดยวิธีเฉพาะเจาะจง | F114: ห้างหุ้นส่วนจำกัด อครา เอ็นเตอร์ไพรส์ | G114: 498000 | H114: ห้างหุ้นส่วนจำกัด อครา เอ็นเตอร์ไพรส์ | I114: 498000 | J114: เป็นผู้มีคุณสมบัติตรงตามเงื่อนไขที่กำหนด | K114: 018/2569 | L114: 21/11/2568
A115: 113 | B115: จ้างเหมาจัดทำตรายาง จำนวน 23 อัน | C115: 4880 | D115: 4880 | E115: โดยวิธีเฉพาะเจาะจง | F115: ร้านเอกบล็อค | G115: 4880 | H115: ร้านเอกบล็อค | I115: 4880 | J115: เป็นผู้มีคุณสมบัติตรงตามเงื่อนไขที่กำหนด | K115: 062/2569 | L115: 244314
A116: 114 | B116: จ้างก่อสร้างท่อลอดเหลี่ยมคอนกรีตเสริมเหล็ก ชนิดช่องเดียว พร้อมกำแพงปากท่อลอดเหลี่ยมคอนกรีตเสริมเหล็ก บ้านใหม่เจริญ หมู่ที่ 18 (จำนวน 2 จุด) ตำบลป่าตึง อำเภอแม่จันจังหวัดเชียงราย | C116: 436000 | D116: 443447.27 | E116: โดยวิธีเฉพาะเจาะจง | F116: ห้างหุ้นส่วนจำกัด ชิง ไห่ ดีเวลลอปเมนท์ | G116: 435000 | H116: ห้างหุ้นส่วนจำกัด ชิง ไห่ ดีเวลลอปเมนท์ | I116: 435000 | J116: เป็นผู้มีคุณสมบัติตรงตามเงื่อนไขที่กำหนด | K116: 019/2569 | L116: 244312
A117: 115 | B117: จ้างก่อสร้างดาดคอนกรีต หมู่ที่ 15 (บ้านป่าบงงามบน) ตำบลป่าตึง อำเภอแม่จัน จังหวัดเชียงราย | C117: 100000 | D117: 99644.79 | E117: โดยวิธีเฉพาะเจาะจง | F117: ห้างหุ้นส่วนจำกัด ชิงหลง คอนสทรัคชั่น | G117: 99600 | H117: ห้างหุ้นส่วนจำกัด ชิงหลง คอนสทรัคชั่น | I117: 99600 | J117: เป็นผู้มีคุณสมบัติตรงตามเงื่อนไขที่กำหนด | K117: 016/2569 | L117: 19/11/2568
A118: 116 | B118: จ้างก่อสร้างรางระบายน้ำคอนกรีตเสริมเหล็ก (ตัวยู) พร้อมฝาปิดตะแกรงเหล็กและฝาปิดคอนกรีต บ้านสันติสุข หมู่ที่ 19 (บ้านเฮโก) ตำบลป่าตึง อำเภอแม่จัน จังหวัดเชียงราย | C118: 250000 | D118: 252598.86 | E118: โดยวิธีเฉพาะเจาะจง | F118: ห้างหุ้นส่วนจำกัด ไทยนุรัฐพัฒนก่อสร้าง | G118: 249200 | H118: ห้างหุ้นส่วนจำกัด ไทยนุรัฐพัฒนก่อสร้าง | I118: 249200 | J118: เป็นผู้มีคุณสมบัติตรงตามเงื่อนไขที่กำหนด | K118: 017/2569 | L118: 19/11/2568
A119: 117 | B119: ประกวดราคาจ้างก่อสร้างโครงการก่อสร้างถนน คสล. บ้านแม่เฟือง หมู่ที่ 5 (สายที่ 1) ตำบลป่าตึง อำเภอแม่จัน จังหวัดเชียงราย | C119: 545700 | D119: 563745.43 | E119: ด้วยวิธีประกวดราคาอิเล็กทรอนิกส์ (e-bidding) | F119: ห้างหุ้นส่วนจำกัด สุทธิพันธ์ 2559 | G119: 406500 | H119: ห้างหุ้นส่วนจำกัด สุทธิพันธ์ 2559 | I119: 406500 | J119: เป็นผู้มีคุณสมบัติและข้อเสนอทางเทคนิคถูกต้องครบถ้วนและเป็นผู้เสนอราคา ต่ำสุด | K119: 021/2569 | L119: 03/12/2568
A120: 118 | B120: จ้างเหมาซ่อมแซมและเปลี่ยนอะไหล่รถยนต์ส่วนกลาง ยี่ห้อมิตซูบิชิ เลขทะเบียน กร ๒๖๕๐ เชียงราย | C120: 5796.19 | D120: 5796.19 | E120: โดยวิธีเฉพาะเจาะจง | F120: บริษัท มิตซูพันล้าน จำกัด | G120: 5796.19 | H120: บริษัท มิตซูพันล้าน จำกัด | I120: 5796.19 | J120: เป็นผู้มีคุณสมบัติตรงตามเงื่อนไขที่กำหนด | K120: 059/2569 | L120: 14/11/2568
A121: 119 | B121: ซื้อวัสดุแบบพิมพ์งานเลือกตั้ง จำนวน ๖ รายการ | C121: 16507 | D121: 16507 | E121: โดยวิธีเฉพาะเจาะจง | F121: โรงพิมพ์อาสารักษาดินแดน กรมการปกครอง | G121: 16507 | H121: โรงพิมพ์อาสารักษาดินแดน กรมการปกครอง | I121: 16507 | J121: เป็นผู้มีคุณสมบัติตรงตามเงื่อนไขที่กำหนด | K121: 030/2569 | L121: 14/11/2568
A122: 120 | B122: จ้างบำรุงรักษาและซ่อมแซมทรัพย์สิน (สายสัญญาณกล้องวงจรปิด) จำนวน ๒ งาน | C122: 13500 | D122: 13500 | E122: โดยวิธีเฉพาะเจาะจง | F122: ห้างหุ้นส่วนจำกัด ธนาทรัพย์ศิลา | G122: 13500 | H122: ห้างหุ้นส่วนจำกัด ธนาทรัพย์ศิลา | I122: 13500 | J122: เป็นผู้มีคุณสมบัติตรงตามเงื่อนไขที่กำหนด | K122: 058/2569 | L122: 12/11/2568
A123: 121 | B123: จ้างก่อสร้างท่อลอดเหลี่ยมคอนกรีตเสริมเหล็ก ขนาดช่องเดียว พร้อมกำแพงปากท่อลอดเหลี่ยมคอนกรีตเสริมเหล็ก บ้านเล่าฝู่ หมู่ที่ 20 (บ้านจะหยี) ตำบลป่าตึง อำเภอแม่จันจังหวัดเชียงราย | C123: 250000 | D123: 251234.87 | E123: โดยวิธีเฉพาะเจาะจง | F123: ห้างหุ้นส่วนจำกัด เอสเอสเค 888 คอนสตรัคชั่น | G123: 249800 | H123: ห้างหุ้นส่วนจำกัด เอสเอสเค 888 คอนสตรัคชั่น | I123: 249800 | J123: เป็นผู้มีคุณสมบัติตรงตามเงื่อนไขที่กำหนด | K123: 015/2568 | L123: 244306
A124: 122 | B124: จ้างก่อสร้างท่อลอดเหลี่ยมคอนกรีตเสริมเหล็ก ชนิดช่องเดียว พร้อมกำแพงปากท่อลอดเหลี่ยม คสล. บ้านอาแหยะ หมู่ที่ 16 ตำบลป่าตึง อำเภอแม่จัน จังหวัดเชียงราย | C124: 250000 | D124: 258295.54 | E124: โดยวิธีเฉพาะเจาะจง | F124: ห้างหุ้นส่วนจำกัด ไทยนุรัฐพัฒนก่อสร้าง | G124: 249700 | H124: ห้างหุ้นส่วนจำกัด ไทยนุรัฐพัฒนก่อสร้าง | I124: 249700 | J124: เป็นผู้มีคุณสมบัติตรงตามเงื่อนไขที่กำหนด | K124: 014/2569 | L124: 17/11/2568
A125: 123 | B125: จ้างก่อสร้างถังเก็บน้ำคอนกรีตเสริมเหล็ก บ้านห้วยก้างปลา หมู่ที่ 15 (บ้านห้วยยาโนบน) ตำบลป่าตึง อำเภอแม่จัน จังหวัดเชียงราย | C125: 250000 | D125: 252994.26 | E125: โดยวิธีเฉพาะเจาะจง | F125: ห้างหุ้นส่วนจำกัด ชิง ไห่ ดีเวลลอปเมนท์ | G125: 249900 | H125: ห้างหุ้นส่วนจำกัด ชิง ไห่ ดีเวลลอปเมนท์ | I125: 249900 | J125: เป็นผู้มีคุณสมบัติตรงตามเงื่อนไขที่กำหนด | K125: 013/2568 | L125: 17/11/2568
A126: 124 | B126: จ้างเหมาล้างทำความสะอาดเครื่องปรับอากาศ จำนวน ๑๒ เครื่อง | C126: 27600 | D126: 27600 | E126: โดยวิธีเฉพาะเจาะจง | F126: ห้างหุ้นส่วนจำกัด จิมมี่ ซัพพลาย | G126: 27600 | H126: ห้างหุ้นส่วนจำกัด จิมมี่ ซัพพลาย | I126: 27600 | J126: เป็นผู้มีคุณสมบัติตรงตามเงื่อนไขที่กำหนด | K126: 057/2569 | L126: 244300
A127: 125 | B127: จ้างก่อสร้างรางส่งน้ำคอนกรีตเสริมเหล็ก (ตัวยู) เส้นทุ่งหลวง ตำบลป่าตึง อำเภอแม่จัน จังหวัดเชียงราย | C127: 500000 | D127: 491938.13 | E127: โดยวิธีเฉพาะเจาะจง | F127: ห้างหุ้นส่วนจำกัด อครา เอ็นเตอร์ไพรส์ | G127: 491000 | H127: ห้างหุ้นส่วนจำกัด อครา เอ็นเตอร์ไพรส์ | I127: 491000 | J127: เป็นผู้มีคุณสมบัติตรงตามเงื่อนไขที่กำหนด | K127: 008/2569 | L127: 07/11/2568
A128: 126 | B128: จ้างก่อสร้างรางระบายน้ำคอนกรีตเสริมเหล็ก (ตัวยู) บ้านห้วยยาโน หมู่ที่ 12 (บ้านปางผักฮี้) จำนวน 2 ช่วง ตำบลป่าตึง อำเภอแม่จัน จังหวัดเชียงราย | C128: 250000 | D128: 249813.9 | E128: โดยวิธีเฉพาะเจาะจง | F128: ห้างหุ้นส่วนจำกัด ชิงหลง คอนสทรัคชั่น | G128: 248900 | H128: ห้างหุ้นส่วนจำกัด ชิงหลง คอนสทรัคชั่น | I128: 248900 | J128: เป็นผู้มีคุณสมบัติตรงตามเงื่อนไขที่กำหนด | K128: 010/2569 | L128: 244299
A129: 127 | B129: จ้างก่อสร้างถนนคอนกรีตเสริมเหล็ก เส้นทางการเกษตร บ้านห้วยต่าง หมู่ที่ 16 ตำบลป่าตึง อำเภอแม่จัน จังหวัดเชียงราย | C129: 499500 | D129: 521349.82 | E129: โดยวิธีเฉพาะเจาะจง | F129: ห้างหุ้นส่วนจำกัด ชิง ไห่ ดีเวลลอปเมนท์ | G129: 499400 | H129: ห้างหุ้นส่วนจำกัด ชิง ไห่ ดีเวลลอปเมนท์ | I129: 499400 | J129: เป็นผู้มีคุณสมบัติตรงตามเงื่อนไขที่กำหนด | K129: 009/2569 | L129: 244299
A130: 128 | B130: จ้างก่อสร้างถังเก็บน้ำคอนกรีตเสริมเหล็ก บ้านสันติสุข หมู่ที่ 19 (บ้านกิ่วสะไต) ตำบลป่าตึง อำเภอแม่จัน จังหวัดเชียงราย | C130: 250000 | D130: 253340.93 | E130: โดยวิธีเฉพาะเจาะจง | F130: ห้างหุ้นส่วนจำกัด ไทยนุรัฐพัฒนก่อสร้าง | G130: 249700 | H130: ห้างหุ้นส่วนจำกัด ไทยนุรัฐพัฒนก่อสร้าง | I130: 249700 | J130: เป็นผู้มีคุณสมบัติตรงตามเงื่อนไขที่กำหนด | K130: 011/2569 | L130: 244299
A131: 129 | B131: จ้างก่อสร้างรางระบายน้ำคอนกรีตเสริมเหล็ก (ตัวยู) พร้อมฝาปิดตะแกรงเหล้ก บ้านสันติสุข หมู่ที่ 19 (บ้านหล่อชา) ตำบลป่าตึง อำเภอแม่จัน จังหวัดเชียงราย | C131: 250000 | D131: 257670.31 | E131: โดยวิธีเฉพาะเจาะจง | F131: ห้างหุ้นส่วนจำกัด ชิงหลง คอนสทรัคชั่น | G131: 249900 | H131: ห้างหุ้นส่วนจำกัด ชิงหลง คอนสทรัคชั่น | I131: 249900 | J131: เป็นผู้มีคุณสมบัติตรงตามเงื่อนไขที่กำหนด | K131: 012/2569 | L131: 244299
A132: 130 | B132: จ้างเหมาจัดทำอาหารว่างพร้อมเครื่องดื่มและอาหารกลางวัน ประชุม ศบกต.ป่าตึง ประจำเดือนพฤศจิกายน 2568 | C132: 4650 | D132: 4650 | E132: โดยวิธีเฉพาะเจาะจง | F132: นางแก้วมาเรือน จขุเนตร | G132: 4650 | H132: นางแก้วมาเรือน จขุเนตร | I132: 4650 | J132: เป็นผู้มีอาชีพที่เสนอพัสดุตรงตามวัตถุประสงค์ในการใช้งาน | K132: ไม่มีเลขที่สัญญาเนื่องจากการจัดซื้อจัดจ้างตามหนังสือ ด่วนที่สุด ที่ กค (กวจ) 0405.5/ว119 | L132: 244298
A133: 131 | B133: จ้างเหมาจัดทำอาหารว่างพร้อมเครื่องดื่มและอาหารกลางวัน ประชุมสภา 13 พ.ย.2568 | C133: 6200 | D133: 6200 | E133: โดยวิธีเฉพาะเจาะจง | F133: นางแก้วมาเรือน จขุเนตร | G133: 6200 | H133: นางแก้วมาเรือน จขุเนตร | I133: 6200 | J133: เป็นผู้มีอาชีพที่เสนอพัสดุตรงตามวัตถุประสงค์ในการใช้งาน | K133: ไม่มีเลขที่สัญญาเนื่องจากการจัดซื้อจัดจ้างตามหนังสือ ด่วนที่สุด ที่ กค (กวจ) 0405.5/ว119 | L133: 244299
A134: 132 | B134: ค่าจ้างเหมาจัดทำพวงมาลา + พานพุม 25 พฤศจิกายน 2568 | C134: 2000 | D134: 2000 | E134: โดยวิธีเฉพาะเจาะจง | F134: นางชญานันท์ ซางสุภาพ | G134: 2000 | H134: นางชญานันท์ ซางสุภาพ | I134: 2000 | J134: เป็นผู้มีอาชีพที่เสนอพัสดุตรงตามวัตถุประสงค์ในการใช้งาน | K134: ไม่มีเลขที่สัญญาเนื่องจากการจัดซื้อจัดจ้างตามหนังสือ ด่วนที่สุด ที่ กค (กวจ) 0405.5/ว119 | L134: 244313
A135: 133 | B135: จ้างเหมาบุคลากรกองคลัง เพื่อปฏิบัติงานด้านเอกสารต่างๆ ตั้งแต่วันที่ 1 ธ.ค. 68 - 28 ก.พ. 68 | C135: 27000 | D135: 27000 | E135: โดยวิธีเฉพาะเจาะจง | F135: นางสาวปฐมมาวดี ซือสวัสดิ์พาณิชย์ | G135: 27000 | H135: นางสาวปฐมมาวดี ซือสวัสดิ์พาณิชย์ | I135: 27000 | J135: เป็นผู้มีอาชีพที่เสนอพัสดุตรงตามวัตถุประสงค์ในการใช้งาน | K135: ไม่มีเลขที่สัญญาเนื่องจากการจัดซื้อจัดจ้างตามหนังสือ ด่วนที่สุด ที่ กค (กวจ) 0405.5/ว119 | L135: 244312
A136: 134 | B136: จ้างเหมาซ่อมแซมรถจักรยานยนต์ส่วนกลาง หมายเลขทะเบียน ขฉท 902 เชียงราย สำหรับกองการศึกษา ศาสนาและวัฒนธรรม | C136: 2400 | D136: 2400 | E136: โดยวิธีเฉพาะเจาะจง | F136: นายศราวุธ จันพุดซา | G136: 2400 | H136: นายศราวุธ จันพุดซา | I136: 2400 | J136: เป็นผู้มีคุณสมบัติตรงตามเงื่อนไขที่กำหนด | K136: 101/2569 | L136: 244354
A137: 135 | B137: ซื้อวัสดุเพื่อปรับปรุงซ่อมแซมคอสะพานและไหล่ทางถนน | C137: 4200 | D137: 4200 | E137: โดยวิธีเฉพาะเจาะจง | F137: บริษัท แม่จันคอนกรีต (999) จำกัด | G137: 4200 | H137: บริษัท แม่จันคอนกรีต (999) จำกัด | I137: 4200 | J137: เป็นผู้มีคุณสมบัติตรงตามเงื่อนไขที่กำหนด | K137: 066/2569 | L137: 244348
A138: 136 | B138: ซื้อคอนกรีตผสมเสร็จ เพื่อใช้ซ่อมแซมถนนบ้านป่าบงงามบน หมู่ที่ ๑๕ ตำบลป่าตึง อำเภอแม่จัน จังหวัดเชียงราย | C138: 5640 | D138: 5640 | E138: โดยวิธีเฉพาะเจาะจง | F138: ห้างหุ้นส่วนจำกัด พีที คอนกรีต | G138: 5640 | H138: ห้างหุ้นส่วนจำกัด พีที คอนกรีต | I138: 5640 | J138: เป็นผู้มีคุณสมบัติตรงตามเงื่อนไขที่กำหนด | K138: 065/2569 | L138: 244348
A139: 137 | B139: จ้างเหมาทำป้ายประชาสัมพันธ์รณรงค์ประชาสัมพันธ์การเลือกตั้งตามโครงการหมู่บ้านพลเมืองดีวิธีประชาธิปไตย | C139: 8960 | D139: 8960 | E139: โดยวิธีเฉพาะเจาะจง | F139: รุ่งเรืองปริ้น 99 | G139: 8960 | H139: รุ่งเรืองปริ้น 99 | I139: 8960 | J139: เป็นผู้มีคุณสมบัติตรงตามเงื่อนไขที่กำหนด | K139: 095/2569 | L139: 244348
... A143: 141 | B143: จ้างเหมาซ่อมแซมกระเบื้องพื้นอาคารสำนักงานที่ทำการองค์การบริหารส่วนตำบลป่าตึง อำเภอแม่จัน จังหวัดเชียงราย | C143: 10004.31 | D143: 10004.31 | E143: โดยวิธีเฉพาะเจาะจง | F143: นายคณภรณ์ จันสิงห์ | G143: 10004.31 | H143: นายคณภรณ์ จันสิงห์ | I143: 10004.31 | J143: เป็นผู้มีคุณสมบัติตรงตามเงื่อนไขที่กำหนด | K143: 092/2569 | L143: 244348
A144: 142 | B144: ซื้อวัสดุแบบพิมพ์งานเลือกตั้ง จำนวน ๔ รายการ | C144: 7280 | D144: 7280 | E144: โดยวิธีเฉพาะเจาะจง | F144: โรงพิมพ์อาสารักษาดินแดน กรมการปกครอง | G144: 7280 | H144: โรงพิมพ์อาสารักษาดินแดน กรมการปกครอง | I144: 7280 | J144: เป็นผู้มีคุณสมบัติตรงตามเงื่อนไขที่กำหนด | K144: 064/2569 | L144: 29/12/2568
A145: 143 | B145: จ้างเหมาซ่อมแซมและบำรุงรักษาครุภัณฑ์เครื่องคอมพิวเตอร์ (ครุภัณฑ์เลขที่ ๔๑๖-๖๒-๐๑๔๕) | C145: 2800 | D145: 2800 | E145: โดยวิธีเฉพาะเจาะจง | F145: ห้างหุ้นส่วนจำกัด ธนาทรัพย์ศิลา | G145: 2800 | H145: ห้างหุ้นส่วนจำกัด ธนาทรัพย์ศิลา | I145: 2800 | J145: เป็นผู้มีคุณสมบัติตรงตามเงื่อนไขที่กำหนด | K145: 091/2569 | L145: 29/12/2568
A146: 144 | B146: จ้างเหมาซ่อมแซมและบำรุงรักษาครุภัณฑ์รถยนต์ยี่ห้อฟอร์ด หมายเลขทะเบียน บธ ๑๘๔๒ | C146: 2330 | D146: 2330 | E146: โดยวิธีเฉพาะเจาะจง | F146: ช.การช่าง | G146: 2330 | H146: ช.การช่าง | I146: 2330 | J146: เป็นผู้มีคุณสมบัติตรงตามเงื่อนไขที่กำหนด | K146: 089/2569 | L146: 29/12/2568
A147: 145 | B147: ประกวดราคาจ้างก่อสร้างโครงการซ่อมแซมถนนลาดยางแอสฟัลท์ติกคอนกรีต รหัสสายทาง ชร.ถ.011 บ้านป่าบง หมู่ที่ 2 เชื่อม บ้านสันโค้ง หมู่ที่ 10 | C147: 9608000 | D147: 7226726.3 | E147: ด้วยวิธีประกวดราคาอิเล็กทรอนิกส์ | F147: ห้างหุ้นส่วนจำกัด ธนะชัย แอสโซซิเอท | G147: 7220000 | H147: ห้างหุ้นส่วนจำกัด ธนะชัย แอสโซซิเอท | I147: 7220000 | J147: เป็นผู้มีคุณสมบัติและข้อเสนอทางเทคนิคถูกต้องครบถ้วนและเป็นผู้เสนอราคา ต่ำสุด | K147: 052/2569 | L147: 16/02/2569
A148: 146 | B148: จ้างเหมาจัดทำตราประทับบัตรเลือกตั้งหรือเครื่องหมายบนบัตรเลือกตั้ง จำนวน ๔ อัน | C148: 1400 | D148: 1400 | E148: โดยวิธีเฉพาะเจาะจง | F148: ร้านแม่จันเจริญ ป้ายโฆษณา | G148: 1400 | H148: ร้านแม่จันเจริญ ป้ายโฆษณา | I148: 1400 | J148: เป็นผู้มีคุณสมบัติตรงตามเงื่อนไขที่กำหนด | K148: 087/2569 | L148: 244343
A149: 147 | B149: ซื้อวัสดุวิทยาศาสตร์หรือการแพทย์ จำนวน ๔ รายการ | C149: 19350 | D149: 19350 | E149: โดยวิธีเฉพาะเจาะจง | F149: บริษัท ท็อป เมดิคอล จำกัด | G149: 19350 | H149: บริษัท ท็อป เมดิคอล จำกัด | I149: 19350 | J149: เป็นผู้มีคุณสมบัติตรงตามเงื่อนไขที่กำหนด | K149: 061/2569 | L149: 244344
A150: 148 | B150: จ้างเหมาจัดทำธงแดงพร้อมติดตั้ง จำนวน ๑๐๐ ชุด และจ้างเหมาจัดทำป้ายโครงการฯ ชนิดไวนิล จำนวน ๑ ป้าย | C150: 11600 | D150: 11600 | E150: โดยวิธีเฉพาะเจาะจง | F150: รุ่งเรืองปริ้น 99 | G150: 11600 | H150: รุ่งเรืองปริ้น 99 | I150: 11600 | J150: เป็นผู้มีคุณสมบัติตรงตามเงื่อนไขที่กำหนด | K150: 088/2569 | L150: 244344
A151: 149 | B151: ซื้อคอนกรีตผสมเสร็จ เพื่อใช้ซ่อมแซมถนนบ้านเล่าฝู่ หมู่ที่ ๒๐ (บ้านเล่าฝู่ , บ้านจะหยี และบ้านโป่งป่าแขม) | C151: 33600 | D151: 33600 | E151: โดยวิธีเฉพาะเจาะจง | F151: ห้างหุ้นส่วนจำกัด เอสเอสเค คอนสตรัคชั่น แอนด์แมชชีน | G151: 33600 | H151: ห้างหุ้นส่วนจำกัด เอสเอสเค คอนสตรัคชั่น แอนด์แมชชีน | I151: 33600 | J151: เป็นผู้มีคุณสมบัติตรงตามเงื่อนไขที่กำหนด | K151: 062/2569 | L151: 244344
A152: 150 | B152: ซื้อวัสดุเพื่อลดอุบัติเหตุการจราจรในตำบลป่าตึง จำนวน ๘ รายการ | C152: 8720 | D152: 8720 | E152: โดยวิธีเฉพาะเจาะจง | F152: หจก.ป่าตึงวัสดุก่อสร้าง | G152: 8720 | H152: หจก.ป่าตึงวัสดุก่อสร้าง | I152: 8720 | J152: เป็นผู้มีคุณสมบัติตรงตามเงื่อนไขที่กำหนด | K152: 063/2569 | L152: 244344
A153: 151 | B153: จ้างก่อสร้างรางระบายน้ำคอนกรีตเสริมเหล็ก (ตัวยู) บ้านสันโค้ง หมู่ที่ 10 ตำบลป่าตึง อำเภอแม่จัน จังหวัดเชียงราย | C153: 169000 | D153: 169035.33 | E153: โดยวิธีเฉพาะเจาะจง | F153: ห้างหุ้นส่วนจำกัด อาเพียวคอนสตรัคชั่น | G153: 169000 | H153: ห้างหุ้นส่วนจำกัด อาเพียวคอนสตรัคชั่น | I153: 169000 | J153: เป็นผู้มีคุณสมบัติตรงตามเงื่อนไขที่กำหนด | K153: 024/2569 | L153: 29/12/2568
A154: 152 | B154: จ้างก่อสร้างรางระบายน้ำคอนกรีตเสริมเหล็ก (ตัวยู) บ้านป่าบง หมู่ที่ 2 (สายที่ 2) ตำบลป่าตึง อำเภอแม่จัน จังหวัดเชียงราย | C154: 280600 | D154: 281809.06 | E154: โดยวิธีเฉพาะเจาะจง | F154: ห้างหุ้นส่วนจำกัด อาเพียวคอนสตรัคชั่น | G154: 280600 | H154: ห้างหุ้นส่วนจำกัด อาเพียวคอนสตรัคชั่น | I154: 280600 | J154: เป็นผู้มีคุณสมบัติตรงตามเงื่อนไขที่กำหนด | K154: 026/2569 | L154: 29/12/2568
...

Sheet สรุปผล ตค
A1: สรุปผลการดำเนินการจัดซื้อจัดจ้างหรือการจัดหาพัสดุของหน่วยงานประจำเดือน ปีงบประมาณ พ.ศ.2569
A2: ชื่อหน่วยงาน องค์การบริหารส่วนตำบลป่าตึง
D3: ประจำเดือน ตุลาคม 2568
C4: ลำดับ | D4: วิธีการจัดซื้อจัดจ้าง | E4: จำนวนโครงการ | F4: จำนวนงบประมาณ
C5: 1 | D5: วิธีเฉพาะเจาะจง | E5: 97 | F5: ='ตค 68'!I101-'สรุปผล ตค'!F7 -> 11344510
C6: 2 | D6: วิธีคัดเลือก | E6: - | F6: -
C7: 3 | D7: วิธีประกวดราคาอิเล็คทรอนิกส์ (e-bidding) | E7: 1 | F7: 406500
C8: 4 | D8: อื่น ๆ | E8: - | F8: -
D9: รวม | E9: =SUM(E5:E8) -> 98 | F9: =SUM(F5:F8) -> 11751010
A11: ปัญหา/อุปสรรค
A17: ข้อเสนอแนะ

Sheet ตค 68
A2: ลำดับที่ | B2: งานที่จัดซื้อจัดจ้าง | C2: วงเงินที่จะซื้อหรือจ้าง | D2: ราคากลาง | E2: วิธีจัดซื้อหรือจ้าง | F2: รายชื่อผู้เสนอราคา | G2: ราคาที่เสนอ | H2: ผู้ได้รับการคัดเลือก | I2: ราคาที่ตกลงซื้อหรือจ้าง | J2: เหตุผลที่คัดเลือกโดยสรุป | K2: เลขที่และวันที่ของสัญญาหรือข้อตกลงในการซื้อหรือจ้าง
A3: 1 | B3: ประกวดราคาจ้างก่อสร้างโครงการก่อสร้างถนน คสล. บ้านแม่เฟือง หมู่ที่ 5 (สายที่ 1) | C3: 545700 | D3: 563745.43 | E3: ด้วยวิธีประกวดราคาอิเล็กทรอนิกส์ (e-bidding) | F3: 1.หจก.แสนใจ คอนสตรัคชั่น 2.หจก.สุทธิพันธ์ 2559 3.หจก.อครา เอ็นเตอร์ไพรส 4.บริษัท ชนะชัยธุรกิจการค้า จำกัด | G3: 530,000.00 407,000.00 452,000.00 518,700.00 | H3: ห้างหุ้นส่วนจำกัด สุทธิพันธ์ 2559 | I3: 406500 | J3: เป็นผู้มีคุณสมบัติและข้อเสนอทางเทคนิค ถูกต้องครบถ้วนและเป็นผู้เสนอราคา ต่ำ สุด | K3: 021/2569 | L3: 244321
A4: 2 | B4: จ้างเหมาซ่อมแซมและบำรุงรักษารถยนต์ส่วนกลาง ยี่ห้ออีซูซุ หมายเลขทะเบียน ๘๑-๘๖๖๙ เชียงราย (ครุภัณฑ์เลขที่ ๐๐๕-๕๗-๐๐๐๒) | C4: 264100 | D4: 264100 | E4: วิธีเฉพาะเจาะจง | F4: อู่ช่างอึ่ง | G4: 264100 | H4: อู่ช่างอึ่ง | I4: 264100 | J4: เป็นผู้มีคุณสมบัติตรงตามเงื่อนไขที่กำหนด | K4: 054/2569 | L4: 244260
A5: 3 | B5: ก่อสร้างถนนคอนกรีตเสริมเหล็ก บ้านป่าบง หมู่ที่ 1 | C5: 500007.84 | D5: 500000 | E5: วิธีเฉพาะเจาะจง | F5: หจก.อครา เอ็นเตอร์ไพรส์498 | G5: 498000 | H5: หจก.อครา เอ็นเตอร์ไพรส์498 | I5: 498000 | J5: เป็นผู้มีคุณสมบัติตรงตามเงื่อนไขที่กำหนด | K5: 007/2569 | L5: 244295
A6: 4 | B6: จ้างเหมาซ่อมแซมและบำรุงรักษาครุภัณฑ์เครื่องปริ้นครุภัณฑ์เลขที่ 478-64-0048 | C6: 850 | D6: 850 | E6: วิธีเฉพาะเจาะจง | F6: หจก.ธนาทรัพย์ศิลา | G6: 850 | H6: หจก.ธนาทรัพย์ศิลา | I6: 850 | J6: เป็นผู้มีคุณสมบัติตรงตามเงื่อนไขที่กำหนด | K6: 055/2569 | L6: 244260
A7: 5 | B7: จ้างวางท่อคอนกรีตเสริมเหล็ก พร้อมบ่อพัก บ้านเล่าฝู่ หมู่ที่ 20 (บ้านโป่งป่าแขม) | C7: 250000 | D7: 250142.62 | E7: วิธีเฉพาะเจาะจง | F7: หจก. เอสเอสเค 888 คอนสตรัคชั่น | G7: 249800 | H7: หจก. เอสเอสเค 888 คอนสตรัคชั่น | I7: 249800 | J7: เป็นผู้มีคุณสมบัติตรงตามเงื่อนไขที่กำหนด | K7: 006//2569 | L7: 244294
A8: 6 | B8: จ้างก่อสร้างรางระบายน้ำคอนกรีตเสริมเหล็ก(ตัวยู) บ้านถ้ำ หมู่ที่ 4 (จำนวน 3 ช่วง) | C8: 499400 | D8: 499322.07 | E8: วิธีเฉพาะเจาะจง | F8: หจก.อครา เอ็นเตอร์ไพรส์498 | G8: 498000 | H8: หจก.อครา เอ็นเตอร์ไพรส์498 | I8: 498000 | J8: เป็นผู้มีคุณสมบัติตรงตามเงื่อนไขที่กำหนด | K8: 005/2569 | L8: 244288
A9: 7 | B9: จ้างบำรุงรักษาและซ่อมแซมทรัพย์สิน (สายสัญญาณกล้องวงจรปิด) | C9: 8500 | D9: 8500 | E9: วิธีเฉพาะเจาะจง | F9: หจก.ธนาทรัพย์ศิลา | G9: 8500 | H9: หจก. ธนา ทรัพท์ศิลา | I9: 8500 | J9: เป็นผู้มีคุณสมบัติตรงตามเงื่อนไขที่กำหนด | K9: 056/2569 | L9: 244260
A10: 8 | B10: จัดซื้อซิมอินเตอร์เน็ตแบบรายปี | C10: 2500 | D10: 2500 | E10: วิธีเฉพาะเจาะจง | F10: หจก.ธนาทรัพย์ศิลา | G10: 2500 | H10: หจก. ธนา ทรัพท์ศิลา | I10: 2500 | J10: เป็นผู้มีคุณสมบัติตรงตามเงื่อนไขที่กำหนด | K10: 013/2569 | L10: 244285
A11: 9 | B11: เช่าเตาเผาขยะ จำนวน ๓ เตา ประจำปีงบประมาณ พ.ศ. ๒๕๖๙ | C11: 1212000 | D11: 1212000 | E11: วิธีเฉพาะเจาะจง | F11: บริษัท พลอยไพลิน กรีน เวิลด์ จำกัด1 | H11: บริษัท พลอยไพลิน กรีน เวิลด์ จำกัด1 | I11: 1212000 | J11: เป็นผู้มีคุณสมบัติตรงตามเงื่อนไขที่กำหนด | K11: 005/2569 | L11: 244258
A12: 10 | B12: จ้างเหมาจัดทำตรายาง จำนวน 5 รายการ (กองคลัง) | C12: 2990 | D12: 2990 | E12: วิธีเฉพาะเจาะจง | F12: ร้านเอกบล็อค | G12: 2990 | H12: ร้านเอกบล็อค | I12: 2990 | J12: เป็นผู้มีคุณสมบัติตรงตามเงื่อนไขที่กำหนด | K12: 068/2569 | L12: 244319
A13: 11 | B13: จ้างเหมาจัดทำป้ายประชาสัมพันธ์ กรุณารักษาความสะอาดน้ำพุร้อนป่าตึง | C13: 3950 | D13: 3950 | E13: วิธีเฉพาะเจาะจง | F13: ร้านแม่จันเจริญ ป้ายโฆษณา | G13: 3950 | H13: ร้านแม่จันเจริญ ป้ายโฆษณา | I13: 3950 | J13: เป็นผู้มีคุณสมบัติตรงตามเงื่อนไขที่กำหนด | K13: 069/2569 | L13: 244319
A14: 12 | B14: ซื้อยางรถยนต์พร้อมติดตั้ง รถยนต์ส่วนกลาง ยี่ห้อมิตซูบิชิ หมายเลขทะเบียน กม 9658 เชียงราย ครุภัณฑ์เลขที่ 001-58-0006 | C14: 22000 | D14: 22000 | E14: วิธีเฉพาะเจาะจง | F14: หจก.เอส.เค.ยางยนต์เชียงรา | G14: 22000 | H14: หจก.เอส.เค.ยางยนต์เชียงรา | I14: 22000 | J14: เป็นผู้มีคุณสมบัติตรงตามเงื่อนไขที่กำหนด | K14: 050/2569 | L14: 244319
A15: 13 | B15: ซื้อยางรถยนต์พร้อมติดตั้ง รถยนต์ส่วนกลาง ยี่ห้อมาสด้า หมายเลขทะเบียน กจ 1386 เชียงราย ครุภัณฑ์เลขที่ 001-48-0002 | C15: 15400 | D15: 15400 | E15: วิธีเฉพาะเจาะจง | F15: หจก.เอส.เค.ยางยนต์เชียงรา | G15: 15400 | H15: หจก.เอส.เค.ยางยนต์เชียงรา | I15: 15400 | J15: เป็นผู้มีคุณสมบัติตรงตามเงื่อนไขที่กำหนด | K15: 049/2569 | L15: 244319
A16: 14 | B16: ซื้อครุภัณฑ์สำนักงาน (เครื่องปรับอากาศ) จำนวน 2 เครื่อง | C16: 161800 | D16: 161800 | E16: วิธีเฉพาะเจาะจง | F16: หจก.จิมมี่ ซัพพลาย | G16: 161800 | H16: หจก.จิมมี่ ซัพพลาย | I16: 161800 | J16: เป็นผู้มีคุณสมบัติตรงตามเงื่อนไขที่กำหนด | K16: 002/2569 | L16: 244320
A17: 15 | B17: จ้างเหมาจัดทำตรายาง จำนวน ๙ รายการ | C17: 5340 | D17: 5340 | E17: วิธีเฉพาะเจาะจง | F17: ร้าน จ.มุ่ยเจริญ | G17: 5340 | H17: ร้าน จ.มุ่ยเจริญ | I17: 5340 | J17: เป็นผู้มีคุณสมบัติตรงตามเงื่อนไขที่กำหนด | K17: 066/2569 | L17: 244316
A18: 16 | B18: จ้างเหมาบำรุงรักษารถตักหน้าขุดหลัง หมายเลขทะเบียน ฒฆ 7613 เชียงราย | C18: 20946.32 | D18: 20946.32 | E18: วิธีเฉพาะเจาะจง | F18: บริษัท ชัยรัชการ (กรุงเทพ) จำกัด | G18: 20946.32 | H18: บริษัท ชัยรัชการ (กรุงเทพ) จำกัด | I18: 20946.32 | J18: เป็นผู้มีคุณสมบัติตรงตามเงื่อนไขที่กำหนด | K18: 067/2569 | L18: 244316
A19: 17 | B19: จ้างเหมาซ่อมแซมและเปลี่ยนอะไหล่รถยนต์ส่วนกลาง ยี่ห้อมิตซูบิชิ เลขทะเบียน กร ๒๖๕๐ เชียงราย (ครุภัณฑ์เลขที่ ๐๒๖-๕๙-๐๐๐๑) | C19: 4130 | D19: 4130 | E19: วิธีเฉพาะเจาะจง | F19: บริษัท มิตซูพันล้าน จำกัด4 | G19: 4130 | H19: บริษัท มิตซูพันล้าน จำกัด4 | I19: 4130 | J19: เป็นผู้มีคุณสมบัติตรงตามเงื่อนไขที่กำหนด | K19: 065/2569 | L19: 244316
A20: 18 | B20: จ้างเหมาเครื่องจักรขุดลอกลำเหมือง บ้านโป่งน้ำร้อน หมู่ที่ 11 | C20: 44800 | D20: 44800 | E20: วิธีเฉพาะเจาะจง | F20: หจก.อครา เอ็นเตอร์ไพรส์ | G20: 44800 | H20: หจก.อครา เอ็นเตอร์ไพรส์ | I20: 44800 | J20: เป็นผู้มีคุณสมบัติตรงตามเงื่อนไขที่กำหนด | K20: 063/2569 | L20: 244314
A21: 19 | B21: จ้างปรับปรุงถนนทางการเกษตรในพื้นที่ตำบลป่าตึง อำเภอแม่จัน จังหวัดเชียงราย | C21: 89600 | D21: 89600 | E21: วิธีเฉพาะเจาะจง | F21: หจก.อครา เอ็นเตอร์ไพรส์ | G21: 89600 | H21: หจก.อครา เอ็นเตอร์ไพรส์ | I21: 89600 | J21: เป็นผู้มีคุณสมบัติตรงตามเงื่อนไขที่กำหนด | K21: 020/2569 | L21: 244315
A22: 20 | B22: ซื้อวัสดุคอมพิวเตอร์ จำนวน ๒ รายการ | C22: 7700 | D22: 7700 | E22: วิธีเฉพาะเจาะจง | F22: หจก.ธนาทรัพย์ศิลา | G22: 7700 | H22: หจก.ธนาทรัพย์ศิลา | I22: 7700 | J22: เป็นผู้มีคุณสมบัติตรงตามเงื่อนไขที่กำหนด | K22: 048/2569 | L22: 244314
A23: 21 | B23: ซื้อวัสดุสำนักงาน จำนวน ๑ รายการ | C23: 7500 | D23: 7500 | E23: วิธีเฉพาะเจาะจง | F23: ห้างหุ้นส่วนจำกัด พีเอส เครื่องเขียน | G23: 7500 | H23: ห้างหุ้นส่วนจำกัด พีเอส เครื่องเขียน | I23: 7500 | J23: เป็นผู้มีคุณสมบัติตรงตามเงื่อนไขที่กำหนด | K23: 031/2569 | L23: 244309
... A39: 37 | B39: ก่อสร้างถนนคอนกรีตเสริมเหล็ก เส้นทางการเกษตร บ้านห้วยต่าง หมู่ที่ 16 | C39: 499500 | D39: 521349.82 | E39: วิธีเฉพาะเจาะจง | F39: หจก.ชิง ไห่ ดีเวลลอปเมนท์ | G39: 499400 | H39: หจก.ชิง ไห่ ดีเวลลอปเมนท์ | I39: 499400 | J39: เป็นผู้มีคุณสมบัติตรงตามเงื่อนไขที่กำหนด | K39: 009/2569 | L39: 244299
A40: 38 | B40: จ้างเหมาบุคลากรปฏิบัติงานกองสาธารณสุข ตั้งแต่วันที่ 1 ต.ค. 68 - 30 ก.ย. 68 | C40: 110400 | D40: 110400 | E40: วิธีเฉพาะเจาะจง | F40: น.ส. ดลพร เยเปี่ย | G40: 110400 | H40: น.ส. ดลพร เยเปี่ย | I40: 110400 | J40: เป็นผู้มีอาชีพที่เสนอพัสดุตรงตามวัตถุประสงค์ในการใช้งาน | K40: 001/2569 | L40: 1/10/2568
A41: 39 | B41: จ้างเหมาบุคลากรปฏิบัติงานกองสาธารณสุข ตั้งแต่วันที่ 1 ต.ค. 68 - 30 ก.ย. 68 | C41: 110400 | D41: 110400 | E41: วิธีเฉพาะเจาะจง | F41: น.ส.วิลาพร ธรรมเดช | G41: 110400 | H41: น.ส.วิลาพร ธรรมเดช | I41: 110400 | J41: เป็นผู้มีอาชีพที่เสนอพัสดุตรงตามวัตถุประสงค์ในการใช้งาน | K41: 002/2569 | L41: 1/10/2568
A42: 40 | B42: จ้างบุคลากร เพื่อปฏิบัติงานบริการต่างๆ (กองคลัง) ตั้งแต่วันที่ 1 ต.ค. 68 - 30 ก.ย. 68 | C42: 55200 | D42: 55200 | E42: วิธีเฉพาะเจาะจง | F42: นายพรไชย ไชยทน | G42: 55200 | H42: นายพรไชย ไชยทน | I42: 55200 | J42: เป็นผู้มีอาชีพที่เสนอพัสดุตรงตามวัตถุประสงค์ในการใช้งาน | K42: 003/2569 | L42: 1/10/2568
A43: 41 | B43: จ้างบุคลากร เพื่อปฏิบัติงานบริการต่างๆ (กองคลัง) ตั้งแต่วันที่ 1 ต.ค. 68 - 30 ก.ย. 68 | C43: 54000 | D43: 54000 | E43: วิธีเฉพาะเจาะจง | F43: นายณัฐพงศ์ กุลวงค์ | G43: 54000 | H43: นายณัฐพงศ์ กุลวงค์ | I43: 54000 | J43: เป็นผู้มีอาชีพที่เสนอพัสดุตรงตามวัตถุประสงค์ในการใช้งาน | K43: 004/2569 | L43: 1/10/2568
A44: 42 | B44: จ้างบุคลากร เพื่อปฏิบัติงานบริการต่างๆ (กองช่าง) ตั้งแต่วันที่ 1 ต.ค. 68 - 31 ธ.ค. 68 | C44: 108000 | D44: 108000 | E44: วิธีเฉพาะเจาะจง | F44: น.ส.เกวรินทร์ จินดาธรรม | G44: 108000 | H44: น.ส.เกวรินทร์ จินดาธรรม | I44: 108000 | J44: เป็นผู้มีอาชีพที่เสนอพัสดุตรงตามวัตถุประสงค์ในการใช้งาน | K44: 005/2569 | L44: 1/10/2568
A45: 43 | B45: จ้างบุคลากร เพื่อปฏิบัติงานบริการต่างๆ (กองช่าง) ตั้งแต่วันที่ 1 ต.ค. 68 - 31 ธ.ค. 68 | C45: 27000 | D45: 27000 | E45: วิธีเฉพาะเจาะจง | F45: น.ส.วิสา ขันแก้วบุญเรือง | G45: 27000 | H45: น.ส.วิสา ขันแก้วบุญเรือง | I45: 27000 | J45: เป็นผู้มีอาชีพที่เสนอพัสดุตรงตามวัตถุประสงค์ในการใช้งาน | K45: 006/2569 | L45: 1/10/2568
A46: 44 | B46: จ้างบุคลากร เพื่อปฏิบัติงานบริการต่างๆ (กองช่าง) ตั้งแต่วันที่ 1 ต.ค. 68 - 31 ธ.ค. 68 | C46: 27000 | D46: 27000 | E46: วิธีเฉพาะเจาะจง | F46: น.ส.สาวิตรี เรืองปัญญา | G46: 27000 | H46: น.ส.สาวิตรี เรืองปัญญา | I46: 27000 | J46: เป็นผู้มีอาชีพที่เสนอพัสดุตรงตามวัตถุประสงค์ในการใช้งาน | K46: 007/2569 | L46: 1/10/2568
A47: 45 | B47: จ้างบุคลากร เพื่อปฏิบัติงานบริการต่างๆ (กองช่าง) ตั้งแต่วันที่ 1 ต.ค. 68 - 31 ธ.ค. 68 | C47: 45000 | D47: 45000 | E47: วิธีเฉพาะเจาะจง | F47: นายแทนทร พูนพัฒนาทรัพย์ | G47: 45000 | H47: นายแทนทร พูนพัฒนาทรัพย์ | I47: 45000 | J47: เป็นผู้มีอาชีพที่เสนอพัสดุตรงตามวัตถุประสงค์ในการใช้งาน | K47: 008/2569 | L47: 1/10/2568
A48: 46 | B48: จ้างเหมาบุคลากรงานกำจัดขยะและสิ่งปฏิกูลฯ ตั้งแต่วันที่ 1 ต.ค. 68 - 31 ธ.ค. 68 | C48: 57600 | D48: 57600 | E48: วิธีเฉพาะเจาะจง | F48: นายวิษณุ กองมา | G48: 57600 | H48: นายวิษณุ กองมา | I48: 57600 | J48: เป็นผู้มีอาชีพที่เสนอพัสดุตรงตามวัตถุประสงค์ในการใช้งาน | K48: 009/2569 | L48: 1/10/2568
A49: 47 | B49: จ้างเหมาบุคลากรงานกำจัดขยะและสิ่งปฏิกูลฯ ตั้งแต่วันที่ 1 ต.ค. 68 - 31 ธ.ค. 68 | C49: 57600 | D49: 57600 | E49: วิธีเฉพาะเจาะจง | F49: นายนิคม มาตรักษา | G49: 57600 | H49: นายนิคม มาตรักษา | I49: 57600 | J49: เป็นผู้มีอาชีพที่เสนอพัสดุตรงตามวัตถุประสงค์ในการใช้งาน | K49: 010/2569 | L49: 1/10/2568
A50: 48 | B50: จ้างเหมาบุคลากรงานกำจัดขยะและสิ่งปฏิกูลฯ ตั้งแต่วันที่ 1 ต.ค. 68 - 31 ธ.ค. 68 | C50: 57600 | D50: 57600 | E50: วิธีเฉพาะเจาะจง | F50: นายบุญทา ยืนยงแสน | G50: 57600 | H50: นายบุญทา ยืนยงแสน | I50: 57600 | J50: เป็นผู้มีอาชีพที่เสนอพัสดุตรงตามวัตถุประสงค์ในการใช้งาน | K50: 011/2569 | L50: 1/10/2568
A51: 49 | B51: จ้างเหมาบุคลากรงานกำจัดขยะและสิ่งปฏิกูลฯ ตั้งแต่วันที่ 1 ต.ค. 68 - 31 ธ.ค. 68 | C51: 57600 | D51: 57600 | E51: วิธีเฉพาะเจาะจง | F51: นายอาล่อง เผอเปี๊ยะ | G51: 57600 | H51: นายอาล่อง เผอเปี๊ยะ | I51: 57600 | J51: เป็นผู้มีอาชีพที่เสนอพัสดุตรงตามวัตถุประสงค์ในการใช้งาน | K51: 012/2569 | L51: 1/10/2568
A52: 50 | B52: จ้างเหมาบุคลากรงานกำจัดขยะและสิ่งปฏิกูลฯ ตั้งแต่วันที่ 1 ต.ค. 68 - 31 ธ.ค. 68 | C52: 57600 | D52: 57600 | E52: วิธีเฉพาะเจาะจง | F52: นายดวงจันทร์ วงค์ธานี | G52: 57600 | H52: นายดวงจันทร์ วงค์ธานี | I52: 57600 | J52: เป็นผู้มีอาชีพที่เสนอพัสดุตรงตามวัตถุประสงค์ในการใช้งาน | K52: 013/2569 | L52: 1/10/2568
A53: 51 | B53: จ้างเหมาบุคลากรงานกำจัดขยะและสิ่งปฏิกูลฯ ตั้งแต่วันที่ 1 ต.ค. 68 - 31 ธ.ค. 68 | C53: 57600 | D53: 57600 | E53: วิธีเฉพาะเจาะจง | F53: นายวัลลพ ศรีดวงใจ | G53: 57600 | H53: นายวัลลพ ศรีดวงใจ | I53: 57600 | J53: เป็นผู้มีอาชีพที่เสนอพัสดุตรงตามวัตถุประสงค์ในการใช้งาน | K53: 014/2569 | L53: 244258
A54: 52 | B54: จ้างเหมาบุคลากรงานกำจัดขยะและสิ่งปฏิกูลฯ ตั้งแต่วันที่ 1 ต.ค. 68 - 31 ธ.ค. 68 | C54: 57000 | D54: 57000 | E54: วิธีเฉพาะเจาะจง | F54: นายสมศักดิ์ กำแพงแก้ว | G54: 57000 | H54: นายสมศักดิ์ กำแพงแก้ว | I54: 57000 | J54: เป็นผู้มีอาชีพที่เสนอพัสดุตรงตามวัตถุประสงค์ในการใช้งาน | K54: 015/2569 | L54: 244258
A55: 53 | B55: จ้างเหมบุคลากรงานดูแลสวนสาธาณะสถานที่ท่องเที่ยวน้ำพุร้อนป่าตึง ตั้งแต่วันที่ 1 ต.ค. 68 - 31 ธ.ค. 68 | C55: 27000 | D55: 27000 | E55: วิธีเฉพาะเจาะจง | F55: นายพิชิต ศรีโลเจียว | G55: 27000 | H55: นายพิชิต ศรีโลเจียว | I55: 27000 | J55: เป็นผู้มีอาชีพที่เสนอพัสดุตรงตามวัตถุประสงค์ในการใช้งาน | K55: 016/2569 | L55: 244258
A56: 54 | B56: จ้างเหมบุคลากรงานดูแลสวนสาธาณะสถานที่ท่องเที่ยวน้ำพุร้อนป่าตึง ตั้งแต่วันที่ 1 ต.ค. 68 - 31 ธ.ค. 68 | C56: 110400 | D56: 110400 | E56: วิธีเฉพาะเจาะจง | F56: นายสมศักดิ์ คืนมาเมือง | G56: 110400 | H56: นายสมศักดิ์ คืนมาเมือง | I56: 110400 | J56: เป็นผู้มีอาชีพที่เสนอพัสดุตรงตามวัตถุประสงค์ในการใช้งาน | K56: 017/2569 | L56: 244258
A57: 55 | B57: จ้างเหมบุคลากรงานดูแลสวนสาธาณะสถานที่ท่องเที่ยวน้ำพุร้อนป่าตึง ตั้งแต่วันที่ 1 ต.ค. 68 - 31 ธ.ค. 68 | C57: 110400 | D57: 110400 | E57: วิธีเฉพาะเจาะจง | F57: นายชยพล ผลสว่าง | G57: 110400 | H57: นายชยพล ผลสว่าง | I57: 110400 | J57: เป็นผู้มีอาชีพที่เสนอพัสดุตรงตามวัตถุประสงค์ในการใช้งาน | K57: 018/2569 | L57: 244258
A58: 56 | B58: จ้างเหมบุคลากรงานดูแลสวนสาธาณะสถานที่ท่องเที่ยวน้ำพุร้อนป่าตึง ตั้งแต่วันที่ 1 ต.ค. 68 - 31 ธ.ค. 68 | C58: 110400 | D58: 110400 | E58: วิธีเฉพาะเจาะจง | F58: นายสมเพชร ชุ่มใจ | G58: 110400 | H58: นายสมเพชร ชุ่มใจ | I58: 110400 | J58: เป็นผู้มีอาชีพที่เสนอพัสดุตรงตามวัตถุประสงค์ในการใช้งาน | K58: 019/2569 | L58: 244258
A59: 57 | B59: จ้างเหมบุคลากรงานดูแลสวนสาธาณะสถานที่ท่องเที่ยวน้ำพุร้อนป่าตึง ตั้งแต่วันที่ 1 ต.ค. 68 - 31 ธ.ค. 68 | C59: 81000 | D59: 81000 | E59: วิธีเฉพาะเจาะจง | F59: นางศรีวรรณ ฟูคำ | G59: 81000 | H59: นางศรีวรรณ ฟูคำ | I59: 81000 | J59: เป็นผู้มีอาชีพที่เสนอพัสดุตรงตามวัตถุประสงค์ในการใช้งาน | K59: 020/2569 | L59: 244258
A60: 58 | B60: จ้างเหมาบุคลากรเพื่อปฏิบัติงานในเขต อบต. ป่าตึง ตั้งแต่วันที่ 1 ต.ค. 68 - 30 มิ.ย. 69 | C60: 110400 | D60: 110400 | E60: วิธีเฉพาะเจาะจง | F60: นางพูนสุข จันอิน | G60: 110400 | H60: นางพูนสุข จันอิน | I60: 110400 | J60: เป็นผู้มีอาชีพที่เสนอพัสดุตรงตามวัตถุประสงค์ในการใช้งาน | K60: 021/2569 | L60: 244258
A61: 59 | B61: จ้างเหมาบุคลากรสำนักปลัด เพื่อปฏิบัติงานบริการต่างๆ ตั้งแต่วันที่ 1 ต.ค. 68 - 31 ธ.ค. 67 | C61: 81000 | D61: 81000 | E61: วิธีเฉพาะเจาะจง | F61: นายสมัย สุขโน | G61: 81000 | H61: นายสมัย สุขโน | I61: 81000 | J61: เป็นผู้มีอาชีพที่เสนอพัสดุตรงตามวัตถุประสงค์ในการใช้งาน | K61: 022/2569 | L61: 244258
A62: 60 | B62: จ้างเหมาบุคลากรสำนักปลัด เพื่อปฏิบัติงานบริการต่างๆ ตั้งแต่วันที่ 1 ต.ค. 68 - 31 ธ.ค. 68 | C62: 18000 | D62: 18000 | E62: วิธีเฉพาะเจาะจง | F62: น.ส.เล็กลงวรรณ ใจยะ | G62: 18000 | H62: น.ส.เล็กลงวรรณ ใจยะ | I62: 18000 | J62: เป็นผู้มีอาชีพที่เสนอพัสดุตรงตามวัตถุประสงค์ในการใช้งาน | K62: 023/2569 | L62: 244258
A63: 61 | B63: จ้างเหมาบุคลากรสำนักปลัด เพื่อปฏิบัติงานบริการต่างๆ ตั้งแต่วันที่ 1 ต.ค. 68 - 31 ธ.ค. 68 | C63: 110400 | D63: 110400 | E63: วิธีเฉพาะเจาะจง | F63: นายอุดร ดาวรื่น | G63: 110400 | H63: นายอุดร ดาวรื่น | I63: 110400 | J63: เป็นผู้มีอาชีพที่เสนอพัสดุตรงตามวัตถุประสงค์ในการใช้งาน | K63: 024/2569 | L63: 244258
A64: 62 | B64: จ้างบุคลากร เพื่อปฏิบัติงานบริการต่างๆ (งานป้องกันฯ) ตั้งแต่วันที่ 1 ต.ค. 68 - 31 ธ.ค. 68 | C64: 27880 | D64: 27880 | E64: วิธีเฉพาะเจาะจง | F64: นายพงษ์สิทธ์ ยืนยงแสน | G64: 27880 | H64: นายพงษ์สิทธ์ ยืนยงแสน | I64: 27880 | J64: เป็นผู้มีอาชีพที่เสนอพัสดุตรงตามวัตถุประสงค์ในการใช้งาน | K64: 025/2569 | L64: 244258
... A100: 98 | B100: จ้างเหมาจัดทำอาหารว่างพร้อมเครื่องดื่ม และอาหารกลางวัน การสอบภาค ค. และประชุมกรรมการสอบคัดเลือก | C100: 3040 | D100: 3040 | E100: วิธีเฉพาะเจาะจง | F100: นางอัมรา คำซอน | G100: 3040 | H100: นางอัมรา คำซอน | I100: 3040 | J100: เป็นผู้มีอาชีพที่เสนอพัสดุตรงตามวัตถุประสงค์ในการใช้งาน | K100: ไม่มีเลขที่สัญญาเนื่องจากการจัดซื้อจัดจ้างตามหนังสือ ด่วนที่สุด ที่ กค (กวจ) 0405.5/ว119 | L100: 244287
I101: =SUM(I3:I100) -> 11751010

Sheet สรุปผล พย
A1: สรุปผลการดำเนินการจัดซื้อจัดจ้างหรือการจัดหาพัสดุของหน่วยงานประจำเดือน ปีงบประมาณ พ.ศ.2569
A2: ชื่อหน่วยงาน องค์การบริหารส่วนตำบลป่าตึง
D3: ประจำเดือน พฤศจิกายน 2568
C4: ลำดับ | D4: วิธีการจัดซื้อจัดจ้าง | E4: จำนวนโครงการ | F4: จำนวนงบประมาณ
C5: 1 | D5: วิธีเฉพาะเจาะจง | E5: 35 | F5: 4756389.7
C6: 2 | D6: วิธีคัดเลือก | E6: - | F6: -
C7: 3 | D7: วิธีประกวดราคาอิเล็คทรอนิกส์ (e-bidding) | E7: - | F7: -
C8: 4 | D8: อื่น ๆ | E8: - | F8: -
D9: รวม | E9: =SUM(E5:E8) -> 35 | F9: =SUM(F5:F8) -> 4756389.7
A11: ปัญหา/อุปสรรค
A17: ข้อเสนอแนะ

Sheet พย 68
A2: ลำดับที่ | B2: งานที่จัดซื้อจัดจ้าง | C2: วงเงินที่จะซื้อหรือจ้าง | D2: ราคากลาง | E2: วิธีจัดซื้อหรือจ้าง | F2: รายชื่อผู้เสนอราคา | G2: ราคาที่เสนอ | H2: ผู้ได้รับการคัดเลือก | I2: ราคาที่ตกลงซื้อหรือจ้าง | J2: เหตุผลที่คัดเลือกโดยสรุป | K2: เลขที่และวันที่ของสัญญาหรือข้อตกลงในการซื้อหรือจ้าง
A3: 1 | B3: จ้างเหมาจัดทำตรายาง จำนวน 5 รายการ (กองคลัง) | C3: 2990 | D3: 2990 | E3: โดยวิธีเฉพาะเจาะจง | F3: ร้านเอกบล็อค | G3: 2990 | H3: ร้านเอกบล็อค | I3: 2990 | J3: เป็นผู้มีคุณสมบัติตรงตามเงื่อนไขที่กำหนด | K3: 068/2569 | L3: 01/12/2568
A4: 2 | B4: จ้างเหมาจัดทำป้ายประชาสัมพันธ์ กรุณารักษาความสะอาดน้ำพุร้อนป่าตึง | C4: 3950 | D4: 3950 | E4: โดยวิธีเฉพาะเจาะจง | F4: ร้านแม่จันเจริญ ป้ายโฆษณา | G4: 3950 | H4: ร้านแม่จันเจริญ ป้ายโฆษณา | I4: 3950 | J4: เป็นผู้มีคุณสมบัติตรงตามเงื่อนไขที่กำหนด | K4: 069/2569 | L4: 244319
A5: 3 | B5: ซื้อยางรถยนต์พร้อมติดตั้ง รถยนต์ส่วนกลาง ยี่ห้อมิตซูบิชิ หมายเลขทะเบียน กม 9658 เชียงราย ครุภัณฑ์เลขที่ 001-58-0006 | C5: 22000 | D5: 22000 | E5: โดยวิธีเฉพาะเจาะจง | F5: หจก.เอส.เค.ยางยนต์เชียงราย | G5: 22000 | H5: หจก.เอส.เค.ยางยนต์เชียงราย | I5: 22000 | J5: เป็นผู้มีคุณสมบัติตรงตามเงื่อนไขที่กำหนด | K5: 050/2569 | L5: 244319
A6: 4 | B6: ซื้อยางรถยนต์พร้อมติดตั้ง รถยนต์ส่วนกลาง ยี่ห้อมาสด้า หมายเลขทะเบียน กจ 1386 เชียงราย ครุภัณฑ์เลขที่ 001-48-0002 | C6: 13400 | D6: 13400 | E6: โดยวิธีเฉพาะเจาะจง | F6: หจก.เอส.เค.ยางยนต์เชียงราย | G6: 13400 | H6: หจก.เอส.เค.ยางยนต์เชียงราย | I6: 13400 | J6: เป็นผู้มีคุณสมบัติตรงตามเงื่อนไขที่กำหนด | K6: 049/2569 | L6: 244319
A7: 5 | B7: ซื้อครุภัณฑ์สำนักงาน (เครื่องปรับอากาศ) จำนวน 2 เครื่อง | C7: 161800 | D7: 161800 | E7: โดยวิธีเฉพาะเจาะจง | F7: ห้างหุ้นส่วนจำกัด จิมมี่ ซัพพลาย | G7: 161800 | H7: ห้างหุ้นส่วนจำกัด จิมมี่ ซัพพลาย | I7: 161800 | J7: เป็นผู้มีคุณสมบัติตรงตามเงื่อนไขที่กำหนด | K7: 002/2569 | L7: 244320
A8: 6 | B8: จ้างเหมาจัดทำตรายาง จำนวน ๙ รายการ | C8: 5340 | D8: 5340 | E8: โดยวิธีเฉพาะเจาะจง | F8: ร้าน จ.มุ่ยเจริญ | G8: 5340 | H8: ร้าน จ.มุ่ยเจริญ | I8: 5340 | J8: เป็นผู้มีคุณสมบัติตรงตามเงื่อนไขที่กำหนด | K8: 066/2569 | L8: 244316
A9: 7 | B9: จ้างเหมาบำรุงรักษารถตักหน้าขุดหลัง หมายเลขทะเบียน ฒฆ 7613 เชียงราย | C9: 20946.32 | D9: 20946.32 | E9: โดยวิธีเฉพาะเจาะจง | F9: บริษัท ชัยรัชการ (กรุงเทพ) จำกัด | G9: 20946.32 | H9: บริษัท ชัยรัชการ (กรุงเทพ) จำกัด | I9: 20946.32 | J9: เป็นผู้มีคุณสมบัติตรงตามเงื่อนไขที่กำหนด | K9: 067/2569 | L9: 244316
A10: 8 | B10: จ้างเหมาซ่อมแซมและเปลี่ยนอะไหล่รถยนต์ส่วนกลาง ยี่ห้อมิตซูบิชิ เลขทะเบียน กร ๒๖๕๐ เชียงราย (ครุภัณฑ์เลขที่ ๐๒๖-๕๙-๐๐๐๑) | C10: 4130.2 | D10: 4130.2 | E10: โดยวิธีเฉพาะเจาะจง | F10: บริษัท มิตซูพันล้าน จำกัด | G10: 4130.2 | H10: บริษัท มิตซูพันล้าน จำกัด | I10: 4130.2 | J10: เป็นผู้มีคุณสมบัติตรงตามเงื่อนไขที่กำหนด | K10: 065/2569 | L10: 28/11/2568
A11: 9 | B11: จ้างเหมาเครื่องจักรขุดลอกลำเหมือง บ้านโป่งน้ำร้อน หมู่ที่ 11 ตำบลป่าตึง อำเภอแม่จัน จังหวัดเชียงราย | C11: 44800 | D11: 44800 | E11: โดยวิธีเฉพาะเจาะจง | F11: ห้างหุ้นส่วนจำกัด อครา เอ็นเตอร์ไพรส์ | G11: 44800 | H11: ห้างหุ้นส่วนจำกัด อครา เอ็นเตอร์ไพรส์ | I11: 44800 | J11: เป็นผู้มีคุณสมบัติตรงตามเงื่อนไขที่กำหนด | K11: 063/2569 | L11: 26/11/2568
A12: 10 | B12: จ้างปรับปรุงถนนทางการเกษตรในพื้นที่ตำบลป่าตึง อำเภอแม่จัน จังหวัดเชียงราย | C12: 89632.54 | D12: 89632.54 | E12: โดยวิธีเฉพาะเจาะจง | F12: ห้างหุ้นส่วนจำกัด อครา เอ็นเตอร์ไพรส์ | G12: 89600 | H12: ห้างหุ้นส่วนจำกัด อครา เอ็นเตอร์ไพรส์ | I12: 89600 | J12: เป็นผู้มีคุณสมบัติตรงตามเงื่อนไขที่กำหนด | K12: 020/2569 | L12: 27/11/2568
A13: 11 | B13: ซื้อวัสดุคอมพิวเตอร์ จำนวน ๒ รายการ | C13: 7700 | D13: 7700 | E13: โดยวิธีเฉพาะเจาะจง | F13: ห้างหุ้นส่วนจำกัด ธนาทรัพย์ศิลา | G13: 7700 | H13: ห้างหุ้นส่วนจำกัด ธนาทรัพย์ศิลา | I13: 7700 | J13: เป็นผู้มีคุณสมบัติตรงตามเงื่อนไขที่กำหนด | K13: 048/2569 | L13: 244314
A14: 12 | B14: ซื้อวัสดุสำนักงาน จำนวน ๑ รายการ | C14: 7500 | D14: 7500 | E14: โดยวิธีเฉพาะเจาะจง | F14: ห้างหุ้นส่วนจำกัด พีเอส เครื่องเขียน | G14: 7500 | H14: ห้างหุ้นส่วนจำกัด พีเอส เครื่องเขียน | I14: 7500 | J14: เป็นผู้มีคุณสมบัติตรงตามเงื่อนไขที่กำหนด | K14: 031/2569 | L14: 21/11/2568
A15: 13 | B15: จ้างเหมาจัดทำสื่อประชาสัมพันธ์แจ้งข้อมูลติดต่อและรายงานผลการปฏิบัติงาน องค์การบริหารส่วนตำบลป่าตึง และประชาสัมพันธ์แหล่งท่องเที่ยวตำบลป่าตึง | C15: 87500 | D15: 87500 | E15: โดยวิธีเฉพาะเจาะจง | F15: คอมพ์ แอนด์ อาร์ต การพิมพ์ | G15: 87500 | H15: คอมพ์ แอนด์ อาร์ต การพิมพ์ | I15: 87500 | J15: เป็นผู้มีคุณสมบัติตรงตามเงื่อนไขที่กำหนด | K15: 061/2569 | L15: 21/11/2568
A16: 14 | B16: จ้างวางท่อระบายน้ำคอนกรีตเสริมเหล็ก พร้อมก่อสร้างอุโมงค์ บ้านท่าต้นแฟน หมู่ที่ 3 ตำบลป่าตึง อำเภอแม่จัน จังหวัดเชียงราย | C16: 500000 | D16: 502293.18 | E16: โดยวิธีเฉพาะเจาะจง | F16: ห้างหุ้นส่วนจำกัด อครา เอ็นเตอร์ไพรส์ | G16: 498000 | H16: ห้างหุ้นส่วนจำกัด อครา เอ็นเตอร์ไพรส์ | I16: 498000 | J16: เป็นผู้มีคุณสมบัติตรงตามเงื่อนไขที่กำหนด | K16: 018/2569 | L16: 21/11/2568
A17: 15 | B17: จ้างเหมาจัดทำตรายาง จำนวน 23 อัน | C17: 4880 | D17: 4880 | E17: โดยวิธีเฉพาะเจาะจง | F17: ร้านเอกบล็อค | G17: 4880 | H17: ร้านเอกบล็อค | I17: 4880 | J17: เป็นผู้มีคุณสมบัติตรงตามเงื่อนไขที่กำหนด | K17: 062/2569 | L17: 244314
A18: 16 | B18: จ้างก่อสร้างท่อลอดเหลี่ยมคอนกรีตเสริมเหล็ก ชนิดช่องเดียว พร้อมกำแพงปากท่อลอดเหลี่ยมคอนกรีตเสริมเหล็ก บ้านใหม่เจริญ หมู่ที่ 18 (จำนวน 2 จุด) ตำบลป่าตึง อำเภอแม่จันจังหวัดเชียงราย | C18: 436000 | D18: 443447.27 | E18: โดยวิธีเฉพาะเจาะจง | F18: ห้างหุ้นส่วนจำกัด ชิง ไห่ ดีเวลลอปเมนท์ | G18: 435000 | H18: ห้างหุ้นส่วนจำกัด ชิง ไห่ ดีเวลลอปเมนท์ | I18: 435000 | J18: เป็นผู้มีคุณสมบัติตรงตามเงื่อนไขที่กำหนด | K18: 019/2569 | L18: 244312
A19: 17 | B19: จ้างก่อสร้างดาดคอนกรีต หมู่ที่ 15 (บ้านป่าบงงามบน) ตำบลป่าตึง อำเภอแม่จัน จังหวัดเชียงราย | C19: 100000 | D19: 99644.79 | E19: โดยวิธีเฉพาะเจาะจง | F19: ห้างหุ้นส่วนจำกัด ชิงหลง คอนสทรัคชั่น | G19: 99600 | H19: ห้างหุ้นส่วนจำกัด ชิงหลง คอนสทรัคชั่น | I19: 99600 | J19: เป็นผู้มีคุณสมบัติตรงตามเงื่อนไขที่กำหนด | K19: 016/2569 | L19: 19/11/2568
A20: 18 | B20: จ้างก่อสร้างรางระบายน้ำคอนกรีตเสริมเหล็ก (ตัวยู) พร้อมฝาปิดตะแกรงเหล็กและฝาปิดคอนกรีต บ้านสันติสุข หมู่ที่ 19 (บ้านเฮโก) ตำบลป่าตึง อำเภอแม่จัน จังหวัดเชียงราย | C20: 250000 | D20: 252598.86 | E20: โดยวิธีเฉพาะเจาะจง | F20: ห้างหุ้นส่วนจำกัด ไทยนุรัฐพัฒนก่อสร้าง | G20: 249200 | H20: ห้างหุ้นส่วนจำกัด ไทยนุรัฐพัฒนก่อสร้าง | I20: 249200 | J20: เป็นผู้มีคุณสมบัติตรงตามเงื่อนไขที่กำหนด | K20: 017/2569 | L20: 19/11/2568
A21: 19 | B21: ประกวดราคาจ้างก่อสร้างโครงการก่อสร้างถนน คสล. บ้านแม่เฟือง หมู่ที่ 5 (สายที่ 1) ตำบลป่าตึง อำเภอแม่จัน จังหวัดเชียงราย | C21: 545700 | D21: 563745.43 | E21: ด้วยวิธีประกวดราคาอิเล็กทรอนิกส์ (e-bidding) | F21: ห้างหุ้นส่วนจำกัด สุทธิพันธ์ 2559 | G21: 406500 | H21: ห้างหุ้นส่วนจำกัด สุทธิพันธ์ 2559 | I21: 406500 | J21: เป็นผู้มีคุณสมบัติและข้อเสนอทางเทคนิคถูกต้องครบถ้วนและเป็นผู้เสนอราคา ต่ำสุด | K21: 021/2569 | L21: 03/12/2568
A22: 20 | B22: จ้างเหมาซ่อมแซมและเปลี่ยนอะไหล่รถยนต์ส่วนกลาง ยี่ห้อมิตซูบิชิ เลขทะเบียน กร ๒๖๕๐ เชียงราย | C22: 5796.19 | D22: 5796.19 | E22: โดยวิธีเฉพาะเจาะจง | F22: บริษัท มิตซูพันล้าน จำกัด | G22: 5796.19 | H22: บริษัท มิตซูพันล้าน จำกัด | I22: 5796.19 | J22: เป็นผู้มีคุณสมบัติตรงตามเงื่อนไขที่กำหนด | K22: 059/2569 | L22: 14/11/2568
A23: 21 | B23: ซื้อวัสดุแบบพิมพ์งานเลือกตั้ง จำนวน ๖ รายการ | C23: 16507 | D23: 16507 | E23: โดยวิธีเฉพาะเจาะจง | F23: โรงพิมพ์อาสารักษาดินแดน กรมการปกครอง | G23: 16507 | H23: โรงพิมพ์อาสารักษาดินแดน กรมการปกครอง | I23: 16507 | J23: เป็นผู้มีคุณสมบัติตรงตามเงื่อนไขที่กำหนด | K23: 030/2569 | L23: 14/11/2568
A24: 22 | B24: จ้างบำรุงรักษาและซ่อมแซมทรัพย์สิน (สายสัญญาณกล้องวงจรปิด) จำนวน ๒ งาน | C24: 13500 | D24: 13500 | E24: โดยวิธีเฉพาะเจาะจง | F24: ห้างหุ้นส่วนจำกัด ธนาทรัพย์ศิลา | G24: 13500 | H24: ห้างหุ้นส่วนจำกัด ธนาทรัพย์ศิลา | I24: 13500 | J24: เป็นผู้มีคุณสมบัติตรงตามเงื่อนไขที่กำหนด | K24: 058/2569 | L24: 12/11/2568
A25: 23 | B25: จ้างก่อสร้างท่อลอดเหลี่ยมคอนกรีตเสริมเหล็ก ขนาดช่องเดียว พร้อมกำแพงปากท่อลอดเหลี่ยมคอนกรีตเสริมเหล็ก บ้านเล่าฝู่ หมู่ที่ 20 (บ้านจะหยี) ตำบลป่าตึง อำเภอแม่จันจังหวัดเชียงราย | C25: 250000 | D25: 251234.87 | E25: โดยวิธีเฉพาะเจาะจง | F25: ห้างหุ้นส่วนจำกัด เอสเอสเค 888 คอนสตรัคชั่น | G25: 249800 | H25: ห้างหุ้นส่วนจำกัด เอสเอสเค 888 คอนสตรัคชั่น | I25: 249800 | J25: เป็นผู้มีคุณสมบัติตรงตามเงื่อนไขที่กำหนด | K25: 015/2568 | L25: 244306
A26: 24 | B26: จ้างก่อสร้างท่อลอดเหลี่ยมคอนกรีตเสริมเหล็ก ชนิดช่องเดียว พร้อมกำแพงปากท่อลอดเหลี่ยม คสล. บ้านอาแหยะ หมู่ที่ 16 ตำบลป่าตึง อำเภอแม่จัน จังหวัดเชียงราย | C26: 250000 | D26: 258295.54 | E26: โดยวิธีเฉพาะเจาะจง | F26: ห้างหุ้นส่วนจำกัด ไทยนุรัฐพัฒนก่อสร้าง | G26: 249700 | H26: ห้างหุ้นส่วนจำกัด ไทยนุรัฐพัฒนก่อสร้าง | I26: 249700 | J26: เป็นผู้มีคุณสมบัติตรงตามเงื่อนไขที่กำหนด | K26: 014/2569 | L26: 17/11/2568
A27: 25 | B27: จ้างก่อสร้างถังเก็บน้ำคอนกรีตเสริมเหล็ก บ้านห้วยก้างปลา หมู่ที่ 15 (บ้านห้วยยาโนบน) ตำบลป่าตึง อำเภอแม่จัน จังหวัดเชียงราย | C27: 250000 | D27: 252994.26 | E27: โดยวิธีเฉพาะเจาะจง | F27: ห้างหุ้นส่วนจำกัด ชิง ไห่ ดีเวลลอปเมนท์ | G27: 249900 | H27: ห้างหุ้นส่วนจำกัด ชิง ไห่ ดีเวลลอปเมนท์ | I27: 249900 | J27: เป็นผู้มีคุณสมบัติตรงตามเงื่อนไขที่กำหนด | K27: 013/2568 | L27: 17/11/2568
A28: 26 | B28: จ้างเหมาล้างทำความสะอาดเครื่องปรับอากาศ จำนวน ๑๒ เครื่อง | C28: 27600 | D28: 27600 | E28: โดยวิธีเฉพาะเจาะจง | F28: ห้างหุ้นส่วนจำกัด จิมมี่ ซัพพลาย | G28: 27600 | H28: ห้างหุ้นส่วนจำกัด จิมมี่ ซัพพลาย | I28: 27600 | J28: เป็นผู้มีคุณสมบัติตรงตามเงื่อนไขที่กำหนด | K28: 057/2569 | L28: 244300
A29: 27 | B29: จ้างก่อสร้างรางส่งน้ำคอนกรีตเสริมเหล็ก (ตัวยู) เส้นทุ่งหลวง ตำบลป่าตึง อำเภอแม่จัน จังหวัดเชียงราย | C29: 500000 | D29: 491938.13 | E29: โดยวิธีเฉพาะเจาะจง | F29: ห้างหุ้นส่วนจำกัด อครา เอ็นเตอร์ไพรส์ | G29: 491000 | H29: ห้างหุ้นส่วนจำกัด อครา เอ็นเตอร์ไพรส์ | I29: 491000 | J29: เป็นผู้มีคุณสมบัติตรงตามเงื่อนไขที่กำหนด | K29: 008/2569 | L29: 07/11/2568
A30: 28 | B30: จ้างก่อสร้างรางระบายน้ำคอนกรีตเสริมเหล็ก (ตัวยู) บ้านห้วยยาโน หมู่ที่ 12 (บ้านปางผักฮี้) จำนวน 2 ช่วง ตำบลป่าตึง อำเภอแม่จัน จังหวัดเชียงราย | C30: 250000 | D30: 249813.9 | E30: โดยวิธีเฉพาะเจาะจง | F30: ห้างหุ้นส่วนจำกัด ชิงหลง คอนสทรัคชั่น | G30: 248900 | H30: ห้างหุ้นส่วนจำกัด ชิงหลง คอนสทรัคชั่น | I30: 248900 | J30: เป็นผู้มีคุณสมบัติตรงตามเงื่อนไขที่กำหนด | K30: 010/2569 | L30: 244299
A31: 29 | B31: จ้างก่อสร้างถนนคอนกรีตเสริมเหล็ก เส้นทางการเกษตร บ้านห้วยต่าง หมู่ที่ 16 ตำบลป่าตึง อำเภอแม่จัน จังหวัดเชียงราย | C31: 499500 | D31: 521349.82 | E31: โดยวิธีเฉพาะเจาะจง | F31: ห้างหุ้นส่วนจำกัด ชิง ไห่ ดีเวลลอปเมนท์ | G31: 499400 | H31: ห้างหุ้นส่วนจำกัด ชิง ไห่ ดีเวลลอปเมนท์ | I31: 499400 | J31: เป็นผู้มีคุณสมบัติตรงตามเงื่อนไขที่กำหนด | K31: 009/2569 | L31: 244299
A32: 30 | B32: จ้างก่อสร้างถังเก็บน้ำคอนกรีตเสริมเหล็ก บ้านสันติสุข หมู่ที่ 19 (บ้านกิ่วสะไต) ตำบลป่าตึง อำเภอแม่จัน จังหวัดเชียงราย | C32: 250000 | D32: 253340.93 | E32: โดยวิธีเฉพาะเจาะจง | F32: ห้างหุ้นส่วนจำกัด ไทยนุรัฐพัฒนก่อสร้าง | G32: 249700 | H32: ห้างหุ้นส่วนจำกัด ไทยนุรัฐพัฒนก่อสร้าง | I32: 249700 | J32: เป็นผู้มีคุณสมบัติตรงตามเงื่อนไขที่กำหนด | K32: 011/2569 | L32: 244299
A33: 31 | B33: จ้างก่อสร้างรางระบายน้ำคอนกรีตเสริมเหล็ก (ตัวยู) พร้อมฝาปิดตะแกรงเหล้ก บ้านสันติสุข หมู่ที่ 19 (บ้านหล่อชา) ตำบลป่าตึง อำเภอแม่จัน จังหวัดเชียงราย | C33: 250000 | D33: 257670.31 | E33: โดยวิธีเฉพาะเจาะจง | F33: ห้างหุ้นส่วนจำกัด ชิงหลง คอนสทรัคชั่น | G33: 249900 | H33: ห้างหุ้นส่วนจำกัด ชิงหลง คอนสทรัคชั่น | I33: 249900 | J33: เป็นผู้มีคุณสมบัติตรงตามเงื่อนไขที่กำหนด | K33: 012/2569 | L33: 244299
A34: 32 | B34: จ้างเหมาจัดทำอาหารว่างพร้อมเครื่องดื่มและอาหารกลางวัน ประชุม ศบกต.ป่าตึง ประจำเดือนพฤศจิกายน 2568 | C34: 4650 | D34: 4650 | E34: โดยวิธีเฉพาะเจาะจง | F34: นางแก้วมาเรือน จขุเนตร | G34: 4650 | H34: นางแก้วมาเรือน จขุเนตร | I34: 4650 | J34: เป็นผู้มีอาชีพที่เสนอพัสดุตรงตามวัตถุประสงค์ในการใช้งาน | K34: ไม่มีเลขที่สัญญาเนื่องจากการจัดซื้อจัดจ้างตามหนังสือ ด่วนที่สุด ที่ กค (กวจ) 0405.5/ว119 | L34: 244298
A35: 33 | B35: จ้างเหมาจัดทำอาหารว่างพร้อมเครื่องดื่มและอาหารกลางวัน ประชุมสภา 13 พ.ย.2568 | C35: 6200 | D35: 6200 | E35: โดยวิธีเฉพาะเจาะจง | F35: นางแก้วมาเรือน จขุเนตร | G35: 6200 | H35: นางแก้วมาเรือน จขุเนตร | I35: 6200 | J35: เป็นผู้มีอาชีพที่เสนอพัสดุตรงตามวัตถุประสงค์ในการใช้งาน | K35: ไม่มีเลขที่สัญญาเนื่องจากการจัดซื้อจัดจ้างตามหนังสือ ด่วนที่สุด ที่ กค (กวจ) 0405.5/ว119 | L35: 244299
A36: 34 | B36: ค่าจ้างเหมาจัดทำพวงมาลา + พานพุม 25 พฤศจิกายน 2568 | C36: 2000 | D36: 2000 | E36: โดยวิธีเฉพาะเจาะจง | F36: นางชญานันท์ ซางสุภาพ | G36: 2000 | H36: นางชญานันท์ ซางสุภาพ | I36: 2000 | J36: เป็นผู้มีอาชีพที่เสนอพัสดุตรงตามวัตถุประสงค์ในการใช้งาน | K36: ไม่มีเลขที่สัญญาเนื่องจากการจัดซื้อจัดจ้างตามหนังสือ ด่วนที่สุด ที่ กค (กวจ) 0405.5/ว119 | L36: 244313
A37: 35 | B37: จ้างเหมาบุคลากรกองคลัง เพื่อปฏิบัติงานด้านเอกสารต่างๆ ตั้งแต่วันที่ 1 ธ.ค. 68 - 28 ก.พ. 68 | C37: 27000 | D37: 27000 | E37: โดยวิธีเฉพาะเจาะจง | F37: นางสาวปฐมมาวดี ซือสวัสดิ์พาณิชย์ | G37: 27000 | H37: นางสาวปฐมมาวดี ซือสวัสดิ์พาณิชย์ | I37: 27000 | J37: เป็นผู้มีอาชีพที่เสนอพัสดุตรงตามวัตถุประสงค์ในการใช้งาน | K37: ไม่มีเลขที่สัญญาเนื่องจากการจัดซื้อจัดจ้างตามหนังสือ ด่วนที่สุด ที่ กค (กวจ) 0405.5/ว119 | L37: 244312
I38: =SUM(I3:I37) -> 4756389.7

Sheet สรุปผล ธค
A1: สรุปผลการดำเนินการจัดซื้อจัดจ้างหรือการจัดหาพัสดุของหน่วยงานประจำเดือน ปีงบประมาณ พ.ศ.2569
A2: ชื่อหน่วยงาน องค์การบริหารส่วนตำบลป่าตึง
D3: ประจำเดือน ธันวาคม 2568
C4: ลำดับ | D4: วิธีการจัดซื้อจัดจ้าง | E4: จำนวนโครงการ | F4: จำนวนงบประมาณ
C5: 1 | D5: วิธีเฉพาะเจาะจง | E5: 36 | F5: =ธค68!I40-'สรุปผล ธค'!F7 -> 1483697.3
C6: 2 | D6: วิธีคัดเลือก | E6: - | F6: -
C7: 3 | D7: วิธีประกวดราคาอิเล็คทรอนิกส์ (e-bidding) | E7: 1 | F7: 7220000
C8: 4 | D8: อื่น ๆ | E8: - | F8: -
D9: รวม | E9: =SUM(E5:E8) -> 37 | F9: =SUM(F5:F8) -> 8703697.3
A11: ปัญหา/อุปสรรค
A17: ข้อเสนอแนะ

Sheet ธค68
A2: ลำดับที่ | B2: งานที่จัดซื้อจัดจ้าง | C2: วงเงินที่จะซื้อหรือจ้าง | D2: ราคากลาง | E2: วิธีจัดซื้อหรือจ้าง | F2: รายชื่อผู้เสนอราคา | G2: ราคาที่เสนอ | H2: ผู้ได้รับการคัดเลือก | I2: ราคาที่ตกลงซื้อหรือจ้าง | J2: เหตุผลที่คัดเลือกโดยสรุป | K2: เลขที่และวันที่ของสัญญาหรือข้อตกลงในการซื้อหรือจ้าง
A3: 1 | B3: จ้างเหมาซ่อมแซมรถจักรยานยนต์ส่วนกลาง หมายเลขทะเบียน ขฉท 902 เชียงราย สำหรับกองการศึกษา ศาสนาและวัฒนธรรม | C3: 2400 | D3: 2400 | E3: โดยวิธีเฉพาะเจาะจง | F3: นายศราวุธ จันพุดซา | G3: 2400 | H3: นายศราวุธ จันพุดซา | I3: 2400 | J3: เป็นผู้มีคุณสมบัติตรงตามเงื่อนไขที่กำหนด | K3: 101/2569 | L3: 244354
A4: 2 | B4: ซื้อวัสดุเพื่อปรับปรุงซ่อมแซมคอสะพานและไหล่ทางถนน | C4: 4200 | D4: 4200 | E4: โดยวิธีเฉพาะเจาะจง | F4: บริษัท แม่จันคอนกรีต (999) จำกัด | G4: 4200 | H4: บริษัท แม่จันคอนกรีต (999) จำกัด | I4: 4200 | J4: เป็นผู้มีคุณสมบัติตรงตามเงื่อนไขที่กำหนด | K4: 066/2569 | L4: 244348
A5: 3 | B5: ซื้อคอนกรีตผสมเสร็จ เพื่อใช้ซ่อมแซมถนนบ้านป่าบงงามบน หมู่ที่ ๑๕ ตำบลป่าตึง อำเภอแม่จัน จังหวัดเชียงราย | C5: 5640 | D5: 5640 | E5: โดยวิธีเฉพาะเจาะจง | F5: ห้างหุ้นส่วนจำกัด พีที คอนกรีต | G5: 5640 | H5: ห้างหุ้นส่วนจำกัด พีที คอนกรีต | I5: 5640 | J5: เป็นผู้มีคุณสมบัติตรงตามเงื่อนไขที่กำหนด | K5: 065/2569 | L5: 244348
A6: 4 | B6: จ้างเหมาทำป้ายประชาสัมพันธ์รณรงค์ประชาสัมพันธ์การเลือกตั้งตามโครงการหมู่บ้านพลเมืองดีวิธีประชาธิปไตย | C6: 8960 | D6: 8960 | E6: โดยวิธีเฉพาะเจาะจง | F6: รุ่งเรืองปริ้น 99 | G6: 8960 | H6: รุ่งเรืองปริ้น 99 | I6: 8960 | J6: เป็นผู้มีคุณสมบัติตรงตามเงื่อนไขที่กำหนด | K6: 095/2569 | L6: 244348
A7: 5 | B7: ซื้อดอกเจาะคอริ่งเจาะคอนกรีต | C7: 24000 | D7: 24000 | E7: โดยวิธีเฉพาะเจาะจง | F7: ห้างหุ้นส่วนจำกัด เชียงราย ซี ไอ จี | G7: 24000 | H7: ห้างหุ้นส่วนจำกัด เชียงราย ซี ไอ จี | I7: 24000 | J7: เป็นผู้มีคุณสมบัติตรงตามเงื่อนไขที่กำหนด | K7: 067/2569 | L7: 244348
A8: 6 | B8: ซื้อวัสดุเพื่อปรับปรุงซ่อมแซมคอสะพานและไหล่ทางถนน | C8: 7400 | D8: 7400 | E8: โดยวิธีเฉพาะเจาะจง | F8: ห้างหุ้นส่วนจำกัด พีที คอนกรีต | G8: 7400 | H8: ห้างหุ้นส่วนจำกัด พีที คอนกรีต | I8: 7400 | J8: เป็นผู้มีคุณสมบัติตรงตามเงื่อนไขที่กำหนด | K8: 068/2569 | L8: 244348
A9: 7 | B9: จ้างจ้างเหมารถเครื่องเสียงประชาสัมพันธ์การเลือกตั้งตามโครงการหมู่บ้านพลเมืองดีวิธีประชาธิปไตย | C9: 14000 | D9: 14000 | E9: โดยวิธีเฉพาะเจาะจง | F9: นาย บุญรัตน์ พลสวัสดิ์ | G9: 14000 | H9: นาย บุญรัตน์ พลสวัสดิ์ | I9: 14000 | J9: เป็นผู้มีคุณสมบัติตรงตามเงื่อนไขที่กำหนด | K9: 096/2569 | L9: 244348
A10: 8 | B10: จ้างเหมาซ่อมแซมกระเบื้องพื้นอาคารสำนักงานที่ทำการองค์การบริหารส่วนตำบลป่าตึง อำเภอแม่จัน จังหวัดเชียงราย | C10: 10004.31 | D10: 10004.31 | E10: โดยวิธีเฉพาะเจาะจง | F10: นายคณภรณ์ จันสิงห์ | G10: 10004.31 | H10: นายคณภรณ์ จันสิงห์ | I10: 10004.31 | J10: เป็นผู้มีคุณสมบัติตรงตามเงื่อนไขที่กำหนด | K10: 092/2569 | L10: 244348
A11: 9 | B11: ซื้อวัสดุแบบพิมพ์งานเลือกตั้ง จำนวน ๔ รายการ | C11: 7280 | D11: 7280 | E11: โดยวิธีเฉพาะเจาะจง | F11: โรงพิมพ์อาสารักษาดินแดน กรมการปกครอง | G11: 7280 | H11: โรงพิมพ์อาสารักษาดินแดน กรมการปกครอง | I11: 7280 | J11: เป็นผู้มีคุณสมบัติตรงตามเงื่อนไขที่กำหนด | K11: 064/2569 | L11: 29/12/2568
A12: 10 | B12: จ้างเหมาซ่อมแซมและบำรุงรักษาครุภัณฑ์เครื่องคอมพิวเตอร์ (ครุภัณฑ์เลขที่ ๔๑๖-๖๒-๐๑๔๕) | C12: 2800 | D12: 2800 | E12: โดยวิธีเฉพาะเจาะจง | F12: ห้างหุ้นส่วนจำกัด ธนาทรัพย์ศิลา | G12: 2800 | H12: ห้างหุ้นส่วนจำกัด ธนาทรัพย์ศิลา | I12: 2800 | J12: เป็นผู้มีคุณสมบัติตรงตามเงื่อนไขที่กำหนด | K12: 091/2569 | L12: 29/12/2568
A13: 11 | B13: จ้างเหมาซ่อมแซมและบำรุงรักษาครุภัณฑ์รถยนต์ยี่ห้อฟอร์ด หมายเลขทะเบียน บธ ๑๘๔๒ | C13: 2330 | D13: 2330 | E13: โดยวิธีเฉพาะเจาะจง | F13: ช.การช่าง | G13: 2330 | H13: ช.การช่าง | I13: 2330 | J13: เป็นผู้มีคุณสมบัติตรงตามเงื่อนไขที่กำหนด | K13: 089/2569 | L13: 29/12/2568
A14: 12 | B14: ประกวดราคาจ้างก่อสร้างโครงการซ่อมแซมถนนลาดยางแอสฟัลท์ติกคอนกรีต รหัสสายทาง ชร.ถ.011 บ้านป่าบง หมู่ที่ 2 เชื่อม บ้านสันโค้ง หมู่ที่ 10 | C14: 9608000 | D14: 7226726.3 | E14: ด้วยวิธีประกวดราคาอิเล็กทรอนิกส์ | F14: ห้างหุ้นส่วนจำกัด ธนะชัย แอสโซซิเอท | G14: 7220000 | H14: ห้างหุ้นส่วนจำกัด ธนะชัย แอสโซซิเอท | I14: 7220000 | J14: เป็นผู้มีคุณสมบัติและข้อเสนอทางเทคนิคถูกต้องครบถ้วนและเป็นผู้เสนอราคา ต่ำสุด | K14: 052/2569 | L14: 16/02/2569
A15: 13 | B15: จ้างเหมาจัดทำตราประทับบัตรเลือกตั้งหรือเครื่องหมายบนบัตรเลือกตั้ง จำนวน ๔ อัน | C15: 1400 | D15: 1400 | E15: โดยวิธีเฉพาะเจาะจง | F15: ร้านแม่จันเจริญ ป้ายโฆษณา | G15: 1400 | H15: ร้านแม่จันเจริญ ป้ายโฆษณา | I15: 1400 | J15: เป็นผู้มีคุณสมบัติตรงตามเงื่อนไขที่กำหนด | K15: 087/2569 | L15: 244343
A16: 14 | B16: ซื้อวัสดุวิทยาศาสตร์หรือการแพทย์ จำนวน ๔ รายการ | C16: 19350 | D16: 19350 | E16: โดยวิธีเฉพาะเจาะจง | F16: บริษัท ท็อป เมดิคอล จำกัด | G16: 19350 | H16: บริษัท ท็อป เมดิคอล จำกัด | I16: 19350 | J16: เป็นผู้มีคุณสมบัติตรงตามเงื่อนไขที่กำหนด | K16: 061/2569 | L16: 244344
A17: 15 | B17: จ้างเหมาจัดทำธงแดงพร้อมติดตั้ง จำนวน ๑๐๐ ชุด และจ้างเหมาจัดทำป้ายโครงการฯ ชนิดไวนิล จำนวน ๑ ป้าย | C17: 11600 | D17: 11600 | E17: โดยวิธีเฉพาะเจาะจง | F17: รุ่งเรืองปริ้น 99 | G17: 11600 | H17: รุ่งเรืองปริ้น 99 | I17: 11600 | J17: เป็นผู้มีคุณสมบัติตรงตามเงื่อนไขที่กำหนด | K17: 088/2569 | L17: 244344
A18: 16 | B18: ซื้อคอนกรีตผสมเสร็จ เพื่อใช้ซ่อมแซมถนนบ้านเล่าฝู่ หมู่ที่ ๒๐ (บ้านเล่าฝู่ , บ้านจะหยี และบ้านโป่งป่าแขม) | C18: 33600 | D18: 33600 | E18: โดยวิธีเฉพาะเจาะจง | F18: ห้างหุ้นส่วนจำกัด เอสเอสเค คอนสตรัคชั่น แอนด์แมชชีน | G18: 33600 | H18: ห้างหุ้นส่วนจำกัด เอสเอสเค คอนสตรัคชั่น แอนด์แมชชีน | I18: 33600 | J18: เป็นผู้มีคุณสมบัติตรงตามเงื่อนไขที่กำหนด | K18: 062/2569 | L18: 244344
A19: 17 | B19: ซื้อวัสดุเพื่อลดอุบัติเหตุการจราจรในตำบลป่าตึง จำนวน ๘ รายการ | C19: 8720 | D19: 8720 | E19: โดยวิธีเฉพาะเจาะจง | F19: หจก.ป่าตึงวัสดุก่อสร้าง | G19: 8720 | H19: หจก.ป่าตึงวัสดุก่อสร้าง | I19: 8720 | J19: เป็นผู้มีคุณสมบัติตรงตามเงื่อนไขที่กำหนด | K19: 063/2569 | L19: 244344
A20: 18 | B20: จ้างก่อสร้างรางระบายน้ำคอนกรีตเสริมเหล็ก (ตัวยู) บ้านสันโค้ง หมู่ที่ 10 ตำบลป่าตึง อำเภอแม่จัน จังหวัดเชียงราย | C20: 169000 | D20: 169035.33 | E20: โดยวิธีเฉพาะเจาะจง | F20: ห้างหุ้นส่วนจำกัด อาเพียวคอนสตรัคชั่น | G20: 169000 | H20: ห้างหุ้นส่วนจำกัด อาเพียวคอนสตรัคชั่น | I20: 169000 | J20: เป็นผู้มีคุณสมบัติตรงตามเงื่อนไขที่กำหนด | K20: 024/2569 | L20: 29/12/2568
A21: 19 | B21: จ้างก่อสร้างรางระบายน้ำคอนกรีตเสริมเหล็ก (ตัวยู) บ้านป่าบง หมู่ที่ 2 (สายที่ 2) ตำบลป่าตึง อำเภอแม่จัน จังหวัดเชียงราย | C21: 280600 | D21: 281809.06 | E21: โดยวิธีเฉพาะเจาะจง | F21: ห้างหุ้นส่วนจำกัด อาเพียวคอนสตรัคชั่น | G21: 280600 | H21: ห้างหุ้นส่วนจำกัด อาเพียวคอนสตรัคชั่น | I21: 280600 | J21: เป็นผู้มีคุณสมบัติตรงตามเงื่อนไขที่กำหนด | K21: 026/2569 | L21: 29/12/2568
A22: 20 | B22: จ้างก่อสร้างรางระบายน้ำคอนกรีตเสริมเหล็ก (ตัวยู) บ้านป่าบง หมู่ที่ 2 (สายที่ 1) ตำบลป่าตึง อำเภอแม่จัน จังหวัดเชียงราย | C22: 73000 | D22: 73648.32 | E22: โดยวิธีเฉพาะเจาะจง | F22: ห้างหุ้นส่วนจำกัด อาเพียวคอนสตรัคชั่น | G22: 73000 | H22: ห้างหุ้นส่วนจำกัด อาเพียวคอนสตรัคชั่น | I22: 73000 | J22: เป็นผู้มีคุณสมบัติตรงตามเงื่อนไขที่กำหนด | K22: 025/2569 | L22: 29/12/2568
A23: 21 | B23: ซื้อวัสดุคอมพิวเตอร์ จำนวน ๓ รายการ | C23: 8700 | D23: 8700 | E23: โดยวิธีเฉพาะเจาะจง | F23: ห้างหุ้นส่วนจำกัด ธนาทรัพย์ศิลา | G23: 8700 | H23: ห้างหุ้นส่วนจำกัด ธนาทรัพย์ศิลา | I23: 8700 | J23: เป็นผู้มีคุณสมบัติตรงตามเงื่อนไขที่กำหนด | K23: 059/2569 | L23: 244342
A24: 22 | B24: ซื้อคอนกรีตผสมเสร็จ เพื่อใช้ซ่อมแซมถนนบ้านป่าตึง หมู่ที่ ๘ ตำบลป่าตึง อำเภอแม่จัน จังหวัดเชียงราย | C24: 3000 | D24: 3000 | E24: โดยวิธีเฉพาะเจาะจง | F24: บริษัท แม่จันคอนกรีต (999) จำกัด | G24: 3000 | H24: บริษัท แม่จันคอนกรีต (999) จำกัด | I24: 3000 | J24: เป็นผู้มีคุณสมบัติตรงตามเงื่อนไขที่กำหนด | K24: 060/2569 | L24: 244342
A25: 23 | B25: ซื้อวัสดุไฟฟ้า จำนวน ๕ ชุด | C25: 17250 | D25: 17250 | E25: โดยวิธีเฉพาะเจาะจง | F25: ห้างหุ้นส่วนจำกัด โซล่าร์เซลล์ เชียงราย | G25: 17250 | H25: ห้างหุ้นส่วนจำกัด โซล่าร์เซลล์ เชียงราย | I25: 17250 | J25: เป็นผู้มีคุณสมบัติตรงตามเงื่อนไขที่กำหนด | K25: 058/2569 | L25: 244342
A26: 24 | B26: จ้างก่อสร้างรางระบายน้ำคอนกรีตเสริมเหล็ก (ตัวยู) บ้านป่าตึง หมู่ที่ 7 (บ้านน้ำตกตาดทอง) ตำบลป่าตึง อำเภอแม่จัน จังหวัดเชียงราย | C26: 309500 | D26: 312631.79 | E26: โดยวิธีเฉพาะเจาะจง | F26: ห้างหุ้นส่วนจำกัด อาเพียวคอนสตรัคชั่น | G26: 309500 | H26: ห้างหุ้นส่วนจำกัด อาเพียวคอนสตรัคชั่น | I26: 309500 | J26: เป็นผู้มีคุณสมบัติตรงตามเงื่อนไขที่กำหนด | K26: 023/2569 | L26: 29/12/2568
A27: 25 | B27: จ้างเหมาเครื่องจักรปรับเกลี่ยถนนทางการเกษตร บ้านสันติสุข หมู่ที่ 19 (บ้านหล่อโย) จำนวน 3 จุด ตำบลป่าตึง อำเภอแม่จัน จังหวัดเชียงราย | C27: 36000 | D27: 36000 | E27: โดยวิธีเฉพาะเจาะจง | F27: ร้าน จ.รุ่งเรืองค้าวัสดุ | G27: 36000 | H27: ร้าน จ.รุ่งเรืองค้าวัสดุ | I27: 36000 | J27: เป็นผู้มีคุณสมบัติตรงตามเงื่อนไขที่กำหนด | K27: 077/2568 | L27: 244335
A28: 26 | B28: จ้างเหมาซ่อมแซมหลังคาอาคารสำนักงานองค์การบริหารส่วนตำบลป่าตึง อำเภอแม่จัน จังหวัดเชียงราย | C28: 3500 | D28: 3500 | E28: โดยวิธีเฉพาะเจาะจง | F28: ร้าน จ.รุ่งเรืองค้าวัสดุ | G28: 3500 | H28: ร้าน จ.รุ่งเรืองค้าวัสดุ | I28: 3500 | J28: เป็นผู้มีคุณสมบัติตรงตามเงื่อนไขที่กำหนด | K28: 075/2569 | L28: 244335
A29: 27 | B29: จ้างเหมาถมดิน บ้านสันติสุข หมู่ที่ 19 (บ้านแสนใหม่) ตำบลป่าตึง อำเภอแม่จัน จังหวัดเชียงราย | C29: 12300 | D29: 12300 | E29: โดยวิธีเฉพาะเจาะจง | F29: ร้าน จ.รุ่งเรืองค้าวัสดุ | G29: 12300 | H29: ร้าน จ.รุ่งเรืองค้าวัสดุ | I29: 12300 | J29: เป็นผู้มีคุณสมบัติตรงตามเงื่อนไขที่กำหนด | K29: 078/2569 | L29: 244335
A30: 28 | B30: ซื้อครุภัณฑ์งานบ้านงานครัว จำนวน ๒ รายการ | C30: 36400 | D30: 36400 | E30: โดยวิธีเฉพาะเจาะจง | F30: ร้านสากลการเกษตร 2015 | G30: 31500 | H30: ร้านสากลการเกษตร 2015 | I30: 31500 | J30: เป็นผู้มีคุณสมบัติตรงตามเงื่อนไขที่กำหนด | K30: 054/2569 | L30: 244335
A31: 29 | B31: ซื้อแบตเตอรี่พร้อมเปลี่ยน รถยนต์ส่วนกลาง ยี่ห้ออีซูซุ เลขทะเบียน ๘๑-๘๖๖๙ | C31: 7383 | D31: 7383 | E31: โดยวิธีเฉพาะเจาะจง | F31: อู่ช่างอึ่ง | G31: 7383 | H31: อู่ช่างอึ่ง | I31: 7383 | J31: เป็นผู้มีคุณสมบัติตรงตามเงื่อนไขที่กำหนด | K31: 052/2569 | L31: 244335
A32: 30 | B32: ซื้อครุภัณฑ์ชุดเครื่องเสียงห้องประชุม จำนวน ๓ รายการ | C32: 53900 | D32: 53900 | E32: โดยวิธีเฉพาะเจาะจง | F32: ห้างหุ้นส่วนจำกัด ธนาทรัพย์ศิลา | G32: 53900 | H32: ห้างหุ้นส่วนจำกัด ธนาทรัพย์ศิลา | I32: 53900 | J32: เป็นผู้มีคุณสมบัติตรงตามเงื่อนไขที่กำหนด | K32: 053/2569 | L32: 244335
A33: 31 | B33: ซื้อวัสดุอุปกรณ์ตามโครงการพัฒนาผู้เรียนการแข่งขันกีฬา (กิจกรรมกีฬากลุ่มป่าตึง) ประจำปีงบประมาณ 2569 ณ โรงเรียนบ้านห้วยมะหินฝน ตำบลป่าตึง อำเภอแม่จันจังหวัดเชียงราย | C33: 11980 | D33: 11980 | E33: โดยวิธีเฉพาะเจาะจง | F33: ร้าน พีพีเครื่องเขียน | G33: 11980 | H33: ร้าน พีพีเครื่องเขียน | I33: 11980 | J33: เป็นผู้มีคุณสมบัติตรงตามเงื่อนไขที่กำหนด | K33: 001/2569 | L33: 244322
A34: 32 | B34: ซื้อคอนกรีตผสมเสร็จ เพื่อใช้ซ่อมแซมถนนบ้านห้วยก้างปลา หมู่ที่ 15 (บ้านห้วยปู, บ้านป่าบงงามบนและบ้านห้วยก้างปลา) ตำบลป่าตึง อำเภอแม่จัน จังหวัดเชียงราย | C34: 14700 | D34: 14700 | E34: โดยวิธีเฉพาะเจาะจง | F34: บริษัท แม่จันคอนกรีต (999) จำกัด | G34: 14700 | H34: บริษัท แม่จันคอนกรีต (999) จำกัด | I34: 14700 | J34: เป็นผู้มีคุณสมบัติตรงตามเงื่อนไขที่กำหนด | K34: 051/2569 | L34: 244321
A35: 33 | B35: จ้างเหมาจัดทำป้ายเกี่ยวกับงานเลือกตั้ง ส.อบต. และนายก อบต. จำนวน 32 ป้าย | C35: 11050 | D35: 11050 | E35: โดยวิธีเฉพาะเจาะจง | F35: ร้านแม่จันเจริญ ป้ายโฆษณา | G35: 11050 | H35: ร้านแม่จันเจริญ ป้ายโฆษณา | I35: 11050 | J35: เป็นผู้มีคุณสมบัติตรงตามเงื่อนไขที่กำหนด | K35: 071/2569 | L35: 244321
A36: 34 | B36: จ้างเหมาซ่อมแซมและเปลี่ยนอะไหล่รถยนต์ส่วนกลาง โตโยต้า หมายเลขทะเบียน ผฉ 8455 เชียงราย | C36: 19350 | D36: 19350 | E36: โดยวิธีเฉพาะเจาะจง | F36: อู่ช่างอึ่ง | G36: 19350 | H36: อู่ช่างอึ่ง | I36: 19350 | J36: เป็นผู้มีคุณสมบัติตรงตามเงื่อนไขที่กำหนด | K36: 070/2569 | L36: 03/12/2568
A37: 35 | B37: จ้างเหมาซ่อมแซมและบำรุงรักษาครุภัณฑ์เครื่องคอมพิวเตอร์ (ครุภัณฑ์เลขที่ 416-62-0146) | C37: 6800 | D37: 6800 | E37: โดยวิธีเฉพาะเจาะจง | F37: ห้างหุ้นส่วนจำกัด ธนาทรัพย์ศิลา | G37: 6800 | H37: ห้างหุ้นส่วนจำกัด ธนาทรัพย์ศิลา | I37: 6800 | J37: เป็นผู้มีคุณสมบัติตรงตามเงื่อนไขที่กำหนด | K37: 072/2569 | L37: 03/12/2568
A38: 36 | B38: จ้างก่อสร้างรางระบายน้ำคอนกรีตเสริมเหล็ก (ตัวยู) บ้านป่าตึง หมู่ที่ 7(ลำเหมืองอู่) ตำบลป่าตึง อำเภอแม่จัน จังหวัดเชียงราย | C38: 249500 | D38: 256809 | E38: โดยวิธีเฉพาะเจาะจง | F38: ห้างหุ้นส่วนจำกัด อาเพียวคอนสตรัคชั่น | G38: 249500 | H38: ห้างหุ้นส่วนจำกัด อาเพียวคอนสตรัคชั่น | I38: 249500 | J38: เป็นผู้มีคุณสมบัติตรงตามเงื่อนไขที่กำหนด | K38: 022/2569 | L38: 04/12/2568
A39: 37 | B39: ค่าจ้างเหมาจัดทำพานพุ่ม 5 ธันวาคม 2568 | C39: 1000 | D39: 1000 | E39: โดยวิธีเฉพาะเจาะจง | F39: นางชญานันท์ ซางสุภาพ | G39: 1000 | H39: นางชญานันท์ ซางสุภาพ | I39: 1000 | J39: เป็นผู้มีอาชีพที่เสนอพัสดุตรงตามวัตถุประสงค์ | K39: ไม่มีเลขที่สัญญาเนื่องจากการจัดซื้อจัดจ้างตามหนังสือ ด่วนที่สุด ที่ กค (กวจ) 0405.5/ว119 | L39: 244327
I40: =SUM(I3:I39) -> 8703697.3

Sheet สรุปผล มค
A1: สรุปผลการดำเนินการจัดซื้อจัดจ้างหรือการจัดหาพัสดุของหน่วยงานประจำเดือน ปีงบประมาณ พ.ศ.2569
A2: ชื่อหน่วยงาน องค์การบริหารส่วนตำบลป่าตึง
D3: ประจำเดือน มกราคม 2569
C4: ลำดับ | D4: วิธีการจัดซื้อจัดจ้าง | E4: จำนวนโครงการ | F4: จำนวนงบประมาณ
C5: 1 | D5: วิธีเฉพาะเจาะจง | E5: 98 | F5: 7795820.6
C6: 2 | D6: วิธีคัดเลือก | E6: - | F6: -
C7: 3 | D7: วิธีประกวดราคาอิเล็คทรอนิกส์ (e-bidding) | E7: - | F7: -
C8: 4 | D8: อื่น ๆ | E8: - | F8: -
D9: รวม | E9: =SUM(E5:E8) -> 98 | F9: =SUM(F5:F8) -> 7795820.6
A11: ปัญหา/อุปสรรค
A17: ข้อเสนอแนะ

Sheet มค69
A2: ลำดับที่ | B2: งานที่จัดซื้อจัดจ้าง | C2: วงเงินที่จะซื้อหรือจ้าง | D2: ราคากลาง | E2: วิธีจัดซื้อหรือจ้าง | F2: รายชื่อผู้เสนอราคา | G2: ราคาที่เสนอ | H2: ผู้ได้รับการคัดเลือก | I2: ราคาที่ตกลงซื้อหรือจ้าง | J2: เหตุผลที่คัดเลือกโดยสรุป | K2: เลขที่และวันที่ของสัญญาหรือข้อตกลงในการซื้อหรือจ้าง
A3: 1 | B3: จ้างปรับปรุงถนนทางการเกษตรในพื้นที่ตำบลป่าตึง บ้านป่าตึง หมู่ที่ 8 ตำบลป่าตึง อำเภอแม่จัน จังหวัดเชียงราย | C3: 9900 | D3: 9900 | E3: โดยวิธีเฉพาะเจาะจง | F3: ห้างหุ้นส่วนจำกัด อครา เอ็นเตอร์ไพรส์ | G3: 9900 | H3: ห้างหุ้นส่วนจำกัด อครา เอ็นเตอร์ไพรส์ | I3: 9900 | J3: เป็นผู้มีคุณสมบัติตรงตามเงื่อนไขที่กำหนด | K3: 117/2569 | L3: 244383
A4: 2 | B4: จ้างเหมาซ่อมแซมและปรับเปลี่ยนอะไหล่รถยนต์ส่วนกลาง ยี่ห้อโตโยต้า หมายเลขทะเบียน บม 2913 เชียงราย ครุภัณฑ์เลขที่ 019 - 49 - 0001 | C4: 75690 | D4: 75690 | E4: โดยวิธีเฉพาะเจาะจง | F4: อู่ช่างอึ่ง | G4: 75690 | H4: อู่ช่างอึ่ง | I4: 75690 | J4: เป็นผู้มีคุณสมบัติตรงตามเงื่อนไขที่กำหนด | K4: 116/2569 | L4: 244382
A5: 3 | B5: จ้างก่อสร้างรางระบายน้ำคอนกรีตเสริมเหล็ก บ้านห้วยยาโน หมู่ที่ 12 (สายที่ 3) ตำบลป่าตึง อำเภอแม่จัน จังหวัดเชียงราย | C5: 195000 | D5: 199514.39 | E5: โดยวิธีเฉพาะเจาะจง | F5: ห้างหุ้นส่วนจำกัด ชิงหลง คอนสทรัคชั่น | G5: 194700 | H5: ห้างหุ้นส่วนจำกัด ชิงหลง คอนสทรัคชั่น | I5: 194700 | J5: เป็นผู้มีคุณสมบัติตรงตามเงื่อนไขที่กำหนด | K5: 046/2569 | L5: 244385
A6: 4 | B6: จ้างก่อสร้างถนนคอนกรีตเสริมเหล็ก บ้านทุ่งต่าง หมู่ที่ 13 ตำบลป่าตึง อำเภอแม่จัน จังหวัดเชียงราย | C6: 500000 | D6: 500386.18 | E6: โดยวิธีเฉพาะเจาะจง | F6: ห้างหุ้นส่วนจำกัด ฉีหลิง คอนสตรัคชั่น | G6: 499600 | H6: ห้างหุ้นส่วนจำกัด ฉีหลิง คอนสตรัคชั่น | I6: 499600 | J6: เป็นผู้มีคุณสมบัติตรงตามเงื่อนไขที่กำหนด | K6: 045/2569 | L6: 244385
A7: 5 | B7: จ้างก่อสร้างรางระบายน้ำคอนกรีตเสริมเหล็ก (ตัวยู) บ้านห้วยมะหินฝน หมู่ที่ 14 (สายที่ 2) ตำบลป่าตึง อำเภอแม่จัน จังหวัดเชียงราย | C7: 53700 | D7: 53541.02 | E7: โดยวิธีเฉพาะเจาะจง | F7: ร้านสองวัสดุการค้า | G7: 53200 | H7: ร้านสองวัสดุการค้า | I7: 53200 | J7: เป็นผู้มีคุณสมบัติตรงตามเงื่อนไขที่กำหนด | K7: 047/2569 | L7: 244385
A8: 6 | B8: จ้างก่อสร้างถนนคอนกรีตเสริมเหล็ก บ้านสันโค้ง หมู่ที่ 10 ตำบลป่าตึง อำเภอแม่จัน จังหวัดเชียงราย | C8: 331000 | D8: 331535.6 | E8: โดยวิธีเฉพาะเจาะจง | F8: ห้างหุ้นส่วนจำกัด อครา เอ็นเตอร์ไพรส์ | G8: 330000 | H8: ห้างหุ้นส่วนจำกัด อครา เอ็นเตอร์ไพรส์ | I8: 330000 | J8: เป็นผู้มีคุณสมบัติและข้อเสนอทางเทคนิคถูกต้องครบถ้วนและเป็นผู้เสนอราคา ต่ำสุด | K8: 043/2569 | L8: 244379
A9: 7 | B9: จ้างก่อสร้างถนนคอนกรีตเสริมเหล็ก (ชนิดมีไหล่ทาง) ข้างละ 0.50 เมตร บ้านป่าบง หมู่ที่ ๒ ตำบลป่าตึง อำเภอแม่จัน จังหวัดเชียงราย | C9: 346400 | D9: 345775.28 | E9: โดยวิธีเฉพาะเจาะจง | F9: ห้างหุ้นส่วนจำกัด อครา เอ็นเตอร์ไพรส์ | G9: 345000 | H9: ห้างหุ้นส่วนจำกัด อครา เอ็นเตอร์ไพรส์ | I9: 345000 | J9: เป็นผู้มีคุณสมบัติและข้อเสนอทางเทคนิคถูกต้องครบถ้วนและเป็นผู้เสนอราคา ต่ำสุด | K9: 044/2569 | L9: 244379
A10: 8 | B10: จ้างปรับปรุงถนนทางการเกษตรในพื้นที่ตำบลป่าตึง บ้านป่าตึง หมู่ที่ 7 ตำบลป่าตึง อำเภอแม่จัน จังหวัดเชียงราย | C10: 9999.43 | D10: 9999.43 | E10: โดยวิธีเฉพาะเจาะจง | F10: ห้างหุ้นส่วนจำกัด อครา เอ็นเตอร์ไพรส์ | G10: 9900 | H10: ห้างหุ้นส่วนจำกัด อครา เอ็นเตอร์ไพรส์ | I10: 9900 | J10: เป็นผู้มีคุณสมบัติและข้อเสนอทางเทคนิคถูกต้องครบถ้วนและเป็นผู้เสนอราคา ต่ำสุด | K10: 115/2569 | L10: 244376
A11: 9 | B11: จ้างเหมาจัดทำป้ายไวนิลพร้อมติดตั้ง (พระบรมฉายาลักษณ์) จำนวน ๕ ป้าย | C11: 4500 | D11: 4500 | E11: โดยวิธีเฉพาะเจาะจง | F11: ร้านแม่จันเจริญ ป้ายโฆษณา | G11: 4500 | H11: ร้านแม่จันเจริญ ป้ายโฆษณา | I11: 4500 | J11: เป็นผู้มีคุณสมบัติและข้อเสนอทางเทคนิคถูกต้องครบถ้วนและเป็นผู้เสนอราคา ต่ำสุด | K11: 114/2569 | L11: 244375
A12: 10 | B12: ซื้อวัสดุก่อสร้าง จำนวน ๑๑ รายการ | C12: 6920 | D12: 6920 | E12: โดยวิธีเฉพาะเจาะจง | F12: หจก.ป่าตึงวัสดุก่อสร้าง | G12: 6920 | H12: หจก.ป่าตึงวัสดุก่อสร้าง | I12: 6920 | J12: เป็นผู้มีคุณสมบัติและข้อเสนอทางเทคนิคถูกต้องครบถ้วนและเป็นผู้เสนอราคา ต่ำสุด | K12: 076/2569 | L12: 244375
A13: 11 | B13: จ้างเหมาซักผ้าคลุมโต๊ะ ผ้าคลุมเก้าอี้และผ้าประดับ จำนวน ๕ รายการ | C13: 7830 | D13: 7830 | E13: โดยวิธีเฉพาะเจาะจง | F13: นาง นิศารัตน์ คำดวงดี | G13: 7830 | H13: นาง นิศารัตน์ คำดวงดี | I13: 7830 | J13: เป็นผู้มีคุณสมบัติและข้อเสนอทางเทคนิคถูกต้องครบถ้วนและเป็นผู้เสนอราคา ต่ำสุด | K13: 113/2569 | L13: 244375
A14: 12 | B14: ซื้อวัสดุอุปกรณ์ก่อสร้าง จำนวน ๕ รายการ ตามโครงการปรับสภาพแวดล้อมและสิ่งอำนวยความสะดวก ให้เหมาะสมและปลอดภัยสำหรับผู้สูงอายุ ประจำปีงบประมาณ พ.ศ.๒๕๖๙ | C14: 40000 | D14: 40000 | E14: โดยวิธีเฉพาะเจาะจง | F14: หอมนานค้าไม้ | G14: 40000 | H14: หอมนานค้าไม้ | I14: 40000 | J14: เป็นผู้มีคุณสมบัติและข้อเสนอทางเทคนิคถูกต้องครบถ้วนและเป็นผู้เสนอราคา ต่ำสุด | K14: 078/2569 | L14: 244375
... A16: 14 | B16: จ้างปรับปรุงอาคารอเนกประสงค์ บ้านโป่งป่าแขม หมู่ที่ 20 ตำบลป่าตึง อำเภอแม่จัน จังหวัดเชียงราย | C16: 150000 | D16: 151619.65 | E16: โดยวิธีเฉพาะเจาะจง | F16: ห้างหุ้นส่วนจำกัด เอสเอสเค คอนสตรัคชั่น แอนด์แมชชีน | G16: 149300 | H16: ห้างหุ้นส่วนจำกัด เอสเอสเค คอนสตรัคชั่น แอนด์แมชชีน | I16: 149300 | J16: เป็นผู้มีคุณสมบัติและข้อเสนอทางเทคนิคถูกต้องครบถ้วนและเป็นผู้เสนอราคา ต่ำสุด | K16: 042/2569 | L16: 244378
A17: 15 | B17: ซื้อโคมไฟฟ้าส่องสว่างสาธารณะพลังงานแสงอาทิตย์ พร้อมติดตั้ง บ้านเล่าฝู่ หมู่ที่ ๒๐ ตำบลป่าตึง อำเภอแม่จัน จังหวัดเชียงราย | C17: 68000 | D17: 68000 | E17: โดยวิธีเฉพาะเจาะจง | F17: ห้างหุ้นส่วนจำกัด โซล่าร์เซลล์ เชียงราย | G17: 68000 | H17: ห้างหุ้นส่วนจำกัด โซล่าร์เซลล์ เชียงราย | I17: 68000 | J17: เป็นผู้มีคุณสมบัติและข้อเสนอทางเทคนิคถูกต้องครบถ้วนและเป็นผู้เสนอราคา ต่ำสุด | K17: 005/2569 | L17: 28/01/2569
A18: 16 | B18: ซื้อโคมไฟฟ้าส่องสว่างสาธารณะพลังงานแสงอาทิตย์ พร้อมติดตั้ง บ้านห้วยก้างปลา หมู่ที่ ๑๕ (บ้านป่าบงงามบน) ตำบลป่าตึง อำเภอแม่จัน จังหวัดเชียงราย | C18: 51000 | D18: 51000 | E18: โดยวิธีเฉพาะเจาะจง | F18: ห้างหุ้นส่วนจำกัด โซล่าร์เซลล์ เชียงราย | G18: 51000 | H18: ห้างหุ้นส่วนจำกัด โซล่าร์เซลล์ เชียงราย | I18: 51000 | J18: เป็นผู้มีคุณสมบัติและข้อเสนอทางเทคนิคถูกต้องครบถ้วนและเป็นผู้เสนอราคา ต่ำสุด | K18: 006/2569 | L18: 28/01/2569
A19: 17 | B19: ซื้อโคมไฟฟ้าส่องสว่างสาธารณะพลังงานแสงอาทิตย์ พร้อมติดตั้ง บ้านห้วยก้างปลา หมู่ที่ ๑๕ (บ้านป่าบงงามล่าง) ตำบลป่าตึง อำเภอแม่จัน จังหวัดเชียงราย | C19: 85000 | D19: 85000 | E19: โดยวิธีเฉพาะเจาะจง | F19: ห้างหุ้นส่วนจำกัด โซล่าร์เซลล์ เชียงราย | G19: 85000 | H19: ห้างหุ้นส่วนจำกัด โซล่าร์เซลล์ เชียงราย | I19: 85000 | J19: เป็นผู้มีคุณสมบัติและข้อเสนอทางเทคนิคถูกต้องครบถ้วนและเป็นผู้เสนอราคา ต่ำสุด | K19: 007/2569 | L19: 28/01/2569
A20: 18 | B20: ซื้อโคมไฟฟ้าส่องสว่างสาธารณะพลังงานแสงอาทิตย์ พร้อมติดตั้ง บ้านใหม่เจริญ หมู่ที่ ๑๘ ตำบลป่าตึง อำเภอแม่จัน จังหวัดเชียงราย | C20: 340000 | D20: 340000 | E20: โดยวิธีเฉพาะเจาะจง | F20: ห้างหุ้นส่วนจำกัด โซล่าร์เซลล์ เชียงราย | G20: 340000 | H20: ห้างหุ้นส่วนจำกัด โซล่าร์เซลล์ เชียงราย | I20: 340000 | J20: เป็นผู้มีคุณสมบัติและข้อเสนอทางเทคนิคถูกต้องครบถ้วนและเป็นผู้เสนอราคา ต่ำสุด | K20: 004/2569 | L20: 28/01/2569
A21: 19 | B21: จ้างก่อสร้างรางระบายน้ำคอนกรีตเสริมเหล็ก (ตัวยู) บ้านโป่งน้ำร้อน หมู่ที่ 11 (ซอย 3) ตำบลป่าตึง อำเภอแม่จัน จังหวัดเชียงราย | C21: 271700 | D21: 283739.87 | E21: โดยวิธีเฉพาะเจาะจง | F21: ห้างหุ้นส่วนจำกัด ไพโอเนียร์ คอนสตรัคชั่น | G21: 271700 | H21: ห้างหุ้นส่วนจำกัด ไพโอเนียร์ คอนสตรัคชั่น | I21: 271700 | J21: เป็นผู้มีคุณสมบัติและข้อเสนอทางเทคนิคถูกต้องครบถ้วนและเป็นผู้เสนอราคา ต่ำสุด | K21: 041/2569 | L21: 28/01/2569
A22: 20 | B22: จ้างก่อสร้างฝารางระบายน้ำ และก่อสร้างไหล่ทางคอนกรีตเสริมเหล็ก บ้านป่าตึง หมู่ที่ 8 ตำบลป่าตึง อำเภอแม่จัน จังหวัดเชียงราย | C22: 346000 | D22: 347346.38 | E22: โดยวิธีเฉพาะเจาะจง | F22: ห้างหุ้นส่วนจำกัด ไพโอเนียร์ คอนสตรัคชั่น | G22: 346000 | H22: ห้างหุ้นส่วนจำกัด ไพโอเนียร์ คอนสตรัคชั่น | I22: 346000 | J22: เป็นผู้มีคุณสมบัติและข้อเสนอทางเทคนิคถูกต้องครบถ้วนและเป็นผู้เสนอราคา ต่ำสุด | K22: 040/2569 | L22: 28/01/2569
A23: 21 | B23: จ้างก่อสร้างรางระบายน้ำคอนกรีตเสริมเหล็ก (ตัวยู) บ้านโป่งน้ำร้อน หมู่ที่ 11 (บ้านกิ่วต่ำ) ตำบลป่าตึง อำเภอแม่จัน จังหวัดเชียงราย | C23: 249800 | D23: 244189.67 | E23: โดยวิธีเฉพาะเจาะจง | F23: ห้างหุ้นส่วนจำกัด ไพโอเนียร์ คอนสตรัคชั่น | G23: 244189 | H23: ห้างหุ้นส่วนจำกัด ไพโอเนียร์ คอนสตรัคชั่น | I23: 244189 | J23: เป็นผู้มีคุณสมบัติและข้อเสนอทางเทคนิคถูกต้องครบถ้วนและเป็นผู้เสนอราคา ต่ำสุด | K23: 039/2569 | L23: 28/01/2569
A24: 22 | B24: จ้างเหมาซ่อมแซมรถยนต์ส่วนกลาง ยี่ห้อโตโยต้า หมายเลขทะเบียน ผธ๙๙๙๗ เชียงราย | C24: 3912.56 | D24: 3912.56 | E24: โดยวิธีเฉพาะเจาะจง | F24: บริษัท โตโยต้าเชียงราย จำกัด | G24: 3912.56 | H24: บริษัท โตโยต้าเชียงราย จำกัด | I24: 3912.56 | J24: เป็นผู้มีคุณสมบัติและข้อเสนอทางเทคนิคถูกต้องครบถ้วนและเป็นผู้เสนอราคา ต่ำสุด | K24: 111/2569 | L24: 21/01/2569
A25: 23 | B25: จ้างเหมาซ่อมแซมรถยนต์ส่วนกลาง ยี่ห้อ โตโยต้า หมายเลขทะเบียน บพ ๘๓๑๘ เชียงราย | C25: 14380 | D25: 14380 | E25: โดยวิธีเฉพาะเจาะจง | F25: อู่ช่างอึ่ง | G25: 14380 | H25: อู่ช่างอึ่ง | I25: 14380 | J25: เป็นผู้มีคุณสมบัติและข้อเสนอทางเทคนิคถูกต้องครบถ้วนและเป็นผู้เสนอราคา ต่ำสุด | K25: 112/2569 | L25: 21/01/2569
A26: 24 | B26: ซื้อเครื่องกรองน้ำเพื่ออุปโภค บริโภค พร้อมติดตั้ง บ้านใหม่เจริญ หมู่ที่ ๑๘ ตำบลป่าตึง อำเภอแม่จัน จังหวัดเชียงราย | C26: 73400 | D26: 73400 | E26: โดยวิธีเฉพาะเจาะจง | F26: บริษัท รุ่งทรัพย์ วอเตอร์เวอร์ค 1993 จำกัด | G26: 73400 | H26: บริษัท รุ่งทรัพย์ วอเตอร์เวอร์ค 1993 จำกัด | I26: 73400 | J26: เป็นผู้มีคุณสมบัติและข้อเสนอทางเทคนิคถูกต้องครบถ้วนและเป็นผู้เสนอราคา ต่ำสุด | K26: 003/2569 | L26: 244372
A27: 25 | B27: ซื้อเครื่องขยายเสียง พร้อมอุปกรณ์ บ้านป่าเมี้ยง หมู่ที่ 9 ตำบลป่าตึง อำเภอแม่จัน จังหวัดเชียงราย | C27: 41100 | D27: 41100 | E27: โดยวิธีเฉพาะเจาะจง | F27: หจก.คลังครัวเรือน ซัพพลาย | G27: 41100 | H27: หจก.คลังครัวเรือน ซัพพลาย | I27: 41100 | J27: เป็นผู้มีคุณสมบัติและข้อเสนอทางเทคนิคถูกต้องครบถ้วนและเป็นผู้เสนอราคา ต่ำสุด | K27: 075/2569 | L27: 244369
A28: 26 | B28: จ้างปรับปรุงอาคารอเนกประสงค์ บ้านสันติสุข หมู่ที่ 19 ตำบลป่าตึง อำเภอแม่จัน จังหวัดเชียงราย | C28: 171800 | D28: 173343.76 | E28: โดยวิธีเฉพาะเจาะจง | F28: ห้างหุ้นส่วนจำกัด ไทยนุรัฐพัฒนก่อสร้าง | G28: 170900 | H28: ห้างหุ้นส่วนจำกัด ไทยนุรัฐพัฒนก่อสร้าง | I28: 170900 | J28: เป็นผู้มีคุณสมบัติและข้อเสนอทางเทคนิคถูกต้องครบถ้วนและเป็นผู้เสนอราคา ต่ำสุด | K28: 037/2569 | L28: 22/01/2569
A29: 27 | B29: จ้างปรับปรุงอาคารอเนกประสงค์ บ้านทุ่งต่าง หมู่ที่ 13 ตำบลป่าตึง อำเภอแม่จัน จังหวัดเชียงราย | C29: 100000 | D29: 100970.88 | E29: โดยวิธีเฉพาะเจาะจง | F29: ร้านสองวัสดุการค้า | G29: 99800 | H29: ร้านสองวัสดุการค้า | I29: 99800 | J29: เป็นผู้มีคุณสมบัติและข้อเสนอทางเทคนิคถูกต้องครบถ้วนและเป็นผู้เสนอราคา ต่ำสุด | K29: 033/2569 | L29: 22/01/2569
A30: 28 | B30: จ้างเหมาซ่อมแซมและบำรุงรักษารถยนต์ส่วนกลาง ยี่ห้อฟอร์ด หมายเลขทะเบียน บธ ๑๘๔๒ เชียงราย | C30: 2000 | D30: 2000 | E30: โดยวิธีเฉพาะเจาะจง | F30: ช.การช่าง | G30: 2000 | H30: ช.การช่าง | I30: 2000 | J30: เป็นผู้มีคุณสมบัติและข้อเสนอทางเทคนิคถูกต้องครบถ้วนและเป็นผู้เสนอราคา ต่ำสุด | K30: 110/2569 | L30: 244365
A31: 29 | B31: จ้างก่อสร้างรางระบายน้ำคอนกรีตเสริมเหล็ก (ตัวยู) บ้านห้วยมะหินฝน หมู่ที่ 14 (สายที่ 1) ตำบลป่าตึง อำเภอแม่จัน จังหวัดเชียงราย | C31: 50000 | D31: 49045.97 | E31: โดยวิธีเฉพาะเจาะจง | F31: ร้านสองวัสดุการค้า | G31: 49000 | H31: ร้านสองวัสดุการค้า | I31: 49000 | J31: เป็นผู้มีคุณสมบัติและข้อเสนอทางเทคนิคถูกต้องครบถ้วนและเป็นผู้เสนอราคา ต่ำสุด | K31: 034/2569 | L31: 22/01/2569
A32: 30 | B32: จ้างก่อสร้างรางระบายน้ำคอนกรีตเสริมเหล็ก (ตัวยู) บ้านห้วยมะหินฝน หมู่ที่ 14 (สายที่ 3) ตำบลป่าตึง อำเภอแม่จัน จังหวัดเชียงราย | C32: 53000 | D32: 52285.35 | E32: โดยวิธีเฉพาะเจาะจง | F32: ร้าน จ.รุ่งเรืองค้าวัสดุ | G32: 52200 | H32: ร้าน จ.รุ่งเรืองค้าวัสดุ | I32: 52200 | J32: เป็นผู้มีคุณสมบัติและข้อเสนอทางเทคนิคถูกต้องครบถ้วนและเป็นผู้เสนอราคา ต่ำสุด | K32: 036/2569 | L32: 22/01/2569
A33: 31 | B33: จ้างก่อสร้างอุโมงค์ พร้อมก่อสร้างรางระบายน้ำคอนกรีตเสริมเหล็ก (ตัวยู) บ้านห้วยก้างปลา หมู่ที่ 15 (บ้านลั๊วะ) ตำบลป่าตึง อำเภอแม่จัน จังหวัดเชียงราย | C33: 91000 | D33: 91053.63 | E33: โดยวิธีเฉพาะเจาะจง | F33: ร้าน จ.รุ่งเรืองค้าวัสดุ | G33: 90400 | H33: ร้าน จ.รุ่งเรืองค้าวัสดุ | I33: 90400 | J33: เป็นผู้มีคุณสมบัติและข้อเสนอทางเทคนิคถูกต้องครบถ้วนและเป็นผู้เสนอราคา ต่ำสุด | K33: 035/2569 | L33: 22/01/2569
A34: 32 | B34: จ้างเหมารถตู้โดยสาร พร้อมคนขับ จำนวน ๑๑ คัน | C34: 27500 | D34: 27500 | E34: โดยวิธีเฉพาะเจาะจง | F34: นายสันติชาติ ศรีรัตน์ | G34: 27500 | H34: นายสันติชาติ ศรีรัตน์ | I34: 27500 | J34: เป็นผู้มีคุณสมบัติและข้อเสนอทางเทคนิคถูกต้องครบถ้วนและเป็นผู้เสนอราคา ต่ำสุด | K34: 109/2569 | L34: 244363
A35: 33 | B35: ซื้อวัสดุไฟฟ้า จำนวน 13 รายการ | C35: 32485 | D35: 32485 | E35: โดยวิธีเฉพาะเจาะจง | F35: ห้างหุ้นส่วนจำกัด อุดมภัณฑ์ ฮาร์ดแวร์ | G35: 32485 | H35: ห้างหุ้นส่วนจำกัด อุดมภัณฑ์ ฮาร์ดแวร์ | I35: 32485 | J35: เป็นผู้มีคุณสมบัติและข้อเสนอทางเทคนิคถูกต้องครบถ้วนและเป็นผู้เสนอราคา ต่ำสุด | K35: 074/2569 | L35: 244362
A36: 34 | B36: จ้างเหมาซ่อมแซมและบำรุงรักษาครุภัณฑ์เครื่องคอมพิวเตอร์ จำนวน ๑ เครื่อง | C36: 3400 | D36: 3400 | E36: โดยวิธีเฉพาะเจาะจง | F36: ห้างหุ้นส่วนจำกัด ธนาทรัพย์ศิลา | G36: 3400 | H36: ห้างหุ้นส่วนจำกัด ธนาทรัพย์ศิลา | I36: 3400 | J36: เป็นผู้มีคุณสมบัติและข้อเสนอทางเทคนิคถูกต้องครบถ้วนและเป็นผู้เสนอราคา ต่ำสุด | K36: 108/2569 | L36: 244362
A37: 35 | B37: จ้างก่อสร้างท่อลอดเหลี่ยมคอนกรีตเสริมเหล็กชนิดช่องเดียวพร้อมกำแพงปากท่อลอดเหลี่ยม คสล. บ้านห้วยต่าง หมู่ที่ 16 (บ้านเล่าชีก๋วย) ตำบลป่าตึง อำเภอแม่จัน จังหวัดเชียงราย | C37: 250000 | D37: 250136.91 | E37: โดยวิธีเฉพาะเจาะจง | F37: ห้างหุ้นส่วนจำกัด ไทยนุรัฐพัฒนก่อสร้าง | G37: 249600 | H37: ห้างหุ้นส่วนจำกัด ไทยนุรัฐพัฒนก่อสร้าง | I37: 249600 | J37: เป็นผู้มีคุณสมบัติและข้อเสนอทางเทคนิคถูกต้องครบถ้วนและเป็นผู้เสนอราคา ต่ำสุด | K37: 032/2569 | L37: 244365
A38: 36 | B38: จ้างก่อสร้างรางระบายน้ำคอนกรีตเสริมเหล็ก บ้านห้วยยาโน หมู่ที่ 12 (สายที่ 1) ตำบลป่าตึง อำเภอแม่จัน จังหวัดเชียงราย | C38: 285000 | D38: 286373.22 | E38: โดยวิธีเฉพาะเจาะจง | F38: ห้างหุ้นส่วนจำกัด ชิงหลง คอนสทรัคชั่น | G38: 284700 | H38: ห้างหุ้นส่วนจำกัด ชิงหลง คอนสทรัคชั่น | I38: 284700 | J38: เป็นผู้มีคุณสมบัติและข้อเสนอทางเทคนิคถูกต้องครบถ้วนและเป็นผู้เสนอราคา ต่ำสุด | K38: 028/2569 | L38: 244365
A39: 37 | B39: จ้างก่อสร้างรางระบายน้ำคอนกรีตเสริมเหล็ก บ้านห้วยยาโน หมู่ที่ 12 (สายที่ 2) ตำบลป่าตึง อำเภอแม่จัน จังหวัดเชียงราย | C39: 189000 | D39: 189003.31 | E39: โดยวิธีเฉพาะเจาะจง | F39: ห้างหุ้นส่วนจำกัด ชิง ไห่ ดีเวลลอปเมนท์ | G39: 188300 | H39: ห้างหุ้นส่วนจำกัด ชิง ไห่ ดีเวลลอปเมนท์ | I39: 188300 | J39: เป็นผู้มีคุณสมบัติและข้อเสนอทางเทคนิคถูกต้องครบถ้วนและเป็นผู้เสนอราคา ต่ำสุด | K39: 029/2569 | L39: 244365
A40: 38 | B40: จ้างก่อสร้างรางระบายน้ำคอนกรีตเสริมเหล็ก (ตัวยู) พร้อมฝาปิดคอนกรีตเสริมเหล็กตอลดแนว บ้านสันติสุข หมู่ที่ 19 (จำนวน 2 จุด) ตำบลป่าตึง อำเภอแม่จัน จังหวัดเชียงราย | C40: 178200 | D40: 182318.93 | E40: โดยวิธีเฉพาะเจาะจง | F40: ห้างหุ้นส่วนจำกัด ชิง ไห่ ดีเวลลอปเมนท์ | G40: 177600 | H40: ห้างหุ้นส่วนจำกัด ชิง ไห่ ดีเวลลอปเมนท์ | I40: 177600 | J40: เป็นผู้มีคุณสมบัติและข้อเสนอทางเทคนิคถูกต้องครบถ้วนและเป็นผู้เสนอราคา ต่ำสุด | K40: 030/2569 | L40: 244365
A41: 39 | B41: จ้างก่อสร้างรางระบายน้ำคอนกรีตเสริมเหล็ก (ตัวยู) บ้านถ้ำ หมู่ที่ 4 ตำบลป่าตึง อำเภอแม่จัน จังหวัดเชียงราย | C41: 469500 | D41: 472614.99 | E41: โดยวิธีเฉพาะเจาะจง | F41: ห้างหุ้นส่วนจำกัด ฉีหลิง คอนสตรัคชั่น | G41: 469000 | H41: ห้างหุ้นส่วนจำกัด ฉีหลิง คอนสตรัคชั่น | I41: 469000 | J41: เป็นผู้มีคุณสมบัติและข้อเสนอทางเทคนิคถูกต้องครบถ้วนและเป็นผู้เสนอราคา ต่ำสุด | K41: 031/2569 | L41: 244365
A42: 40 | B42: ซื้อครุภัณฑ์ก่อสร้าง (รถเข็นปูน) จำนวน ๖ คัน | C42: 18000 | D42: 18000 | E42: โดยวิธีเฉพาะเจาะจง | F42: จี.จี.ซัพพลาย | G42: 18000 | H42: จี.จี.ซัพพลาย | I42: 18000 | J42: เป็นผู้มีคุณสมบัติและข้อเสนอทางเทคนิคถูกต้องครบถ้วนและเป็นผู้เสนอราคา ต่ำสุด | K42: 071/2569 | L42: 12/01/2569
A43: 41 | B43: จ้างเหมาต่ออายุการใช้งานเว็บไซด์องค์การบริหารส่วนตำบลป่าตึง ประจำปี พ.ศ. ๒๕๖๙ | C43: 10000 | D43: 10000 | E43: โดยวิธีเฉพาะเจาะจง | F43: นายสว่าง ถนอม | G43: 10000 | H43: นายสว่าง ถนอม | I43: 10000 | J43: เป็นผู้มีคุณสมบัติและข้อเสนอทางเทคนิคถูกต้องครบถ้วนและเป็นผู้เสนอราคา ต่ำสุด | K43: 104/2569 | L43: 12/01/2569
A44: 42 | B44: ซื้อบัตรเลือกตั้งสมาชิกสภาองค์การบริหารส่วนตำบลป่าตึง และนายกองค์การบริหารส่วนตำบลป่าตึง | C44: 43400 | D44: 43400 | E44: โดยวิธีเฉพาะเจาะจง | F44: จุฬาลงกรณ์มหาวิทยาลัย | G44: 43400 | H44: จุฬาลงกรณ์มหาวิทยาลัย | I44: 43400 | J44: เป็นผู้มีคุณสมบัติและข้อเสนอทางเทคนิคถูกต้องครบถ้วนและเป็นผู้เสนอราคา ต่ำสุด | K44: 070/2569 | L44: 244357
A45: 43 | B45: ซื้อวัสดุคอมพิวเตอร์ จำนวน ๔ รายการ | C45: 2600 | D45: 2600 | E45: โดยวิธีเฉพาะเจาะจง | F45: ห้างหุ้นส่วนจำกัด ธนาทรัพย์ศิลา | G45: 2600 | H45: ห้างหุ้นส่วนจำกัด ธนาทรัพย์ศิลา | I45: 2600 | J45: เป็นผู้มีคุณสมบัติและข้อเสนอทางเทคนิคถูกต้องครบถ้วนและเป็นผู้เสนอราคา ต่ำสุด | K45: 069/2569 | L45: 07/01/2569
A46: 44 | B46: จ้างเหมาจัดทำป้ายผลการนับคะแนน ส.อบต. และนายก อบต. พร้อมติดตั้ง จำนวน ๑ ป้าย | C46: 6500 | D46: 6500 | E46: โดยวิธีเฉพาะเจาะจง | F46: ร้านแม่จันเจริญ ป้ายโฆษณา | G46: 6500 | H46: ร้านแม่จันเจริญ ป้ายโฆษณา | I46: 6500 | J46: เป็นผู้มีคุณสมบัติและข้อเสนอทางเทคนิคถูกต้องครบถ้วนและเป็นผู้เสนอราคา ต่ำสุด | K46: 103/2569 | L46: 07/01/2569
A47: 45 | B47: จ้างเหมาซ่อมแซมเครื่องพิมพ์ ครุภัณฑ์เลขที่ ๔๗๘ - ๖๘ - ๐๐๖๔ | C47: 600 | D47: 600 | E47: โดยวิธีเฉพาะเจาะจง | F47: ห้างหุ้นส่วนจำกัด ธนาทรัพย์ศิลา | G47: 600 | H47: ห้างหุ้นส่วนจำกัด ธนาทรัพย์ศิลา | I47: 600 | J47: เป็นผู้มีคุณสมบัติและข้อเสนอทางเทคนิคถูกต้องครบถ้วนและเป็นผู้เสนอราคา ต่ำสุด | K47: 102/2569 | L47: 07/01/2569
A48: 46 | B48: จ้างก่อสร้างท่อลอดเหลี่ยมคอนกรีตเสริมเหล็กชนิดช่องเดียว พร้อมกำแพงปากท่อลอดเหลี่ยมคอนกรีตเสริมเหล็ก บ้านปางสา หมู่ที่ 17 ตำบลป่าตึง อำเภอแม่จัน จังหวัดเชียงราย | C48: 401700 | D48: 404167.27 | E48: โดยวิธีเฉพาะเจาะจง | F48: ห้างหุ้นส่วนจำกัด เอสเอสเค คอนสตรัคชั่น แอนด์แมชชีน | G48: 400900 | H48: ห้างหุ้นส่วนจำกัด เอสเอสเค คอนสตรัคชั่น แอนด์แมชชีน | I48: 400900 | J48: เป็นผู้มีคุณสมบัติและข้อเสนอทางเทคนิคถูกต้องครบถ้วนและเป็นผู้เสนอราคา ต่ำสุด | K48: 027/2569 | L48: 244361
A49: 47 | B49: จ้างเหมาบุคลากรงานดูแลสวนสาธาณะสถานที่ท่องเที่ยวน้ำพุร้อนป่าตึง ตั้งแต่วันที่ 1 ม.ค. 69 - 30 เม.ย. 69 | C49: 54000 | D49: 54000 | E49: โดยวิธีเฉพาะเจาะจง | F49: นาย พิชิต ศรีโลเจียว | G49: 54000 | H49: นาย พิชิต ศรีโลเจียว | I49: 54000 | J49: เป็นผู้มีอาชีพที่เสนอพัสดุตรงตามวัตถุประสงค์ในการใช้งาน | K49: 097/2569 | L49: 5/1/2569
A50: 48 | B50: จ้างบุคลากร เพื่อปฏิบัติงานบริการต่างๆ (กองช่าง) ตั้งแต่วันที่ 1 ม.ค. 69 - 30 เม.ย. 69 | C50: 81000 | D50: 81000 | E50: โดยวิธีเฉพาะเจาะจง | F50: น.ส.วิสา ขันแก้วบุญเรือง | G50: 81000 | H50: น.ส.วิสา ขันแก้วบุญเรือง | I50: 81000 | J50: เป็นผู้มีอาชีพที่เสนอพัสดุตรงตามวัตถุประสงค์ในการใช้งาน | K50: 098/2569 | L50: 244354
A51: 49 | B51: จ้างบุคลากร เพื่อปฏิบัติงานบริการต่างๆ (กองช่าง) ตั้งแต่วันที่ 1 ม.ค. 69 - 30 เม.ย. 69 | C51: 81000 | D51: 81000 | E51: โดยวิธีเฉพาะเจาะจง | F51: น.ส.สาวิตรี เรืองปัญญา | G51: 81000 | H51: น.ส.สาวิตรี เรืองปัญญา | I51: 81000 | J51: เป็นผู้มีอาชีพที่เสนอพัสดุตรงตามวัตถุประสงค์ในการใช้งาน | K51: 099/2569 | L51: 244354
A52: 50 | B52: จ้างบุคลากร เพื่อปฏิบัติงานบริการต่างๆ (กองช่าง) ตั้งแต่วันที่ 1 ม.ค. 69 - 30 เม.ย. 69 | C52: 45000 | D52: 45000 | E52: โดยวิธีเฉพาะเจาะจง | F52: นายแทนทร พูนพัฒนาทรัพย์ | G52: 45000 | H52: นายแทนทร พูนพัฒนาทรัพย์ | I52: 45000 | J52: เป็นผู้มีอาชีพที่เสนอพัสดุตรงตามวัตถุประสงค์ในการใช้งาน | K52: 100/2569 | L52: 244354
A53: 51 | B53: ค่าจ้างเหมาจัดทำป้ายโครงการผู้สูงอายุสุขภาพดี ชีวีมีสุข ประจำปีงบประมาณ พ.ศ.2569 | C53: 720 | D53: 720 | E53: โดยวิธีเฉพาะเจาะจง | F53: แม่จันเจริญป้ายโฆษณา | G53: 720 | H53: แม่จันเจริญป้ายโฆษณา | I53: 720 | J53: เป็นผู้มีอาชีพที่เสนอพัสดุตรงตามวัตถุประสงค์ในการใช้งาน | K53: 168/2569 | L53: 244364
A54: 52 | B54: ค่าจ้างเหมาจัดทำเกียรติบัตรพร้อมกรอบ ตามโครงการผู้สูงอายุสุขภาพดี ชีวีมีสุข ประจำปีงบประมาณ พ.ศ.2569 | C54: 3000 | D54: 3000 | E54: โดยวิธีเฉพาะเจาะจง | F54: แม่จันเจริญป้ายโฆษณา | G54: 3000 | H54: แม่จันเจริญป้ายโฆษณา | I54: 3000 | J54: เป็นผู้มีอาชีพที่เสนอพัสดุตรงตามวัตถุประสงค์ในการใช้งาน | K54: 170/2569 | L54: 244364
A55: 53 | B55: ค่าจัดทำข้าวกล่องพร้อมน้ำดื่มและอาหารว่างพร้อมเครื่องดื่ม รับเสด็จพระบาทสมเด็จพระเจ้าอยู่หัวฯ | C55: 10030 | D55: 10030 | E55: โดยวิธีเฉพาะเจาะจง | F55: แม่จันเจริญป้ายโฆษณา | G55: 10030 | H55: แม่จันเจริญป้ายโฆษณา | I55: 10030 | J55: เป็นผู้มีอาชีพที่เสนอพัสดุตรงตามวัตถุประสงค์ในการใช้งาน | K55: 171/2569 | L55: 244364
A56: 54 | B56: ค่าจ้างเหมาจัดทำอาหารกลางวันและอาหารว่างพร้อมเครื่องดื่ม อกม. ประจำเดือนมกราคม 2569 | C56: 4650 | D56: 4650 | E56: โดยวิธีเฉพาะเจาะจง | F56: นางสายฝน โฆษชุณห์นันท์ | G56: 4650 | H56: นางสายฝน โฆษชุณห์นันท์ | I56: 4650 | J56: เป็นผู้มีอาชีพที่เสนอพัสดุตรงตามวัตถุประสงค์ในการใช้งาน | K56: 178/2569 | L56: 19/1/2569
A57: 55 | B57: จ้างเหมาจัดทำอาหารว่างพร้อมเครื่องดื่มประชุมราชการเพื่อหารือป้องกันแก้ไขปัญหาไฟป่าและหมอกควัน ปี 2569 | C57: 1050 | D57: 1050 | E57: โดยวิธีเฉพาะเจาะจง | F57: นางเยาวเรศ นุชเปรม | G57: 1050 | H57: นางเยาวเรศ นุชเปรม | I57: 1050 | J57: เป็นผู้มีอาชีพที่เสนอพัสดุตรงตามวัตถุประสงค์ในการใช้งาน | K57: 186/2569 | L57: 244378
A58: 56 | B58: จ้างเหมาจัดทำป้ายโครงการจัดการน้ำตามปรัชญาเศรษฐกิจพอเพียง กิจกรรมสร้างฝายชะลอน้ำ | C58: 360 | D58: 360 | E58: โดยวิธีเฉพาะเจาะจง | F58: แม่จันเจริญป้ายโฆษณา | G58: 360 | H58: แม่จันเจริญป้ายโฆษณา | I58: 360 | J58: เป็นผู้มีอาชีพที่เสนอพัสดุตรงตามวัตถุประสงค์ในการใช้งาน | K58: 190/2569 | L58: 30/1/2569
A59: 57 | B59: ค่าจ้างเหมาจัดทำอาหารกลางวันโครงการจัดการน้ำตามปรัชญาเศรษฐกิจพอเพียง กิจกรรมสร้างฝายชะลอน้ำ | C59: 2000 | D59: 2000 | E59: โดยวิธีเฉพาะเจาะจง | F59: นางสุมาลี ซึ่งกร่าง | G59: 2000 | H59: นางสุมาลี ซึ่งกร่าง | I59: 2000 | J59: เป็นผู้มีอาชีพที่เสนอพัสดุตรงตามวัตถุประสงค์ในการใช้งาน | K59: 191/2569 | L59: 30/1/2569
A60: 58 | B60: จ้างซ่อมแซมหลังคาศูนย์บริหารจัดการขยะ อบต.ป่าตึง หมู่ที่ 7 ตำบลป่าตึง อำเภอแม่จัน จังหวัดเชียงราย | C60: 50000 | D60: 48432.48 | E60: โดยวิธีเฉพาะเจาะจง | F60: นายศรีพัด ชุ่มเมืองเย็น | G60: 48000 | H60: นายศรีพัด ชุ่มเมืองเย็น | I60: 48000 | J60: เป็นผู้มีคุณสมบัติตรงตามเงื่อนไขที่กำหนด | K60: 056/2569 | L60: 244413
A61: 59 | B61: จ้างเหมาบริการล้างเครื่องปรับอากาศ จำนวน ๔ เครื่อง | C61: 6200 | D61: 6200 | E61: โดยวิธีเฉพาะเจาะจง | F61: เอพีคอมพิวเตอร์เซอร์วิส | G61: 6200 | H61: เอพีคอมพิวเตอร์เซอร์วิส | I61: 6200 | J61: เป็นผู้มีคุณสมบัติตรงตามเงื่อนไขที่กำหนด | K61: 131/2569 | L61: 27/02/2569
A62: 60 | B62: จ้างเหมาสำรวจข้อมูลจำนวนสุนัขและแมวและขึ้นทะเบียนสัตว์ จำนวน ๑ รายการ | C62: 8121 | D62: 8121 | E62: โดยวิธีเฉพาะเจาะจง | F62: นายบุญช่วย เรืองปัญญา | G62: 8121 | H62: นายบุญช่วย เรืองปัญญา | I62: 8121 | J62: เป็นผู้มีคุณสมบัติตรงตามเงื่อนไขที่กำหนด | K62: 130/2569 | L62: 27/02/2569
A63: 61 | B63: ซื้อโคมไฟฟ้าส่องสว่างสาธารณะพลังงานแสงอาทิตย์ พร้อมติดตั้ง บ้านโป่งน้ำร้อน หมู่ที่ ๑๑ ตำบลป่าตึง อำเภอแม่จัน จังหวัดเชียงราย | C63: 178500 | D63: 178500 | E63: โดยวิธีเฉพาะเจาะจง | F63: ห้างหุ้นส่วนจำกัด โซล่าร์เซลล์ เชียงราย | G63: 178500 | H63: ห้างหุ้นส่วนจำกัด โซล่าร์เซลล์ เชียงราย | I63: 178500 | J63: เป็นผู้มีคุณสมบัติตรงตามเงื่อนไขที่กำหนด | K63: 010/2569 | L63: 244417
A64: 62 | B64: จ้างเหมาล้างทำความสะอาดเครื่องปรับอากาศ จำนวน ๓ เครื่อง (กองช่าง) | C64: 4950 | D64: 4950 | E64: โดยวิธีเฉพาะเจาะจง | F64: เอพีคอมพิวเตอร์เซอร์วิส | G64: 4950 | H64: เอพีคอมพิวเตอร์เซอร์วิส | I64: 4950 | J64: เป็นผู้มีคุณสมบัติตรงตามเงื่อนไขที่กำหนด | K64: 129/2569 | L64: 244406
A65: 63 | B65: จ้างก่อสร้างถนนคอนกรีตเสริมเหล็ก บ้านเล่าฝู่ หมู่ที่ 20 (บ้านจะหยี) สายที่ 1 ตำบลป่าตึง อำเภอแม่จัน จังหวัดเชียงราย | C65: 145900 | D65: 145983.51 | E65: โดยวิธีเฉพาะเจาะจง | F65: ห้างหุ้นส่วนจำกัด เอสเอสเค คอนสตรัคชั่น แอนด์แมชชีน | G65: 145800 | H65: ห้างหุ้นส่วนจำกัด เอสเอสเค คอนสตรัคชั่น แอนด์แมชชีน | I65: 145800 | J65: เป็นผู้มีคุณสมบัติตรงตามเงื่อนไขที่กำหนด | K65: 055/2569 | L65: 244412
A66: 64 | B66: จ้างเหมาล้างทำความสะอาดเครื่องปรับอากาศ จำนวน ๒ เครื่อง (กองคลัง) | C66: 3600 | D66: 3600 | E66: โดยวิธีเฉพาะเจาะจง | F66: เอพีคอมพิวเตอร์เซอร์วิส | G66: 3600 | H66: เอพีคอมพิวเตอร์เซอร์วิส | I66: 3600 | J66: เป็นผู้มีคุณสมบัติตรงตามเงื่อนไขที่กำหนด | K66: 128/2569 | L66: 244404
A67: 65 | B67: จ้างก่อสร้างถนนคอนกรีตเสริมเหล็ก บ้านสันติสุข หมู่ที่ 19 (บ้านแสนใหม่) ตำบลป่าตึง อำเภอแม่จัน จังหวัดเชียงราย | C67: 150000 | D67: 150365.49 | E67: โดยวิธีเฉพาะเจาะจง | F67: ห้างหุ้นส่วนจำกัด ไทยนุรัฐพัฒนก่อสร้าง | G67: 148400 | H67: ห้างหุ้นส่วนจำกัด ไทยนุรัฐพัฒนก่อสร้าง | I67: 148400 | J67: เป็นผู้มีคุณสมบัติตรงตามเงื่อนไขที่กำหนด | K67: 053/2569 | L67: 02/03/2569
A68: 66 | B68: จ้างก่อสร้างถนนคอนกรีตเสริมเหล็ก บ้านห้วยมะหินฝน หมู่ที่ 14 (ซอย 8) ตำบลป่าตึง อำเภอแม่จัน จังหวัดเชียงราย | C68: 107600 | D68: 108456.57 | E68: โดยวิธีเฉพาะเจาะจง | F68: ห้างหุ้นส่วนจำกัด ชิงหลง คอนสทรัคชั่น | G68: 107000 | H68: ห้างหุ้นส่วนจำกัด ชิงหลง คอนสทรัคชั่น | I68: 107000 | J68: เป็นผู้มีคุณสมบัติตรงตามเงื่อนไขที่กำหนด | K68: 054/2569 | L68: 02/03/2569
A69: 67 | B69: จ้างเหมาซ่อมแซมและบำรุงรักษาเครื่องปรับอากาศ จำนวน ๑ เครื่อง ครุภัณฑ์เลขที่ ๔๒๐-๖๐-๐๐๒๙ | C69: 3500 | D69: 3500 | E69: โดยวิธีเฉพาะเจาะจง | F69: ห้างหุ้นส่วนจำกัด จิมมี่ ซัพพลาย | G69: 3500 | H69: ห้างหุ้นส่วนจำกัด จิมมี่ ซัพพลาย | I69: 3500 | J69: เป็นผู้มีคุณสมบัติตรงตามเงื่อนไขที่กำหนด | K69: 126/2569 | L69: 20/02/2569
A70: 68 | B70: จ้างเหมาซ่อมแซมคอมพิวเตอร์ จำนวน ๑ เครื่อง ครุภัณฑ์เลขที่ ๔๑๖-๕๙-๐๐๘๒ | C70: 6900 | D70: 6900 | E70: โดยวิธีเฉพาะเจาะจง | F70: ห้างหุ้นส่วนจำกัด ธนาทรัพย์ศิลา | G70: 6900 | H70: ห้างหุ้นส่วนจำกัด ธนาทรัพย์ศิลา | I70: 6900 | J70: เป็นผู้มีคุณสมบัติตรงตามเงื่อนไขที่กำหนด | K70: 127/2569 | L70: 20/02/2569
A71: 69 | B71: จ้างเหมาจัดทำป้ายเหล็กพร้อมติดสติ๊กเกอร์ จำนวน ๕ ป้าย | C71: 2500 | D71: 2500 | E71: โดยวิธีเฉพาะเจาะจง | F71: ร้านแม่จันเจริญ ป้ายโฆษณา | G71: 2500 | H71: ร้านแม่จันเจริญ ป้ายโฆษณา | I71: 2500 | J71: เป็นผู้มีคุณสมบัติตรงตามเงื่อนไขที่กำหนด | K71: 125/2569 | L71: 20/02/2569
A72: 70 | B72: จ้างเหมาซ่อมแซมคอมพิวเตอร์ จำนวน ๑ เครื่อง ครุภัณฑ์เลขที่ ๔๑๖-๕๙-๐๐๘๒ | C72: 6900 | D72: 6900 | E72: โดยวิธีเฉพาะเจาะจง | F72: ห้างหุ้นส่วนจำกัด ธนาทรัพย์ศิลา | G72: 6900 | H72: ห้างหุ้นส่วนจำกัด ธนาทรัพย์ศิลา | I72: 6900 | J72: เป็นผู้มีคุณสมบัติตรงตามเงื่อนไขที่กำหนด | K72: 127/2569 | L72: 20/02/2569
A73: 71 | B73: ซื้อพร้อมติดตั้งฟิล์มกรองแสงรถยนต์หมายเลขทะเบียน กจ ๑๓๘๖ เชียงราย | C73: 2200 | D73: 2200 | E73: โดยวิธีเฉพาะเจาะจง | F73: วอเจริญอะไหล่ยนต์ | G73: 2200 | H73: วอเจริญอะไหล่ยนต์ | I73: 2200 | J73: เป็นผู้มีคุณสมบัติตรงตามเงื่อนไขที่กำหนด | K73: 092/2569 | L73: 20/02/2569
A74: 72 | B74: ซื้อวัสดุสำนักงาน จำนวน 30 รายการ | C74: 65348 | D74: 65348 | E74: โดยวิธีเฉพาะเจาะจง | F74: จี.จี.ซัพพลาย | G74: 65348 | H74: จี.จี.ซัพพลาย | I74: 65348 | J74: เป็นผู้มีคุณสมบัติตรงตามเงื่อนไขที่กำหนด | K74: 089/2569 | L74: 16/02/2569
A75: 73 | B75: ซื้อวัสดุเพื่อเทลานกิจกรรม บ้านสันติสุข หมู่ที่ ๑๙ (บ้านจะกอนะ) ตำบลป่าตึง อำเภอแม่จัน จังหวัดเชียงราย | C75: 102600 | D75: 102600 | E75: โดยวิธีเฉพาะเจาะจง | F75: ห้างหุ้นส่วนจำกัด ไทยนุรัฐพัฒนก่อสร้าง | G75: 102600 | H75: ห้างหุ้นส่วนจำกัด ไทยนุรัฐพัฒนก่อสร้าง | I75: 102600 | J75: เป็นผู้มีคุณสมบัติตรงตามเงื่อนไขที่กำหนด | K75: 090/2569 | L75: 16/02/2569
A76: 74 | B76: ซื้อวัสดุก่อสร้าง เพื่อเทลานกิจกรรม บ้านห้วยต่าง (จะพือ) หมู่ที่ ๑๖ ตำบลป่าตึง อำเภอแม่จัน จังหวัดเชียงราย | C76: 164950 | D76: 164950 | E76: โดยวิธีเฉพาะเจาะจง | F76: ห้างหุ้นส่วนจำกัด ไทยนุรัฐพัฒนก่อสร้าง | G76: 164950 | H76: ห้างหุ้นส่วนจำกัด ไทยนุรัฐพัฒนก่อสร้าง | I76: 164950 | J76: เป็นผู้มีคุณสมบัติตรงตามเงื่อนไขที่กำหนด | K76: 091/2569 | L76: 16/02/2569
A77: 75 | B77: ซื้อวัสดุก่อสร้าง จำนวน ๑๒ รายการ | C77: 19945 | D77: 19945 | E77: โดยวิธีเฉพาะเจาะจง | F77: ห้างหุ้นส่วนจำกัด อุดมภัณฑ์ ฮาร์ดแวร์ | G77: 19945 | H77: ห้างหุ้นส่วนจำกัด อุดมภัณฑ์ ฮาร์ดแวร์ | I77: 19945 | J77: เป็นผู้มีคุณสมบัติตรงตามเงื่อนไขที่กำหนด | K77: 088/2569 | L77: 244392
A78: 76 | B78: จ้างเหมาเครื่องจักรขุดลอกร่องระบายน้ำ บ้านแม่เฟือง หมู่ที่ 5 ตำบลป่าตึง อำเภอแม่จัน จังหวัดเชียงราย | C78: 24770 | D78: 24770 | E78: โดยวิธีเฉพาะเจาะจง | F78: ห้างหุ้นส่วนจำกัด อาเพียวคอนสตรัคชั่น | G78: 24770 | H78: ห้างหุ้นส่วนจำกัด อาเพียวคอนสตรัคชั่น | I78: 24770 | J78: เป็นผู้มีคุณสมบัติตรงตามเงื่อนไขที่กำหนด | K78: 124/2569 | L78: 244396
A79: 77 | B79: ซื้อยางรถยนต์พร้อมเปลี่ยน จำนวน ๑ รายการ ยี่ห้อโตโยต้า หมายเลขทะเบียน ผธ ๙๙๙๗ เชียงราย | C79: 23400 | D79: 23400 | E79: โดยวิธีเฉพาะเจาะจง | F79: หจก.เอส.เค.ยางยนต์เชียงราย | G79: 23400 | H79: หจก.เอส.เค.ยางยนต์เชียงราย | I79: 23400 | J79: เป็นผู้มีคุณสมบัติตรงตามเงื่อนไขที่กำหนด | K79: 087/2569 | L79: 12/02/2569
A80: 78 | B80: ซื้อวัสดุคอมพิวเตอร์ จำนวน ๖ รายการ | C80: 19935 | D80: 19935 | E80: โดยวิธีเฉพาะเจาะจง | F80: ห้างหุ้นส่วนจำกัด ธนาทรัพย์ศิลา | G80: 19935 | H80: ห้างหุ้นส่วนจำกัด ธนาทรัพย์ศิลา | I80: 19935 | J80: เป็นผู้มีคุณสมบัติตรงตามเงื่อนไขที่กำหนด | K80: 085/2569 | L80: 12/02/2569
A81: 79 | B81: ซื้อวัสดุการเกษตร จำนวน ๔ รายการ | C81: 4960 | D81: 4960 | E81: โดยวิธีเฉพาะเจาะจง | F81: หจก.ภคพรทรัพย์เกษตร | G81: 4960 | H81: หจก.ภคพรทรัพย์เกษตร | I81: 4960 | J81: เป็นผู้มีคุณสมบัติตรงตามเงื่อนไขที่กำหนด | K81: 086/2569 ลงวันที่ 12/02/2569 | L81: 12/02/2569
A82: 80 | B82: จ้างเหมาซ่อมแซมและบำรุงรักษาระบบกล้องวงจรปิด CCTV บริเวณน้ำพุร้อนป่าตึงและบ้านป่าเมี้ยง หมู่ที่ ๙ | C82: 6250 | D82: 6250 | E82: โดยวิธีเฉพาะเจาะจง | F82: ห้างหุ้นส่วนจำกัด ธนาทรัพย์ศิลา | G82: 6250 | H82: ห้างหุ้นส่วนจำกัด ธนาทรัพย์ศิลา | I82: 6250 | J82: เป็นผู้มีคุณสมบัติตรงตามเงื่อนไขที่กำหนด | K82: 123/2569 | L82: 244391
A83: 81 | B83: ซื้อกระสอบพลาสติก ตามโครงการจัดการน้ำตามปรัชญาเศรษฐกิจพอเพียง ประจำปีงบประมาณ พ.ศ.๒๕๖๙ กิจกรรม สร้างฝายชะลอน้ำ | C83: 21000 | D83: 21000 | E83: โดยวิธีเฉพาะเจาะจง | F83: สีดา พาณิชย์ | G83: 21000 | H83: สีดา พาณิชย์ | I83: 21000 | J83: เป็นผู้มีคุณสมบัติตรงตามเงื่อนไขที่กำหนด | K83: 084/2569 | L83: 244391
A84: 82 | B84: ซื้อผ้าม่านพร้อมอุปกรณ์ติดตั้ง ห้องประชุม อบต.ป่าตึง | C84: 65500 | D84: 65500 | E84: โดยวิธีเฉพาะเจาะจง | F84: เชียงรายผ้าม่าน | G84: 65500 | H84: เชียงรายผ้าม่าน | I84: 65500 | J84: เป็นผู้มีคุณสมบัติตรงตามเงื่อนไขที่กำหนด | K84: 083/2569 | L84: 244390
A85: 83 | B85: จ้างเหมาซ่อมแซมและบำรุงรักษาครุภัณฑ์รถยนต์ยี่ห้ออีซูซุ หมายเลขทะเบียน ผก ๙๙๔ เชียงราย | C85: 4000 | D85: 4000 | E85: โดยวิธีเฉพาะเจาะจง | F85: นาย สุทัศน์ ยาวุฒิ | G85: 4000 | H85: นาย สุทัศน์ ยาวุฒิ | I85: 4000 | J85: เป็นผู้มีคุณสมบัติตรงตามเงื่อนไขที่กำหนด | K85: 122/2569 | L85: 244390
A86: 84 | B86: ซื้อวัสดุอุปกรณ์ก่อสร้าง จำนวน ๙ รายการ ตามโครงการปรับสภาพแวดล้อมและสิ่งอำนวยความสะดวกให้เหมาะสมและปลอดภัยสำหรับผู้สูงอายุ ประจำปีงบประมาณ ๒๕๖๙ | C86: 40000 | D86: 40000 | E86: โดยวิธีเฉพาะเจาะจง | F86: หอมนานค้าไม้ | G86: 40000 | H86: หอมนานค้าไม้ | I86: 40000 | J86: เป็นผู้มีคุณสมบัติตรงตามเงื่อนไขที่กำหนด | K86: 082/2569 | L86: 244390
A87: 85 | B87: จ้างก่อสร้างถนนคอนกรีตเสริมเหล็ก ทางไปอ่างเก็บน้ำ บ้านห้วยมะหินฝน หมู่ที่ 14 ตำบลป่าตึง อำเภอแม่จัน จังหวัดเชียงราย | C87: 154500 | D87: 154755.28 | E87: โดยวิธีเฉพาะเจาะจง | F87: ห้างหุ้นส่วนจำกัด ชิง ไห่ ดีเวลลอปเมนท์ | G87: 154200 | H87: ห้างหุ้นส่วนจำกัด ชิง ไห่ ดีเวลลอปเมนท์ | I87: 154200 | J87: เป็นผู้มีคุณสมบัติตรงตามเงื่อนไขที่กำหนด | K87: 050/2569 | L87: 244391
A88: 86 | B88: จ้างก่อสร้างถนนคอนกรีตเสริมเหล็ก บ้านสันติสุข หมู่ที่ 19 (บ้านกิ่วสะไต) จำนวน๒ จุด ตำบลป่าตึง อำเภอแม่จัน จังหวัดเชียงราย | C88: 150000 | D88: 150663.11 | E88: โดยวิธีเฉพาะเจาะจง | F88: ห้างหุ้นส่วนจำกัด ไทยนุรัฐพัฒนก่อสร้าง | G88: 149800 | H88: ห้างหุ้นส่วนจำกัด ไทยนุรัฐพัฒนก่อสร้าง | I88: 149800 | J88: เป็นผู้มีคุณสมบัติตรงตามเงื่อนไขที่กำหนด | K88: 049/2569 | L88: 244391
A89: 87 | B89: จ้างก่อสร้างถนนคอนกรีตเสริมเหล็ก บ้านห้วยมะหินฝน หมู่ที่ 14 (ซอย 4) ตำบลป่าตึง อำเภอแม่จัน จังหวัดเชียงราย | C89: 108400 | D89: 108456.57 | E89: โดยวิธีเฉพาะเจาะจง | F89: ห้างหุ้นส่วนจำกัด ชิง ไห่ ดีเวลลอปเมนท์ | G89: 108200 | H89: ห้างหุ้นส่วนจำกัด ชิง ไห่ ดีเวลลอปเมนท์ | I89: 108200 | J89: เป็นผู้มีคุณสมบัติตรงตามเงื่อนไขที่กำหนด | K89: 051/2569 | L89: 244391
A90: 88 | B90: จ้างก่อสร้างถนนคอนกรีตเสริมเหล็ก บ้านสันติสุข หมู่ที่ 19 (บ้านรวมใจ) ตำบลป่าตึง อำเภอแม่จัน จังหวัดเชียงราย | C90: 150000 | D90: 151390.88 | E90: โดยวิธีเฉพาะเจาะจง | F90: ห้างหุ้นส่วนจำกัด ไทยนุรัฐพัฒนก่อสร้าง | G90: 149900 | H90: ห้างหุ้นส่วนจำกัด ไทยนุรัฐพัฒนก่อสร้าง | I90: 149900 | J90: เป็นผู้มีคุณสมบัติตรงตามเงื่อนไขที่กำหนด | K90: 048/2569 | L90: 244391
A91: 89 | B91: ซื้อวัสดุสำนักงานกองช่าง (จำนวน 22 รายการ) | C91: 21190 | D91: 21190 | E91: โดยวิธีเฉพาะเจาะจง | F91: จี.จี.ซัพพลาย | G91: 21190 | H91: จี.จี.ซัพพลาย | I91: 21190 | J91: เป็นผู้มีคุณสมบัติตรงตามเงื่อนไขที่กำหนด | K91: 081/2569 | L91: 06/02/2569
A92: 90 | B92: จ้างเหมาซ่อมแซมและบำรุงรักษาครุภัณฑ์คอมพิวเตอร์ รายการเครื่องพิมพ์เอกสาร จำนวน ๑ เครื่อง | C92: 500 | D92: 500 | E92: โดยวิธีเฉพาะเจาะจง | F92: ห้างหุ้นส่วนจำกัด ธนาทรัพย์ศิลา | G92: 500 | H92: ห้างหุ้นส่วนจำกัด ธนาทรัพย์ศิลา | I92: 500 | J92: เป็นผู้มีคุณสมบัติตรงตามเงื่อนไขที่กำหนด | K92: 120/2569 | L92: 244386
A93: 91 | B93: จ้างเหมาซ่อมแซมและบำรุงรักษาครุภัณฑ์รถยนต์ยี่ห้อฟอร์ด หมายเลขทะเบียน บธ ๑๘๔๒ เชียงราย | C93: 4150 | D93: 4150 | E93: โดยวิธีเฉพาะเจาะจง | F93: เอกไดนาโม แอร์ | G93: 4150 | H93: เอกไดนาโม แอร์ | I93: 4150 | J93: เป็นผู้มีคุณสมบัติตรงตามเงื่อนไขที่กำหนด | K93: 119/2569 | L93: 244386
A94: 92 | B94: จ้างเหมาจัดทำป้ายบอกทางน้ำพุร้อนป่าตึง | C94: 8000 | D94: 8000 | E94: โดยวิธีเฉพาะเจาะจง | F94: ร้านแม่จันเจริญ ป้ายโฆษณา | G94: 8000 | H94: ร้านแม่จันเจริญ ป้ายโฆษณา | I94: 8000 | J94: เป็นผู้มีคุณสมบัติตรงตามเงื่อนไขที่กำหนด | K94: 121/2569 | L94: 244386
A95: 93 | B95: จ้างเหมาซ่อมแซมเครื่องปริ้นเตอร์ จำนวน ๑ เครื่อง | C95: 4200 | D95: 4200 | E95: โดยวิธีเฉพาะเจาะจง | F95: ห้างหุ้นส่วนจำกัด ธนาทรัพย์ศิลา | G95: 4200 | H95: ห้างหุ้นส่วนจำกัด ธนาทรัพย์ศิลา | I95: 4200 | J95: เป็นผู้มีคุณสมบัติตรงตามเงื่อนไขที่กำหนด | K95: 118/2569 | L95: 244383
A96: 94 | B96: ซื้อน้ำดื่ม ตามโครงการจัดการน้ำตามปรัชญาเศรษฐกิจพอเพียง ประจำปีงบประมาณ พ.ศ.๒๕๖๙ กิจกรรม สร้างฝายชะลอน้ำ | C96: 7000 | D96: 7000 | E96: โดยวิธีเฉพาะเจาะจง | F96: นายณัฐพงศ์ อิ่นแก้ว | G96: 7000 | H96: นายณัฐพงศ์ อิ่นแก้ว | I96: 7000 | J96: เป็นผู้มีคุณสมบัติตรงตามเงื่อนไขที่กำหนด | K96: 079/2569 | L96: 244383
A97: 95 | B97: ค่าจ้างเหมาจัดทำอาหารกลางวันโครงการเตรียมความพร้อมเพื่อจัดการปัญหาไฟ่ปาและหมอกควัน ปีงบประมาณ พ.ศ.2569 "กิจกรรมชุมชนร่วมใจทำแนวกันไฟป้องกันไฟป่า" ม.14 ครั้งที่ 1 | C97: 6000 | D97: 6000 | E97: โดยวิธีเฉพาะเจาะจง | F97: นางสาวชไมพร คำเครื่อง | G97: 6000 | H97: นางสาวชไมพร คำเครื่อง | I97: 6000 | J97: เป็นผู้มีอาชีพที่เสนอพัสดุตรงตามวัตถุประสงค์ในการใช้งาน | K97: 210/2569 | L97: 244383
A98: 96 | B98: ค่าจ้างเหมาจัดทำป้ายโครงการเตรียมความพร้อมเพื่อจัดการปัญหาไฟ่ปาและหมอกควัน ปีงบประมาณ พ.ศ.2569 "กิจกรรมชุมชนร่วมใจทำแนวกันไฟป้องกันไฟป่า" ม.14 | C98: 360 | D98: 360 | E98: โดยวิธีเฉพาะเจาะจง | F98: แม่จันเจริญป้ายโฆษณา | G98: 360 | H98: แม่จันเจริญป้ายโฆษณา | I98: 360 | J98: เป็นผู้มีอาชีพที่เสนอพัสดุตรงตามวัตถุประสงค์ในการใช้งาน | K98: 211/2569 | L98: 244383
A99: 97 | B99: ค่าจัดทำข้าวกล่องพร้อมน้ำดื่มและอาหารว่างพร้อมเครื่องดื่ม รับเสด็จ 14 ก.พ. 69 | C99: 4940 | D99: 4940 | E99: โดยวิธีเฉพาะเจาะจง | F99: นางสุมาลี ซึ่งกร่าง | G99: 4940 | H99: นางสุมาลี ซึ่งกร่าง | I99: 4940 | J99: เป็นผู้มีอาชีพที่เสนอพัสดุตรงตามวัตถุประสงค์ในการใช้งาน | K99: 228/2569 | L99: 244394
A100: 98 | B100: จ้างเหมาจัดทำอาหารกลางวันพร้อมน้ำดื่มโครงการเตรียมความพร้อมเพื่อจัดการปัญหาไฟ่ปาและหมอกควัน ครั้งที่ 2 | C100: 2400 | D100: 2400 | E100: โดยวิธีเฉพาะเจาะจง | F100: นางสาวชนม์นิภา สิงห์สา | G100: 2400 | H100: นางสาวชนม์นิภา สิงห์สา | I100: 2400 | J100: เป็นผู้มีอาชีพที่เสนอพัสดุตรงตามวัตถุประสงค์ในการใช้งาน | K100: 230/2569 | L100: 18/02/2569
I101: =SUM(I3:I100) -> 7795820.6

Sheet สรุปผล กพ
A1: สรุปผลการดำเนินการจัดซื้อจัดจ้างหรือการจัดหาพัสดุของหน่วยงานประจำเดือน ปีงบประมาณ พ.ศ.2569
A2: ชื่อหน่วยงาน องค์การบริหารส่วนตำบลป่าตึง
D3: ประจำเดือน กุมภาพันธ์ 2569
C4: ลำดับ | D4: วิธีการจัดซื้อจัดจ้าง | E4: จำนวนโครงการ | F4: จำนวนงบประมาณ
C5: 1 | D5: วิธีเฉพาะเจาะจง | E5: 41 | F5: =กพ69!I45-'สรุปผล กพ'!F7 -> 1856069
C6: 2 | D6: วิธีคัดเลือก | E6: - | F6: -
C7: 3 | D7: วิธีประกวดราคาอิเล็คทรอนิกส์ (e-bidding) | E7: 1 | F7: 539000
C8: 4 | D8: อื่น ๆ | E8: - | F8: -
D9: รวม | E9: =SUM(E5:E8) -> 42 | F9: =SUM(F5:F8) -> 2395069
A11: ปัญหา/อุปสรรค
A17: ข้อเสนอแนะ

Sheet กพ69
A2: ลำดับที่ | B2: งานที่จัดซื้อจัดจ้าง | C2: วงเงินที่จะซื้อหรือจ้าง | D2: ราคากลาง | E2: วิธีจัดซื้อหรือจ้าง | F2: รายชื่อผู้เสนอราคา | G2: ราคาที่เสนอ | H2: ผู้ได้รับการคัดเลือก | I2: ราคาที่ตกลงซื้อหรือจ้าง | J2: เหตุผลที่คัดเลือกโดยสรุป | K2: เลขที่และวันที่ของสัญญาหรือข้อตกลงในการซื้อหรือจ้าง
A3: 1 | B3: จ้างซ่อมแซมหลังคาศูนย์บริหารจัดการขยะ อบต.ป่าตึง หมู่ที่ 7 ตำบลป่าตึง อำเภอแม่จัน จังหวัดเชียงราย | C3: 50000 | D3: 48432.48 | E3: โดยวิธีเฉพาะเจาะจง | F3: นายศรีพัด ชุ่มเมืองเย็น | G3: 48000 | H3: นายศรีพัด ชุ่มเมืองเย็น | I3: 48000 | J3: เป็นผู้มีคุณสมบัติตรงตามเงื่อนไขที่กำหนด | K3: 056/2569 | L3: 05/03/2569
A4: 2 | B4: จ้างเหมาบริการล้างเครื่องปรับอากาศ จำนวน ๔ เครื่อง | C4: 6200 | D4: 6200 | E4: โดยวิธีเฉพาะเจาะจง | F4: เอพีคอมพิวเตอร์เซอร์วิส | G4: 6200 | H4: เอพีคอมพิวเตอร์เซอร์วิส | I4: 6200 | J4: เป็นผู้มีคุณสมบัติตรงตามเงื่อนไขที่กำหนด | K4: 131/2569 | L4: 244407
A5: 3 | B5: จ้างเหมาสำรวจข้อมูลจำนวนสุนัขและแมวและขึ้นทะเบียนสัตว์ จำนวน ๑ รายการ | C5: 8121 | D5: 8121 | E5: โดยวิธีเฉพาะเจาะจง | F5: นายบุญช่วย เรืองปัญญา | G5: 8121 | H5: นายบุญช่วย เรืองปัญญา | I5: 8121 | J5: เป็นผู้มีคุณสมบัติตรงตามเงื่อนไขที่กำหนด | K5: 130/2569 | L5: 244407
A6: 4 | B6: ซื้อโคมไฟฟ้าส่องสว่างสาธารณะพลังงานแสงอาทิตย์ พร้อมติดตั้ง บ้านโป่งน้ำร้อน หมู่ที่ ๑๑ ตำบลป่าตึง อำเภอแม่จัน จังหวัดเชียงราย | C6: 178500 | D6: 178500 | E6: โดยวิธีเฉพาะเจาะจง | F6: ห้างหุ้นส่วนจำกัด โซล่าร์เซลล์ เชียงราย | G6: 178500 | H6: ห้างหุ้นส่วนจำกัด โซล่าร์เซลล์ เชียงราย | I6: 178500 | J6: เป็นผู้มีคุณสมบัติตรงตามเงื่อนไขที่กำหนด | K6: 010/2569 | L6: 09/03/2569
A7: 5 | B7: จ้างเหมาล้างทำความสะอาดเครื่องปรับอากาศ จำนวน ๓ เครื่อง (กองช่าง) | C7: 4950 | D7: 4950 | E7: โดยวิธีเฉพาะเจาะจง | F7: เอพีคอมพิวเตอร์เซอร์วิส | G7: 4950 | H7: เอพีคอมพิวเตอร์เซอร์วิส | I7: 4950 | J7: เป็นผู้มีคุณสมบัติตรงตามเงื่อนไขที่กำหนด | K7: 129/2569 | L7: 26/02/2569
A8: 6 | B8: จ้างก่อสร้างถนนคอนกรีตเสริมเหล็ก บ้านเล่าฝู่ หมู่ที่ 20 (บ้านจะหยี) สายที่ 1 ตำบลป่าตึง อำเภอแม่จัน จังหวัดเชียงราย | C8: 145900 | D8: 145983.51 | E8: โดยวิธีเฉพาะเจาะจง | F8: ห้างหุ้นส่วนจำกัด เอสเอสเค คอนสตรัคชั่น แอนด์แมชชีน | G8: 145800 | H8: ห้างหุ้นส่วนจำกัด เอสเอสเค คอนสตรัคชั่น แอนด์แมชชีน | I8: 145800 | J8: เป็นผู้มีคุณสมบัติตรงตามเงื่อนไขที่กำหนด | K8: 055/2569 | L8: 244412
A9: 7 | B9: ประกวดราคาจ้างก่อสร้างโครงการต่อเติมอาคารอเนกประสงค์ บ้านผาตั้ง หมู่ที่ 6 ตำบลป่าตึง อำเภอแม่จัน จังหวัดเชียงราย | C9: 600000 | D9: 676956.88 | E9: ด้วยวิธีประกวดราคาอิเล็กทรอนิกส์ | F9: 1.หจก.แสนใจ คอนสตรัคชั่น 2.หจก.ไพโอเนียร์ คอนสตรัคชั่น 3.หจก.บุญเรือง คอนสตรัคชั่น แอนด์ ดีไซน์ 4.บริษัท วาไรเทค เอ็นจิเนียริ่ง จำกัด 5.บริษัท ภูมินทร์ทัต จำกัด 6.บริษัท ดับบลิว พี สตีล จำกัด | G9: 589,900.00 589,876.00 539,000.00 599,000.00 540,000.00 567,000.00 | H9: ห้างหุ้นส่วนจำกัด บุญเรือง คอนสตรัคชั่น แอนด์ ดีไซน์ | I9: 539000 | J9: เป็นผู้มีคุณสมบัติและข้อเสนอทางเทคนิคถูกต้องครบถ้วนและเป็นผู้เสนอราคา ต่ำสุด | K9: 064/2569 | L9: 244425
A10: 8 | B10: จ้างเหมาล้างทำความสะอาดเครื่องปรับอากาศ จำนวน ๒ เครื่อง (กองคลัง) | C10: 3600 | D10: 3600 | E10: โดยวิธีเฉพาะเจาะจง | F10: เอพีคอมพิวเตอร์เซอร์วิส | G10: 3600 | H10: เอพีคอมพิวเตอร์เซอร์วิส | I10: 3600 | J10: เป็นผู้มีคุณสมบัติตรงตามเงื่อนไขที่กำหนด | K10: 128/2569 | L10: 24/02/2569
A11: 9 | B11: จ้างก่อสร้างถนนคอนกรีตเสริมเหล็ก บ้านสันติสุข หมู่ที่ 19 (บ้านแสนใหม่) ตำบลป่าตึง อำเภอแม่จัน จังหวัดเชียงราย | C11: 150000 | D11: 150365.49 | E11: โดยวิธีเฉพาะเจาะจง | F11: ห้างหุ้นส่วนจำกัด ไทยนุรัฐพัฒนก่อสร้าง | G11: 148400 | H11: ห้างหุ้นส่วนจำกัด ไทยนุรัฐพัฒนก่อสร้าง | I11: 148400 | J11: เป็นผู้มีคุณสมบัติตรงตามเงื่อนไขที่กำหนด | K11: 053/2569 | L11: 02/03/2569
A12: 10 | B12: จ้างก่อสร้างถนนคอนกรีตเสริมเหล็ก บ้านห้วยมะหินฝน หมู่ที่ 14 (ซอย 8) ตำบลป่าตึง อำเภอแม่จัน จังหวัดเชียงราย | C12: 107600 | D12: 108456.57 | E12: โดยวิธีเฉพาะเจาะจง | F12: ห้างหุ้นส่วนจำกัด ชิงหลง คอนสทรัคชั่น | G12: 107000 | H12: ห้างหุ้นส่วนจำกัด ชิงหลง คอนสทรัคชั่น | I12: 107000 | J12: เป็นผู้มีคุณสมบัติตรงตามเงื่อนไขที่กำหนด | K12: 054/2569 | L12: 02/03/2569
A13: 11 | B13: จ้างเหมาซ่อมแซมและบำรุงรักษาเครื่องปรับอากาศ จำนวน ๑ เครื่อง ครุภัณฑ์เลขที่ ๔๒๐-๖๐-๐๐๒๙ | C13: 3500 | D13: 3500 | E13: โดยวิธีเฉพาะเจาะจง | F13: ห้างหุ้นส่วนจำกัด จิมมี่ ซัพพลาย | G13: 3500 | H13: ห้างหุ้นส่วนจำกัด จิมมี่ ซัพพลาย | I13: 3500 | J13: เป็นผู้มีคุณสมบัติตรงตามเงื่อนไขที่กำหนด | K13: 126/2569 | L13: 244400
A14: 12 | B14: จ้างเหมาซ่อมแซมคอมพิวเตอร์ จำนวน ๑ เครื่อง ครุภัณฑ์เลขที่ ๔๑๖-๕๙-๐๐๘๒ | C14: 6900 | D14: 6900 | E14: โดยวิธีเฉพาะเจาะจง | F14: ห้างหุ้นส่วนจำกัด ธนาทรัพย์ศิลา | G14: 6900 | H14: ห้างหุ้นส่วนจำกัด ธนาทรัพย์ศิลา | I14: 6900 | J14: เป็นผู้มีคุณสมบัติตรงตามเงื่อนไขที่กำหนด | K14: 127/2569 | L14: 244400
A15: 13 | B15: จ้างเหมาจัดทำป้ายเหล็กพร้อมติดสติ๊กเกอร์ จำนวน ๕ ป้าย | C15: 2500 | D15: 2500 | E15: โดยวิธีเฉพาะเจาะจง | F15: ร้านแม่จันเจริญ ป้ายโฆษณา | G15: 2500 | H15: ร้านแม่จันเจริญ ป้ายโฆษณา | I15: 2500 | J15: เป็นผู้มีคุณสมบัติตรงตามเงื่อนไขที่กำหนด | K15: 125/2569 | L15: 244400
A16: 14 | B16: จ้างเหมาซ่อมแซมคอมพิวเตอร์ จำนวน ๑ เครื่อง ครุภัณฑ์เลขที่ ๔๑๖-๕๙-๐๐๘๒ | C16: 6900 | D16: 6900 | E16: โดยวิธีเฉพาะเจาะจง | F16: ห้างหุ้นส่วนจำกัด ธนาทรัพย์ศิลา | G16: 6900 | H16: ห้างหุ้นส่วนจำกัด ธนาทรัพย์ศิลา | I16: 6900 | J16: เป็นผู้มีคุณสมบัติตรงตามเงื่อนไขที่กำหนด | K16: 127/2569 | L16: 244400
A17: 15 | B17: ซื้อพร้อมติดตั้งฟิล์มกรองแสงรถยนต์หมายเลขทะเบียน กจ ๑๓๘๖ เชียงราย | C17: 2200 | D17: 2200 | E17: โดยวิธีเฉพาะเจาะจง | F17: วอเจริญอะไหล่ยนต์ | G17: 2200 | H17: วอเจริญอะไหล่ยนต์ | I17: 2200 | J17: เป็นผู้มีคุณสมบัติตรงตามเงื่อนไขที่กำหนด | K17: 092/2569 | L17: 244400
A18: 16 | B18: ซื้อวัสดุสำนักงาน จำนวน 30 รายการ | C18: 65348 | D18: 65348 | E18: โดยวิธีเฉพาะเจาะจง | F18: จี.จี.ซัพพลาย | G18: 65348 | H18: จี.จี.ซัพพลาย | I18: 65348 | J18: เป็นผู้มีคุณสมบัติตรงตามเงื่อนไขที่กำหนด | K18: 089/2569 | L18: 244396
A19: 17 | B19: ซื้อวัสดุเพื่อเทลานกิจกรรม บ้านสันติสุข หมู่ที่ ๑๙ (บ้านจะกอนะ) ตำบลป่าตึง อำเภอแม่จัน จังหวัดเชียงราย | C19: 102600 | D19: 102600 | E19: โดยวิธีเฉพาะเจาะจง | F19: ห้างหุ้นส่วนจำกัด ไทยนุรัฐพัฒนก่อสร้าง | G19: 102600 | H19: ห้างหุ้นส่วนจำกัด ไทยนุรัฐพัฒนก่อสร้าง | I19: 102600 | J19: เป็นผู้มีคุณสมบัติตรงตามเงื่อนไขที่กำหนด | K19: 090/2569 | L19: 244396
A20: 18 | B20: ซื้อวัสดุก่อสร้าง เพื่อเทลานกิจกรรม บ้านห้วยต่าง (จะพือ) หมู่ที่ ๑๖ ตำบลป่าตึง อำเภอแม่จัน จังหวัดเชียงราย | C20: 164950 | D20: 164950 | E20: โดยวิธีเฉพาะเจาะจง | F20: ห้างหุ้นส่วนจำกัด ไทยนุรัฐพัฒนก่อสร้าง | G20: 164950 | H20: ห้างหุ้นส่วนจำกัด ไทยนุรัฐพัฒนก่อสร้าง | I20: 164950 | J20: เป็นผู้มีคุณสมบัติตรงตามเงื่อนไขที่กำหนด | K20: 091/2569 | L20: 244396
A21: 19 | B21: ซื้อวัสดุก่อสร้าง จำนวน ๑๒ รายการ | C21: 19945 | D21: 19945 | E21: โดยวิธีเฉพาะเจาะจง | F21: ห้างหุ้นส่วนจำกัด อุดมภัณฑ์ ฮาร์ดแวร์ | G21: 19945 | H21: ห้างหุ้นส่วนจำกัด อุดมภัณฑ์ ฮาร์ดแวร์ | I21: 19945 | J21: เป็นผู้มีคุณสมบัติตรงตามเงื่อนไขที่กำหนด | K21: 088/2569 | L21: 12/02/2569
A22: 20 | B22: จ้างเหมาเครื่องจักรขุดลอกร่องระบายน้ำ บ้านแม่เฟือง หมู่ที่ 5 ตำบลป่าตึง อำเภอแม่จัน จังหวัดเชียงราย | C22: 24770 | D22: 24770 | E22: โดยวิธีเฉพาะเจาะจง | F22: ห้างหุ้นส่วนจำกัด อาเพียวคอนสตรัคชั่น | G22: 24770 | H22: ห้างหุ้นส่วนจำกัด อาเพียวคอนสตรัคชั่น | I22: 24770 | J22: เป็นผู้มีคุณสมบัติตรงตามเงื่อนไขที่กำหนด | K22: 124/2569 | L22: 244396
A23: 21 | B23: ซื้อยางรถยนต์พร้อมเปลี่ยน จำนวน ๑ รายการ ยี่ห้อโตโยต้า หมายเลขทะเบียน ผธ ๙๙๙๗ เชียงราย | C23: 23400 | D23: 23400 | E23: โดยวิธีเฉพาะเจาะจง | F23: หจก.เอส.เค.ยางยนต์เชียงราย | G23: 23400 | H23: หจก.เอส.เค.ยางยนต์เชียงราย | I23: 23400 | J23: เป็นผู้มีคุณสมบัติตรงตามเงื่อนไขที่กำหนด | K23: 087/2569 | L23: 244392
A24: 22 | B24: ซื้อวัสดุคอมพิวเตอร์ จำนวน ๖ รายการ | C24: 19935 | D24: 19935 | E24: โดยวิธีเฉพาะเจาะจง | F24: ห้างหุ้นส่วนจำกัด ธนาทรัพย์ศิลา | G24: 19935 | H24: ห้างหุ้นส่วนจำกัด ธนาทรัพย์ศิลา | I24: 19935 | J24: เป็นผู้มีคุณสมบัติตรงตามเงื่อนไขที่กำหนด | K24: 085/2569 | L24: 244392
A25: 23 | B25: ซื้อวัสดุการเกษตร จำนวน ๔ รายการ | C25: 4960 | D25: 4960 | E25: โดยวิธีเฉพาะเจาะจง | F25: หจก.ภคพรทรัพย์เกษตร | G25: 4960 | H25: หจก.ภคพรทรัพย์เกษตร | I25: 4960 | J25: เป็นผู้มีคุณสมบัติตรงตามเงื่อนไขที่กำหนด | K25: 086/2569 | L25: 244392
A26: 24 | B26: จ้างเหมาซ่อมแซมและบำรุงรักษาระบบกล้องวงจรปิด CCTV บริเวณน้ำพุร้อนป่าตึงและบ้านป่าเมี้ยง หมู่ที่ ๙ | C26: 6250 | D26: 6250 | E26: โดยวิธีเฉพาะเจาะจง | F26: ห้างหุ้นส่วนจำกัด ธนาทรัพย์ศิลา | G26: 6250 | H26: ห้างหุ้นส่วนจำกัด ธนาทรัพย์ศิลา | I26: 6250 | J26: เป็นผู้มีคุณสมบัติตรงตามเงื่อนไขที่กำหนด | K26: 123/2569 | L26: 244391
A27: 25 | B27: ซื้อกระสอบพลาสติก ตามโครงการจัดการน้ำตามปรัชญาเศรษฐกิจพอเพียง ประจำปีงบประมาณ พ.ศ.๒๕๖๙ กิจกรรม สร้างฝายชะลอน้ำ | C27: 21000 | D27: 21000 | E27: โดยวิธีเฉพาะเจาะจง | F27: สีดา พาณิชย์ | G27: 21000 | H27: สีดา พาณิชย์ | I27: 21000 | J27: เป็นผู้มีคุณสมบัติตรงตามเงื่อนไขที่กำหนด | K27: 084/2569 | L27: 244391
A28: 26 | B28: ซื้อผ้าม่านพร้อมอุปกรณ์ติดตั้ง ห้องประชุม อบต.ป่าตึง | C28: 65500 | D28: 65500 | E28: โดยวิธีเฉพาะเจาะจง | F28: เชียงรายผ้าม่าน | G28: 65500 | H28: เชียงรายผ้าม่าน | I28: 65500 | J28: เป็นผู้มีคุณสมบัติตรงตามเงื่อนไขที่กำหนด | K28: 083/2569 | L28: 10/02/2569
A29: 27 | B29: จ้างเหมาซ่อมแซมและบำรุงรักษาครุภัณฑ์รถยนต์ยี่ห้ออีซูซุ หมายเลขทะเบียน ผก ๙๙๔ เชียงราย | C29: 4000 | D29: 4000 | E29: โดยวิธีเฉพาะเจาะจง | F29: นาย สุทัศน์ ยาวุฒิ | G29: 4000 | H29: นาย สุทัศน์ ยาวุฒิ | I29: 4000 | J29: เป็นผู้มีคุณสมบัติตรงตามเงื่อนไขที่กำหนด | K29: 122/2569 | L29: 10/02/2569
A30: 28 | B30: ซื้อวัสดุอุปกรณ์ก่อสร้าง จำนวน ๙ รายการ ตามโครงการปรับสภาพแวดล้อมและสิ่งอำนวยความสะดวกให้เหมาะสมและปลอดภัยสำหรับผู้สูงอายุ ประจำปีงบประมาณ ๒๕๖๙ | C30: 40000 | D30: 40000 | E30: โดยวิธีเฉพาะเจาะจง | F30: หอมนานค้าไม้ | G30: 40000 | H30: หอมนานค้าไม้ | I30: 40000 | J30: เป็นผู้มีคุณสมบัติตรงตามเงื่อนไขที่กำหนด | K30: 082/2569 | L30: 10/02/2569
A31: 29 | B31: จ้างก่อสร้างถนนคอนกรีตเสริมเหล็ก ทางไปอ่างเก็บน้ำ บ้านห้วยมะหินฝน หมู่ที่ 14 ตำบลป่าตึง อำเภอแม่จัน จังหวัดเชียงราย | C31: 154500 | D31: 154755.28 | E31: โดยวิธีเฉพาะเจาะจง | F31: ห้างหุ้นส่วนจำกัด ชิง ไห่ ดีเวลลอปเมนท์ | G31: 154200 | H31: ห้างหุ้นส่วนจำกัด ชิง ไห่ ดีเวลลอปเมนท์ | I31: 154200 | J31: เป็นผู้มีคุณสมบัติตรงตามเงื่อนไขที่กำหนด | K31: 050/2569 | L31: 11/02/2569
A32: 30 | B32: จ้างก่อสร้างถนนคอนกรีตเสริมเหล็ก บ้านสันติสุข หมู่ที่ 19 (บ้านกิ่วสะไต) จำนวน๒ จุด ตำบลป่าตึง อำเภอแม่จัน จังหวัดเชียงราย | C32: 150000 | D32: 150663.11 | E32: โดยวิธีเฉพาะเจาะจง | F32: ห้างหุ้นส่วนจำกัด ไทยนุรัฐพัฒนก่อสร้าง | G32: 149800 | H32: ห้างหุ้นส่วนจำกัด ไทยนุรัฐพัฒนก่อสร้าง | I32: 149800 | J32: เป็นผู้มีคุณสมบัติตรงตามเงื่อนไขที่กำหนด | K32: 049/2569 | L32: 11/02/2569
A33: 31 | B33: จ้างก่อสร้างถนนคอนกรีตเสริมเหล็ก บ้านห้วยมะหินฝน หมู่ที่ 14 (ซอย 4) ตำบลป่าตึง อำเภอแม่จัน จังหวัดเชียงราย | C33: 108400 | D33: 108456.57 | E33: โดยวิธีเฉพาะเจาะจง | F33: ห้างหุ้นส่วนจำกัด ชิง ไห่ ดีเวลลอปเมนท์ | G33: 108200 | H33: ห้างหุ้นส่วนจำกัด ชิง ไห่ ดีเวลลอปเมนท์ | I33: 108200 | J33: เป็นผู้มีคุณสมบัติตรงตามเงื่อนไขที่กำหนด | K33: 051/2569 | L33: 11/02/2569
A34: 32 | B34: จ้างก่อสร้างถนนคอนกรีตเสริมเหล็ก บ้านสันติสุข หมู่ที่ 19 (บ้านรวมใจ) ตำบลป่าตึง อำเภอแม่จัน จังหวัดเชียงราย | C34: 150000 | D34: 151390.88 | E34: โดยวิธีเฉพาะเจาะจง | F34: ห้างหุ้นส่วนจำกัด ไทยนุรัฐพัฒนก่อสร้าง | G34: 149900 | H34: ห้างหุ้นส่วนจำกัด ไทยนุรัฐพัฒนก่อสร้าง | I34: 149900 | J34: เป็นผู้มีคุณสมบัติตรงตามเงื่อนไขที่กำหนด | K34: 048/2569 | L34: 11/02/2569
A35: 33 | B35: ซื้อวัสดุสำนักงานกองช่าง (จำนวน 22 รายการ) | C35: 21190 | D35: 21190 | E35: โดยวิธีเฉพาะเจาะจง | F35: จี.จี.ซัพพลาย | G35: 21190 | H35: จี.จี.ซัพพลาย | I35: 21190 | J35: เป็นผู้มีคุณสมบัติตรงตามเงื่อนไขที่กำหนด | K35: 081/2569 | L35: 06/02/2569
A36: 34 | B36: จ้างเหมาซ่อมแซมและบำรุงรักษาครุภัณฑ์คอมพิวเตอร์ รายการเครื่องพิมพ์เอกสาร จำนวน ๑ เครื่อง | C36: 500 | D36: 500 | E36: โดยวิธีเฉพาะเจาะจง | F36: ห้างหุ้นส่วนจำกัด ธนาทรัพย์ศิลา | G36: 500 | H36: ห้างหุ้นส่วนจำกัด ธนาทรัพย์ศิลา | I36: 500 | J36: เป็นผู้มีคุณสมบัติตรงตามเงื่อนไขที่กำหนด | K36: 120/2569 | L36: 06/02/2569
A37: 35 | B37: จ้างเหมาซ่อมแซมและบำรุงรักษาครุภัณฑ์รถยนต์ยี่ห้อฟอร์ด หมายเลขทะเบียน บธ ๑๘๔๒ เชียงราย | C37: 4150 | D37: 4150 | E37: โดยวิธีเฉพาะเจาะจง | F37: เอกไดนาโม แอร์ | G37: 4150 | H37: เอกไดนาโม แอร์ | I37: 4150 | J37: เป็นผู้มีคุณสมบัติตรงตามเงื่อนไขที่กำหนด | K37: 119/2569 | L37: 06/02/2569
A38: 36 | B38: จ้างเหมาจัดทำป้ายบอกทางน้ำพุร้อนป่าตึง | C38: 8000 | D38: 8000 | E38: โดยวิธีเฉพาะเจาะจง | F38: ร้านแม่จันเจริญ ป้ายโฆษณา | G38: 8000 | H38: ร้านแม่จันเจริญ ป้ายโฆษณา | I38: 8000 | J38: เป็นผู้มีคุณสมบัติตรงตามเงื่อนไขที่กำหนด | K38: 121/2569 | L38: 06/02/2569
A39: 37 | B39: จ้างเหมาซ่อมแซมเครื่องปริ้นเตอร์ จำนวน ๑ เครื่อง | C39: 4200 | D39: 4200 | E39: โดยวิธีเฉพาะเจาะจง | F39: ห้างหุ้นส่วนจำกัด ธนาทรัพย์ศิลา | G39: 4200 | H39: ห้างหุ้นส่วนจำกัด ธนาทรัพย์ศิลา | I39: 4200 | J39: เป็นผู้มีคุณสมบัติตรงตามเงื่อนไขที่กำหนด | K39: 118/2569 | L39: 03/02/2569
... A44: 42 | B44: จ้างเหมาจัดทำอาหารกลางวันพร้อมน้ำดื่มโครงการเตรียมความพร้อมเพื่อจัดการปัญหาไฟ่ปาและหมอกควัน ครั้งที่ 2 | C44: 2400 | D44: 2400 | E44: โดยวิธีเฉพาะเจาะจง | F44: นางสาวชนม์นิภา สิงห์สา | G44: 2400 | H44: นางสาวชนม์นิภา สิงห์สา | I44: 2400 | J44: เป็นผู้มีอาชีพที่เสนอพัสดุตรงตามวัตถุประสงค์ในการใช้งาน | K44: 230/2569 | L44: 18/02/2569
I45: =SUM(I3:I44) -> 2395069

Sheet สรุปผล มีค
A1: สรุปผลการดำเนินการจัดซื้อจัดจ้างหรือการจัดหาพัสดุของหน่วยงานประจำเดือน ปีงบประมาณ พ.ศ.2569
A2: ชื่อหน่วยงาน องค์การบริหารส่วนตำบลป่าตึง
D3: ประจำเดือน มีนาคม 2569
C4: ลำดับ | D4: วิธีการจัดซื้อจัดจ้าง | E4: จำนวนโครงการ | F4: จำนวนงบประมาณ
C5: 1 | D5: วิธีเฉพาะเจาะจง | E5: 53 | F5: 1862165.6
C6: 2 | D6: วิธีคัดเลือก | E6: - | F6: -
C7: 3 | D7: วิธีประกวดราคาอิเล็คทรอนิกส์ (e-bidding) | E7: - | F7: -
C8: 4 | D8: อื่น ๆ | E8: - | F8: -
D9: รวม | E9: =SUM(E5:E8) -> 53 | F9: =SUM(F5:F8) -> 1862165.6
A11: ปัญหา/อุปสรรค
A17: ข้อเสนอแนะ

Sheet มีค69
A2: ลำดับที่ | B2: งานที่จัดซื้อจัดจ้าง | C2: วงเงินที่จะซื้อหรือจ้าง | D2: ราคากลาง | E2: วิธีจัดซื้อหรือจ้าง | F2: รายชื่อผู้เสนอราคา | G2: ราคาที่เสนอ | H2: ผู้ได้รับการคัดเลือก | I2: ราคาที่ตกลงซื้อหรือจ้าง | J2: เหตุผลที่คัดเลือกโดยสรุป | K2: เลขที่และวันที่ของสัญญาหรือข้อตกลงในการซื้อหรือจ้าง
A3: 1 | B3: ซื้อวัสดุงานบ้านงานครัว สำหรับโรงเรียนองค์การบริหารส่วนตำบลป่าตึง | C3: 50000 | D3: 50000 | E3: โดยวิธีเฉพาะเจาะจง | F3: บี เอส สินค้าราคาถูก แม่จัน | G3: 50000 | H3: บี เอส สินค้าราคาถูก แม่จัน | I3: 50000 | J3: เป็นผู้มีคุณสมบัติตรงตามเงื่อนไขที่กำหนด | K3: 106/2569 | L3: 244432
A4: 2 | B4: ซื้อครุภัณฑ์งานบ้านงานครัว จำนวน ๓ รายการ | C4: 27000 | D4: 27000 | E4: โดยวิธีเฉพาะเจาะจง | F4: หจก.คลังครัวเรือน ซัพพลาย | G4: 27000 | H4: หจก.คลังครัวเรือน ซัพพลาย | I4: 27000 | J4: เป็นผู้มีคุณสมบัติตรงตามเงื่อนไขที่กำหนด | K4: 105/2569 | L4: 244432
A5: 3 | B5: จ้างเหมาซ่อมบำรุงรักษารถจักรยานยนต์ส่วนกลางยี่ห้อฮอนด้า หมายเลขทะเบียน ๑กฒ ๙๒๔๕ เชียงราย และ รถจักรยานยนต์ส่วนกลาง ยี่ห้อฮอนด้าหมาย เลขทะเบียน ๑กฒ ๙๒๔๖เชียงราย | C5: 1070 | D5: 1070 | E5: โดยวิธีเฉพาะเจาะจง | F5: อู่ช่างมอส | G5: 1070 | H5: อู่ช่างมอส | I5: 1070 | J5: เป็นผู้มีคุณสมบัติตรงตามเงื่อนไขที่กำหนด | K5: 144/2569 | L5: 23/03/2569
A6: 4 | B6: จ้างเหมายานพาหนะพร้อมน้ำมันเชื้อเพลิง จำนวน ๒ คันตามโครงการส่งเสริมแนวทางเศรษฐกิจพอเพียง | C6: 55000 | D6: 55000 | E6: โดยวิธีเฉพาะเจาะจง | F6: นายสันติชาติ ศรีรัตน์ | G6: 55000 | H6: นายสันติชาติ ศรีรัตน์ | I6: 55000 | J6: เป็นผู้มีคุณสมบัติตรงตามเงื่อนไขที่กำหนด | K6: 143/2569 | L6: 20/03/2569
A7: 5 | B7: ซื้อวัสดุ ตามโครงการรณรงค์ เรื่อง การจัดการเศษพืชหลังการเก็บเกี่ยว เพื่อลดการเผา ลดฝุ่น PM.2.5 ด้วยวิธีการทำปุ๋ยหมักเพื่อใช้ปรับปรุงดิน | C7: 5500 | D7: 5500 | E7: โดยวิธีเฉพาะเจาะจง | F7: นายศิรวิทย์ โยเปี๊ยะ | G7: 5500 | H7: นายศิรวิทย์ โยเปี๊ยะ | I7: 5500 | J7: เป็นผู้มีคุณสมบัติตรงตามเงื่อนไขที่กำหนด | K7: 104/2569 | L7: 244428
A8: 6 | B8: จ้างเหมาซ่อมแซมรถยนต์ส่วนกลาง ยี่ห้อ โตโยต้า หมายเลขทะเบียน บพ ๘๓๑๘ เชียงราย | C8: 23732.6 | D8: 23732.6 | E8: โดยวิธีเฉพาะเจาะจง | F8: อู่ช่างอึ่ง | G8: 23732.6 | H8: อู่ช่างอึ่ง | I8: 23732.6 | J8: เป็นผู้มีคุณสมบัติตรงตามเงื่อนไขที่กำหนด | K8: 142/2569 | L8: 244427
A9: 7 | B9: เช่าเครื่องถ่ายเอกสาร ประจำปีงบประมาณ พ.ศ. ๒๕๖๙ (กองสาธารณสุขและสิ่งแวดล้อม) | C9: 21000 | D9: 21000 | E9: โดยวิธีเฉพาะเจาะจง | F9: บริษัทบุญยะการพิมพ์จำกัด | G9: 21000 | H9: บริษัทบุญยะการพิมพ์จำกัด | I9: 21000 | J9: เป็นผู้มีคุณสมบัติตรงตามเงื่อนไขที่กำหนด | K9: 007/2569 | L9: 244427
A10: 8 | B10: ซื้อระบบกล้องวงจรปิด พร้อมติดตั้ง บ้านใหม่เจริญ หมู่ที่ 18 ตำบลป่าตึง อำเภอแม่จัน จังหวัดเชียงราย | C10: 118300 | D10: 118300 | E10: โดยวิธีเฉพาะเจาะจง | F10: ห้างหุ้นส่วนจำกัด ธนาทรัพย์ศิลา | G10: 118300 | H10: ห้างหุ้นส่วนจำกัด ธนาทรัพย์ศิลา | I10: 118300 | J10: เป็นผู้มีคุณสมบัติตรงตามเงื่อนไขที่กำหนด | K10: 011/2569 | L10: 244427
A11: 9 | B11: จ้างเหมารถตู้โดยสาร พร้อมคนขับ จำนวน 4 คัน ตามโครงการป้องกันและแก้ไขปัญหายาเสพติด ประจำปี พ.ศ. 2569 | C11: 10000 | D11: 10000 | E11: โดยวิธีเฉพาะเจาะจง | F11: นายสันติชาติ ศรีรัตน์ | G11: 10000 | H11: นายสันติชาติ ศรีรัตน์ | I11: 10000 | J11: เป็นผู้มีคุณสมบัติตรงตามเงื่อนไขที่กำหนด | K11: 141/2569 | L11: 17/03/2569
A12: 10 | B12: จ้างเหมาซ่อมแซมเชิงชายอาคารสำนักงานองค์การบริหารส่วนตำบลป่าตึง อำเภอแม่จัน จังหวัดเชียงราย | C12: 16609 | D12: 16609 | E12: โดยวิธีเฉพาะเจาะจง | F12: นายคณภรณ์ จันสิงห์ | G12: 16609 | H12: นายคณภรณ์ จันสิงห์ | I12: 16609 | J12: เป็นผู้มีคุณสมบัติตรงตามเงื่อนไขที่กำหนด | K12: 140/2569 | L12: 17/03/2569
A13: 11 | B13: จ้างเหมาจัดทำตรายาง จำนวน ๑๓ อัน (กองคลัง) | C13: 3030 | D13: 3030 | E13: โดยวิธีเฉพาะเจาะจง | F13: ร้านเอกบล็อค | G13: 3030 | H13: ร้านเอกบล็อค | I13: 3030 | J13: เป็นผู้มีคุณสมบัติตรงตามเงื่อนไขที่กำหนด | K13: 139/2569 | L13: 16/03/2569
A14: 12 | B14: ซื้อวัสดุตามโครงการป้องกันและดูแลสุขภาพจากภัยฝุ่นละอองขนาดไม่เกิน 2.5 ไมครอน (PM2.5) ประจำปีงบประมาณ พ.ศ. 2569 | C14: 9750 | D14: 9750 | E14: โดยวิธีเฉพาะเจาะจง | F14: บริษัท ท็อป เมดิคอล จำกัด | G14: 9750 | H14: บริษัท ท็อป เมดิคอล จำกัด | I14: 9750 | J14: เป็นผู้มีคุณสมบัติตรงตามเงื่อนไขที่กำหนด | K14: 100/2569 | L14: 244419
A15: 13 | B15: ซื้อวัคซีนป้องกันโรคพิษสุนัขบ้าและวัสดุที่ใช้ในการฉีดวัคซีน จำนวน ๑ รายการ | C15: 94745 | D15: 94745 | E15: โดยวิธีเฉพาะเจาะจง | F15: แม่จันปศุสัตว์ | G15: 94745 | H15: แม่จันปศุสัตว์ | I15: 94745 | J15: เป็นผู้มีคุณสมบัติตรงตามเงื่อนไขที่กำหนด | K15: 099/2569 | L15: 244419
A16: 14 | B16: จ้างเหมาจัดทำเวทีพร้อมเครื่องเสียงตามโครงการเตรียมความพร้อมเพื่อจัดการปัญหาไฟป่าและหมอกควัน ประจำปี ๒๕๖๙ | C16: 8000 | D16: 8000 | E16: โดยวิธีเฉพาะเจาะจง | F16: นาย วิชัย มูลหอม | G16: 8000 | H16: นาย วิชัย มูลหอม | I16: 8000 | J16: เป็นผู้มีคุณสมบัติตรงตามเงื่อนไขที่กำหนด | K16: 138/2569 | L16: 244419
A17: 15 | B17: จ้างเหมาจัดทำป้ายโครงการ และป้ายรณรงค์ตามโครงการเตรียมความพร้อมเพื่อจัดการปัญหาไฟป่าและหมอกควัน ประจำปี ๒๕๖๙ | C17: 17820 | D17: 17820 | E17: โดยวิธีเฉพาะเจาะจง | F17: ร้านแม่จันเจริญ ป้ายโฆษณา | G17: 17820 | H17: ร้านแม่จันเจริญ ป้ายโฆษณา | I17: 17820 | J17: เป็นผู้มีคุณสมบัติตรงตามเงื่อนไขที่กำหนด | K17: 137/2569 | L17: 244419
A18: 16 | B18: ซื้อวัสดุงานบ้านงานครัว สำหรับศูนย์พัฒนาเด็กเล็กบ้านจะพือ | C18: 10000 | D18: 10000 | E18: โดยวิธีเฉพาะเจาะจง | F18: บี เอส สินค้าราคาถูก แม่จัน | G18: 10000 | H18: บี เอส สินค้าราคาถูก แม่จัน | I18: 10000 | J18: เป็นผู้มีคุณสมบัติตรงตามเงื่อนไขที่กำหนด | K18: 094/2569 | L18: 244418
A19: 17 | B19: ซื้อวัสดุงานบ้านงานครัว สำหรับศูนย์พัฒนาเด็กเล็กองค์การบริหารส่วนตำบลป่าตึง | C19: 20000 | D19: 20000 | E19: โดยวิธีเฉพาะเจาะจง | F19: บี เอส สินค้าราคาถูก แม่จัน | G19: 20000 | H19: บี เอส สินค้าราคาถูก แม่จัน | I19: 20000 | J19: เป็นผู้มีคุณสมบัติตรงตามเงื่อนไขที่กำหนด | K19: 098/2569 | L19: 244418
A20: 18 | B20: จ้างก่อสร้างถนนคอนกรีตเสริมเหล็ก บ้านเล่าฝู่ หมู่ที่ 20 (บ้านจะหยี) สายที่ 2 ตำบลป่าตึง อำเภอแม่จัน จังหวัดเชียงราย | C20: 55400 | D20: 54197.06 | E20: โดยวิธีเฉพาะเจาะจง | F20: ห้างหุ้นส่วนจำกัด เอสเอสเค คอนสตรัคชั่น แอนด์แมชชีน | G20: 54000 | H20: ห้างหุ้นส่วนจำกัด เอสเอสเค คอนสตรัคชั่น แอนด์แมชชีน | I20: 54000 | J20: เป็นผู้มีคุณสมบัติตรงตามเงื่อนไขที่กำหนด | K20: 061/2569 | L20: 244420
A21: 19 | B21: จ้างก่อสร้างถนนคอนกรีตเสริมเหล็ก บ้านสันโค้ง หมู่ที่ 10 (บ้านอาข่าใหม่) ตำบลป่าตึง อำเภอแม่จัน จังหวัดเชียงราย | C21: 100000 | D21: 100263.7 | E21: โดยวิธีเฉพาะเจาะจง | F21: ร้าน จ.รุ่งเรืองค้าวัสดุ | G21: 99800 | H21: ร้าน จ.รุ่งเรืองค้าวัสดุ | I21: 99800 | J21: เป็นผู้มีคุณสมบัติตรงตามเงื่อนไขที่กำหนด | K21: 062/2569 | L21: 244424
A22: 20 | B22: จ้างก่อสร้างไหล่ทางถนนคอนกรีตเสริมเหล็ก บ้านสันโค้ง หมู่ที่ 10 (บ้านห้วยน้ำริน) ตำบลป่าตึง อำเภอแม่จัน จังหวัดเชียงราย | C22: 100000 | D22: 100649.28 | E22: โดยวิธีเฉพาะเจาะจง | F22: ร้านสองวัสดุการค้า | G22: 99800 | H22: ร้านสองวัสดุการค้า | I22: 99800 | J22: เป็นผู้มีคุณสมบัติตรงตามเงื่อนไขที่กำหนด | K22: 063/2569 | L22: 244424
A23: 21 | B23: จ้างก่อสร้างถนนคอนกรีตเสริมเหล็ก บ้านห้วยก้างปลา หมู่ที่ 15 ตำบลป่าตึง อำเภอแม่จัน จังหวัดเชียงราย | C23: 140700 | D23: 142246.13 | E23: โดยวิธีเฉพาะเจาะจง | F23: ห้างหุ้นส่วนจำกัด ฉีหลิง คอนสตรัคชั่น | G23: 139800 | H23: ห้างหุ้นส่วนจำกัด ฉีหลิง คอนสตรัคชั่น | I23: 139800 | J23: เป็นผู้มีคุณสมบัติตรงตามเงื่อนไขที่กำหนด | K23: 057/2569 | L23: 244418
A24: 22 | B24: จ้างก่อสร้างถนนคอนกรีตเสริมเหล็ก บ้านห้วยก้างปลา หมู่ที่ 15 (บ้านป่าบงงามบน) ตำบลป่าตึง อำเภอแม่จัน จังหวัดเชียงราย | C24: 94200 | D24: 95506.25 | E24: โดยวิธีเฉพาะเจาะจง | F24: ร้าน จ.รุ่งเรืองค้าวัสดุ | G24: 93600 | H24: ร้าน จ.รุ่งเรืองค้าวัสดุ | I24: 93600 | J24: เป็นผู้มีคุณสมบัติตรงตามเงื่อนไขที่กำหนด | K24: 058/2569 | L24: 244418
A25: 23 | B25: จ้างก่อสร้างถนนคอนกรีตเสริมเหล็ก บ้านห้วยมะหินฝน หมู่ที่ 14 (ซอย 15) ตำบลป่าตึง อำเภอแม่จัน จังหวัดเชียงราย | C25: 62700 | D25: 62779.51 | E25: โดยวิธีเฉพาะเจาะจง | F25: ร้านสองวัสดุการค้า | G25: 61900 | H25: ร้านสองวัสดุการค้า | I25: 61900 | J25: เป็นผู้มีคุณสมบัติตรงตามเงื่อนไขที่กำหนด | K25: 059/2569 | L25: 244418
... A27: 25 | B27: จ้างเหมาสำรวจข้อมูลภาคสนามแปลงที่ดินที่ไม่มีเอกสารสิทธิ์ ตามโครงการปรับปรุงแผนที่ภาษีและทะเบียนทรัพย์สิน ประจำปีงบประมาณ ๒๕๖๙ | C27: 480000 | D27: 480000 | E27: โดยวิธีเฉพาะเจาะจง | F27: ห้างหุ้นส่วนจำกัด อัลฟา เทคโนโลยี ดีเวลลอปเปอร์ | G27: 480000 | H27: ห้างหุ้นส่วนจำกัด อัลฟา เทคโนโลยี ดีเวลลอปเปอร์ | I27: 480000 | J27: เป็นผู้มีคุณสมบัติตรงตามเงื่อนไขที่กำหนด | K27: 134/2569 | L27: 244412
A28: 26 | B28: ซื้อวัสดุงานบ้านงานครัว จำนวน ๕ รายการ (กองสาธารณสุขและสิ่งแวดล้อม) | C28: 13156 | D28: 13156 | E28: โดยวิธีเฉพาะเจาะจง | F28: จี.จี.ซัพพลาย | G28: 13156 | H28: จี.จี.ซัพพลาย | I28: 13156 | J28: เป็นผู้มีคุณสมบัติตรงตามเงื่อนไขที่กำหนด | K28: 107/2569 | L28: 27/03/2569
A29: 27 | B29: ซื้อวัสดุเครื่องแต่งกาย จำนวน ๓ รายการ (กองสาธารณสุขและสิ่งแวดล้อม) | C29: 13140 | D29: 13140 | E29: โดยวิธีเฉพาะเจาะจง | F29: จี.จี.ซัพพลาย | G29: 13140 | H29: จี.จี.ซัพพลาย | I29: 13140 | J29: เป็นผู้มีคุณสมบัติตรงตามเงื่อนไขที่กำหนด | K29: 108/2569 | L29: 27/03/2569
A30: 28 | B30: ซื้อวัสดุโฆษณาและเผยแพร่ จำนวน ๑ รายการ | C30: 41900 | D30: 41900 | E30: โดยวิธีเฉพาะเจาะจง | F30: ห้างหุ้นส่วนจำกัด ธนาทรัพย์ศิลา | G30: 41900 | H30: ห้างหุ้นส่วนจำกัด ธนาทรัพย์ศิลา | I30: 41900 | J30: เป็นผู้มีคุณสมบัติตรงตามเงื่อนไขที่กำหนด | K30: 109/2569 | L30: 27/03/2569
A31: 29 | B31: ซื้อวัสดุไฟฟ้า จำนวน ๘ รายการ | C31: 26890 | D31: 26890 | E31: โดยวิธีเฉพาะเจาะจง | F31: ห้างหุ้นส่วนจำกัด อุดมภัณฑ์ ฮาร์ดแวร์ | G31: 26890 | H31: ห้างหุ้นส่วนจำกัด อุดมภัณฑ์ ฮาร์ดแวร์ | I31: 26890 | J31: เป็นผู้มีคุณสมบัติตรงตามเงื่อนไขที่กำหนด | K31: 110/2569 | L31: 31/03/2569
A32: 30 | B32: ซื้อวัสดุตามโครงการปกป้องสถาบันสำคัญของชาติ ประจำปีงบประมาณ พ.ศ.๒๕๖๙ | C32: 4580 | D32: 4580 | E32: โดยวิธีเฉพาะเจาะจง | F32: หจก.ป่าตึงวัสดุก่อสร้าง | G32: 4580 | H32: หจก.ป่าตึงวัสดุก่อสร้าง | I32: 4580 | J32: เป็นผู้มีคุณสมบัติตรงตามเงื่อนไขที่กำหนด | K32: 111/2569 | L32: 31/03/2569
A33: 31 | B33: ซื้อวัสดุตามโครงการปกป้องสถาบันสำคัญของชาติ ประจำปีงบประมาณ พ.ศ.๒๕๖๙ | C33: 7265 | D33: 7265 | E33: โดยวิธีเฉพาะเจาะจง | F33: จี.จี.ซัพพลาย | G33: 7265 | H33: จี.จี.ซัพพลาย | I33: 7265 | J33: เป็นผู้มีคุณสมบัติตรงตามเงื่อนไขที่กำหนด | K33: 112/2569 | L33: 31/03/2569
A34: 32 | B34: จ้างเหมาซ่อมแซมกระเบื้องพื้นอาคารสำนักงานที่ทำการองค์การบริหารส่วนตำบลป่าตึง อำเภอแม่จัน จังหวัดเชียงราย | C34: 7785 | D34: 7785 | E34: โดยวิธีเฉพาะเจาะจง | F34: นายคณภรณ์ จันสิงห์ | G34: 7785 | H34: นายคณภรณ์ จันสิงห์ | I34: 7785 | J34: เป็นผู้มีคุณสมบัติตรงตามเงื่อนไขที่กำหนด | K34: 145/2569 | L34: 25/03/2569
A35: 33 | B35: จ้างเหมาะซ่อมแซมและบำรุงรักษารถยนต์ส่วนกลาง ยี่ห้ออีซูซุ เลขทะเบียน ๘๑-๘๖๖๙ เชียงราย | C35: 43656 | D35: 43656 | E35: โดยวิธีเฉพาะเจาะจง | F35: อู่ช่างอึ่ง | G35: 43656 | H35: อู่ช่างอึ่ง | I35: 43656 | J35: เป็นผู้มีคุณสมบัติตรงตามเงื่อนไขที่กำหนด | K35: 146/2569 | L35: 244435
A36: 34 | B36: จ้างตามโครงการปกป้องสถาบันสำคัญของชาติ ประจำปีงบประมาณ พ.ศ.๒๕๖๙ | C36: 5000 | D36: 5000 | E36: โดยวิธีเฉพาะเจาะจง | F36: นาย วิชัย มูลหอม | G36: 5000 | H36: นาย วิชัย มูลหอม | I36: 5000 | J36: เป็นผู้มีคุณสมบัติตรงตามเงื่อนไขที่กำหนด | K36: 147/2569 | L36: 244439
A37: 35 | B37: จ้างเหมาซ่อมแซมและบำรุงรักษารถยนต์ส่วนกลาง ยี่ห้อโตโยต้า หมายเลขทะเบียน ผฉ ๘๔๕๕ เชียงราย | C37: 12051.97 | D37: 12051.97 | E37: โดยวิธีเฉพาะเจาะจง | F37: บริษัท โตโยต้าเชียงราย จำกัด | G37: 12051.97 | H37: บริษัท โตโยต้าเชียงราย จำกัด | I37: 12051.97 | J37: เป็นผู้มีคุณสมบัติตรงตามเงื่อนไขที่กำหนด | K37: 148/2569 | L37: 244439
A38: 36 | B38: จ้างบุคลากร เพื่อปฏิบัติงานบริการต่างๆ (กองสาธารณสุขฯ) ตั้งแต่วันที่ 1 มี.ค. 69 - 31 มี.ค. 68 | C38: 63000 | D38: 63000 | E38: โดยวิธีเฉพาะเจาะจง | F38: นายฐนกร สุนทรชัยนุกุล | G38: 63000 | H38: นายฐนกร สุนทรชัยนุกุล | I38: 63000 | J38: เป็นผู้ทีอาชีพที่เสนอพัสดุตรงตามวัตถุประสงค์ในการใช้งาน | K38: 132/2569 | L38: 2/3/2569
A39: 37 | B39: จ้างบุคลากร เพื่อปฏิบัติงานบริการต่างๆ (กองคลัง) ตั้งแต่วันที่ 1 ม.ค. 69 - 30 เม.ย. 69 | C39: 9000 | D39: 9000 | E39: โดยวิธีเฉพาะเจาะจง | F39: นางสาวปฐมาวดี ซือสวัสดิ์พาณิชย์ | G39: 9000 | H39: นางสาวปฐมาวดี ซือสวัสดิ์พาณิชย์ | I39: 9000 | J39: เป็นผู้ทีอาชีพที่เสนอพัสดุตรงตามวัตถุประสงค์ในการใช้งาน | K39: 133/2569 | L39: 2/3/2569
A40: 38 | B40: จ้างเหมาจัดทำอาหารว่างพร้อมเครื่องดื่มและอาหารกลางวัน ประชุมสภา 27 ก.พ.69 | C40: 6200 | D40: 6200 | E40: โดยวิธีเฉพาะเจาะจง | F40: นางพัชรี อิกำเนิด | G40: 6200 | H40: นางพัชรี อิกำเนิด | I40: 6200 | J40: เป็นผู้ทีอาชีพที่เสนอพัสดุตรงตามวัตถุประสงค์ในการใช้งาน | K40: 267/2569 | L40: 5/3/2569
A41: 39 | B41: ค่าจ้างเหมาจัดทำอาหารกลางวันโครงการจัดการน้ำตามปรัชญาเศรษฐกิจพอเพียง กิจกรรมสร้างฝายชะลอน้ำ | C41: 3000 | D41: 3000 | E41: โดยวิธีเฉพาะเจาะจง | F41: นางวรรณดี กะมูลเพชร | G41: 3000 | H41: นางวรรณดี กะมูลเพชร | I41: 3000 | J41: เป็นผู้ทีอาชีพที่เสนอพัสดุตรงตามวัตถุประสงค์ในการใช้งาน | K41: 268/2569 | L41: 5/3/2569
A42: 40 | B42: จ้างเหมาจัดทำอาหารว่างพร้อมเครื่องดื่มและอาหารกลางวัน ประชุมสภา 6 มี.ค.69 | C42: 6200 | D42: 6200 | E42: โดยวิธีเฉพาะเจาะจง | F42: นางจันทร์ อุมา | G42: 6200 | H42: นางจันทร์ อุมา | I42: 6200 | J42: เป็นผู้ทีอาชีพที่เสนอพัสดุตรงตามวัตถุประสงค์ในการใช้งาน | K42: 270/2569 | L42: 6/3/2569
A43: 41 | B43: ค่าจัดทำข้าวกล่องพร้อมน้ำดื่มและอาหารว่างพร้อมเครื่องดื่ม รับเสด็จ 8 มี.ค.69 | C43: 6020 | D43: 6020 | E43: โดยวิธีเฉพาะเจาะจง | F43: นางสุมาลี ซึ่งกร่าง | G43: 6020 | H43: นางสุมาลี ซึ่งกร่าง | I43: 6020 | J43: เป็นผู้ทีอาชีพที่เสนอพัสดุตรงตามวัตถุประสงค์ในการใช้งาน | K43: 284/2569 | L43: 9/3/2569
A44: 42 | B44: จ้างเหมาจัดทำอาหารกลางวันพร้อมน้ำดื่มโครงการเตรียมความพร้อมเพื่อจัดการปัญหาไฟ่ปาและหมอกควัน ครั้งที่ 3 | C44: 4800 | D44: 4800 | E44: โดยวิธีเฉพาะเจาะจง | F44: นางตวงทอง ศรีตาล | G44: 4800 | H44: นางตวงทอง ศรีตาล | I44: 4800 | J44: เป็นผู้ทีอาชีพที่เสนอพัสดุตรงตามวัตถุประสงค์ในการใช้งาน | K44: 285/2569 | L44: 244419
A45: 43 | B45: ค่าจัดทำข้าวกล่องพร้อมน้ำดื่มและอาหารว่างพร้อมเครื่องดื่ม รับเสด็จ 11 มี.ค.69 | C45: 2100 | D45: 2100 | E45: โดยวิธีเฉพาะเจาะจง | F45: นางสุมาลี ซึ่งกร่าง | G45: 2100 | H45: นางสุมาลี ซึ่งกร่าง | I45: 2100 | J45: เป็นผู้ทีอาชีพที่เสนอพัสดุตรงตามวัตถุประสงค์ในการใช้งาน | K45: 295/2569 | L45: 244421
A46: 44 | B46: จ้างเหมาจัดทำอาหารกลางวันพร้อมน้ำดื่มโครงการเตรียมความพร้อมเพื่อจัดการปัญหาไฟ่ปาและหมอกควัน ครั้งที่ 4 | C46: 6000 | D46: 6000 | E46: โดยวิธีเฉพาะเจาะจง | F46: นางซือกุง เบ่ก่ากู่ | G46: 6000 | H46: นางซือกุง เบ่ก่ากู่ | I46: 6000 | J46: เป็นผู้ทีอาชีพที่เสนอพัสดุตรงตามวัตถุประสงค์ในการใช้งาน | K46: 297/2569 | L46: 244421
A47: 45 | B47: จ้างเหมาจัดทำอาหารกลางวันพร้อมน้ำดื่มโครงการเตรียมความพร้อมเพื่อจัดการปัญหาไฟ่ปาและหมอกควัน ครั้งที่ 5 | C47: 9000 | D47: 9000 | E47: โดยวิธีเฉพาะเจาะจง | F47: นายสุเทพ ดวงพรหมหาสกุล | G47: 9000 | H47: นายสุเทพ ดวงพรหมหาสกุล | I47: 9000 | J47: เป็นผู้ทีอาชีพที่เสนอพัสดุตรงตามวัตถุประสงค์ในการใช้งาน | K47: 301/2569 | L47: 244425
A48: 46 | B48: จ้างเหมาจัดทำอาหารกลางวันพร้อมน้ำดื่มโครงการเตรียมความพร้อมเพื่อจัดการปัญหาไฟ่ปาและหมอกควัน ครั้งที่ 6 | C48: 3600 | D48: 3600 | E48: โดยวิธีเฉพาะเจาะจง | F48: นางสาวทัศนีย์ โรจนทวีชัย | G48: 3600 | H48: นางสาวทัศนีย์ โรจนทวีชัย | I48: 3600 | J48: เป็นผู้ทีอาชีพที่เสนอพัสดุตรงตามวัตถุประสงค์ในการใช้งาน | K48: 302/2569 | L48: 244425
A49: 47 | B49: ค่าจัดซื้อพานพุ่มดอกไม้สดวันท้องถิ่นไทย | C49: 500 | D49: 500 | E49: โดยวิธีเฉพาะเจาะจง | F49: นางชญานันท์ ซางสุภาพ | G49: 500 | H49: นางชญานันท์ ซางสุภาพ | I49: 500 | J49: เป็นผู้ทีอาชีพที่เสนอพัสดุตรงตามวัตถุประสงค์ในการใช้งาน | K49: 307/2569 | L49: 244426
A50: 48 | B50: ค่าจ้างเหมาจัดทำป้ายไวนิลโครงการวันท้องถิ่นไทย ปี 2569 | C50: 360 | D50: 360 | E50: โดยวิธีเฉพาะเจาะจง | F50: แม่จันเจริญป้ายโฆษณา | G50: 360 | H50: แม่จันเจริญป้ายโฆษณา | I50: 360 | J50: เป็นผู้ทีอาชีพที่เสนอพัสดุตรงตามวัตถุประสงค์ในการใช้งาน | K50: 308/2569 | L50: 244426
A51: 49 | B51: ค่าจ้างเหมาจัดทำป้ายไวนิลโครงการป้องกันและแก้ไขปัญหายาเสพติด ประจำปี 2569 | C51: 360 | D51: 360 | E51: โดยวิธีเฉพาะเจาะจง | F51: แม่จันเจริญป้ายโฆษณา | G51: 360 | H51: แม่จันเจริญป้ายโฆษณา | I51: 360 | J51: เป็นผู้ทีอาชีพที่เสนอพัสดุตรงตามวัตถุประสงค์ในการใช้งาน | K51: 324/2569 | L51: 244431
A52: 50 | B52: ค่าจ้างเหมาจัดทำป้ายไวนิลโครงการส่งเสริมแนวทางเศรษฐกิจพิเพียง ดูงาน อกม. ปี 2569 | C52: 360 | D52: 360 | E52: โดยวิธีเฉพาะเจาะจง | F52: แม่จันเจริญป้ายโฆษณา | G52: 360 | H52: แม่จันเจริญป้ายโฆษณา | I52: 360 | J52: เป็นผู้ทีอาชีพที่เสนอพัสดุตรงตามวัตถุประสงค์ในการใช้งาน | K52: 326/2569 | L52: 244435
A53: 51 | B53: ค่าจ้างเหมาจัดทำป้ายไวนิลโครงการรณรงค์การจัดการเศษพืชหลังการเก็บเกี่ยวเพื่อลดการเผา ลด PM 2.5 | C53: 360 | D53: 360 | E53: โดยวิธีเฉพาะเจาะจง | F53: แม่จันเจริญป้ายโฆษณา | G53: 360 | H53: แม่จันเจริญป้ายโฆษณา | I53: 360 | J53: เป็นผู้ทีอาชีพที่เสนอพัสดุตรงตามวัตถุประสงค์ในการใช้งาน | K53: 327/2569 | L53: 244435
A54: 52 | B54: ค่าจ้างเหมาจัดทำอาหารกลางวันและอาหารว่างพร้อมเครื่องดื่มตามโครงการรณรงค์การจัดการเศษพืชหลังการเก็บเกี่ยว เพื่อลดการเผา ลด PM 2.5 | C54: 4200 | D54: 4200 | E54: โดยวิธีเฉพาะเจาะจง | F54: นางวันเพ็ญ ไข่กา | G54: 4200 | H54: นางวันเพ็ญ ไข่กา | I54: 4200 | J54: เป็นผู้ทีอาชีพที่เสนอพัสดุตรงตามวัตถุประสงค์ในการใช้งาน | K54: 328/2569 | L54: 244435
A55: 53 | B55: ค่าจ้างเหมาจัดทำอาหารว่างพร้อมเครื่งดื่มประชุมติดตามผลการดำเนินงาน ปีงบ 2569 กลุ่มวิสาหกิจชุมชนกาแฟต้นน้ำจัน | C55: 2625 | D55: 2625 | E55: โดยวิธีเฉพาะเจาะจง | F55: นางหนูเวียง สุฉายา | G55: 2625 | H55: นางหนูเวียง สุฉายา | I55: 2625 | J55: เป็นผู้ทีอาชีพที่เสนอพัสดุตรงตามวัตถุประสงค์ในการใช้งาน | K55: 343/2569 | L55: 244439
I56: =SUM(I3:I55) -> 1862165.6

Sheet สรุปผล เมย
A1: สรุปผลการดำเนินการจัดซื้อจัดจ้างหรือการจัดหาพัสดุของหน่วยงานประจำเดือน ปีงบประมาณ พ.ศ.2569
A2: ชื่อหน่วยงาน องค์การบริหารส่วนตำบลป่าตึง
D3: ประจำเดือน เมษายน 2569
C4: ลำดับ | D4: วิธีการจัดซื้อจัดจ้าง | E4: จำนวนโครงการ | F4: จำนวนงบประมาณ
C5: 1 | D5: วิธีเฉพาะเจาะจง | E5: 17 | F5: 863186.84
C6: 2 | D6: วิธีคัดเลือก | E6: - | F6: -
C7: 3 | D7: วิธีประกวดราคาอิเล็คทรอนิกส์ (e-bidding) | E7: - | F7: -
C8: 4 | D8: อื่น ๆ | E8: - | F8: -
D9: รวม | E9: =SUM(E5:E8) -> 17 | F9: =SUM(F5:F8) -> 863186.84
A11: ปัญหา/อุปสรรค
A17: ข้อเสนอแนะ

Sheet เมย69
A2: ลำดับที่ | B2: งานที่จัดซื้อจัดจ้าง | C2: วงเงินที่จะซื้อหรือจ้าง | D2: ราคากลาง | E2: วิธีจัดซื้อหรือจ้าง | F2: รายชื่อผู้เสนอราคา | G2: ราคาที่เสนอ | H2: ผู้ได้รับการคัดเลือก | I2: ราคาที่ตกลงซื้อหรือจ้าง | J2: เหตุผลที่คัดเลือกโดยสรุป | K2: เลขที่และวันที่ของสัญญาหรือข้อตกลงในการซื้อหรือจ้าง
A3: 1 | B3: จ้างก่อสร้างถนนคอนกรีตเสริมเหล็ก เส้นทางการเกษตรไปบ้านเซี่ยวยี่ บ้านห้วยต่าง หมู่ที่ 16 (จำนวน 2 ช่วง) | C3: 291600 | D3: 292127.51 | E3: โดยวิธีเฉพาะเจาะจง | F3: ห้างหุ้นส่วนจำกัด ไทยนุรัฐพัฒนก่อสร้าง | G3: 291600 | H3: ห้างหุ้นส่วนจำกัด ไทยนุรัฐพัฒนก่อสร้าง | I3: 291600 | J3: เป็นผู้มีคุณสมบัติตรงตามเงื่อนไขที่กำหนด | K3: 065/2569 | L3: 244446
A4: 2 | B4: จ้างก่อสร้างไหล่ทางคอนกรีตเสริมเหล็ก บ้านใหม่เจริญ หมู่ที่ 18 (ซอย 1) จำนวน 7 ช่วง | C4: 68300 | D4: 65335.72 | E4: โดยวิธีเฉพาะเจาะจง | F4: ร้าน จ.รุ่งเรืองค้าวัสดุ | G4: 65000 | H4: ร้าน จ.รุ่งเรืองค้าวัสดุ | I4: 65000 | J4: เป็นผู้มีคุณสมบัติตรงตามเงื่อนไขที่กำหนด | K4: 067/2569 | L4: 244446
A5: 3 | B5: จ้างก่อสร้างถนนคอนกรีตเสริมเหล็ก บ้านเล่าฝู่ หมู่ที่ 20 (สายที่ 1) | C5: 305100 | D5: 305714.84 | E5: โดยวิธีเฉพาะเจาะจง | F5: ห้างหุ้นส่วนจำกัด เอสเอสเค คอนสตรัคชั่น แอนด์ แมชชีน | G5: 304900 | H5: ห้างหุ้นส่วนจำกัด เอสเอสเค คอนสตรัคชั่น แอนด์ แมชชีน | I5: 304900 | J5: เป็นผู้มีคุณสมบัติตรงตามเงื่อนไขที่กำหนด | K5: 069/2569 | L5: 244461
A6: 4 | B6: จ้างก่อสร้างถนนคอนกรีตเสริมเหล็ก บ้านเล่าฝู่ หมู่ที่ 20 (สายที่ 2) | C6: 56300 | D6: 56392.02 | E6: โดยวิธีเฉพาะเจาะจง | F6: ห้างหุ้นส่วนจำกัด เอสเอสเค คอนสตรัคชั่น แอนด์ แมชชีน | G6: 56200 | H6: ห้างหุ้นส่วนจำกัด เอสเอสเค คอนสตรัคชั่น แอนด์ แมชชีน | I6: 56200 | J6: เป็นผู้มีคุณสมบัติตรงตามเงื่อนไขที่กำหนด | K6: 070/2569 | L6: 244461
A7: 5 | B7: ซื้อวัสดุงานบ้านงานครัว จำนวน 2 รายการ (สำนักปลัด) | C7: 9998 | D7: 9998 | E7: โดยวิธีเฉพาะเจาะจง | F7: จี.จี.ซัพพลาย | G7: 9998 | H7: จี.จี.ซัพพลาย | I7: 9998 | J7: เป็นผู้มีคุณสมบัติตรงตามเงื่อนไขที่กำหนด | K7: 113/2569 | L7: 244447
A8: 6 | B8: ซื้อวัสดุไฟฟ้าและวิทยุ จำนวน 6 รายการ | C8: 2734 | D8: 2734 | E8: โดยวิธีเฉพาะเจาะจง | F8: ห้างหุ้นส่วนจำกัด อุดมภัณฑ์ ฮา ร์ดแวร์ | G8: 2734 | H8: ห้างหุ้นส่วนจำกัด อุดมภัณฑ์ ฮา ร์ดแวร์ | I8: 2734 | J8: เป็นผู้มีคุณสมบัติตรงตามเงื่อนไขที่กำหนด | K8: 114/2569 | L8: 244455
A9: 7 | B9: ซื้อวัสดุวิทยาศาสตร์หรือการแพทย์ จำนวน 9 รายการ | C9: 54000 | D9: 54000 | E9: โดยวิธีเฉพาะเจาะจง | F9: บริษัท ท็อป เมดิคอล จำกัด | G9: 54000 | H9: บริษัท ท็อป เมดิคอล จำกัด | I9: 54000 | J9: เป็นผู้มีคุณสมบัติตรงตามเงื่อนไขที่กำหนด | K9: 115/2569 | L9: 244460
A10: 8 | B10: ซื้อวัสดุสำนักงาน จำนวน 8 รายการ (กองสาธารณสุขและสิ่งแวดล้อม) | C10: 10565 | D10: 10565 | E10: โดยวิธีเฉพาะเจาะจง | F10: จี.จี.ซัพพลาย | G10: 10565 | H10: จี.จี.ซัพพลาย | I10: 10565 | J10: เป็นผู้มีคุณสมบัติตรงตามเงื่อนไขที่กำหนด | K10: 116/2569 | L10: 244469
A11: 9 | B11: ซื้อวัสดุยานพาหนะและขนส่ง(ยางรถยนต์)พร้อมเปลี่ยน รถบรรทุกขยะ เลขทะเบียน ผฉ 8455 เชียงราย | C11: 12354.99 | D11: 12354.99 | E11: โดยวิธีเฉพาะเจาะจง | F11: บริษัท โตโยต้าเชียงราย จำกัด | G11: 12354.99 | H11: บริษัท โตโยต้าเชียงราย จำกัด | I11: 12354.99 | J11: เป็นผู้มีคุณสมบัติตรงตามเงื่อนไขที่กำหนด | K11: 117/2569 | L11: 244469
A12: 10 | B12: จ้างเหมาจัดทำธงผ้าแดงพร้อมติดตั้ง จำนวน 100 ชุด และจ้างเหมาจัดป้ายโครงการชนิดไวนิล จำนวน 1 ป้าย ตามโครงการรณรงค์และลดอุบัติเหตุทางถนนช่วงเทศกาล (เทศกาลสงกรานต์ ปี 2569) | C12: 11600 | D12: 11600 | E12: โดยวิธีเฉพาะเจาะจง | F12: รุ่งเรืองปริ้น 99 | G12: 11600 | H12: รุ่งเรืองปริ้น 99 | I12: 11600 | J12: เป็นผู้มีคุณสมบัติตรงตามเงื่อนไขที่กำหนด | K12: 160/2569 | L12: 244446
A13: 11 | B13: จ้างเหมาจัดทำตรายาง จำนวน 22 อัน | C13: 6360 | D13: 6360 | E13: โดยวิธีเฉพาะเจาะจง | F13: ร้านเอกบล็อค | G13: 6360 | H13: ร้านเอกบล็อค | I13: 6360 | J13: เป็นผู้มีคุณสมบัติตรงตามเงื่อนไขที่กำหนด | K13: 161/2569 | L13: 244447
A14: 12 | B14: จ้างเหมาซ่อมแซมครุภัณฑ์คอมพิวเตอร์ สำหรับกองการศึกษา ศาสนาและวัฒนธรรม | C14: 600 | D14: 600 | E14: โดยวิธีเฉพาะเจาะจง | F14: ห้างหุ้นส่วนจำกัด ธนาทรัพย์ศิลา | G14: 600 | H14: ห้างหุ้นส่วนจำกัด ธนาทรัพย์ศิลา | I14: 600 | J14: เป็นผู้มีคุณสมบัติตรงตามเงื่อนไขที่กำหนด | K14: 162/2569 | L14: 244448
... A19: 17 | B19: จ้างเหมาซ่อมแซมและบำรุงรักษารถยนต์ส่วนกลาง ยี่ห้อโตโยต้า หมายเลขทะเบียน ผฉ 8455 เชียงราย | C19: 6799.85 | D19: 6799.85 | E19: โดยวิธีเฉพาะเจาะจง | F19: บริษัท โตโยต้าเชียงราย จำกัด | G19: 6799.85 | H19: บริษัท โตโยต้าเชียงราย จำกัด | I19: 6799.85 | J19: เป็นผู้มีคุณสมบัติตรงตามเงื่อนไขที่กำหนด | K19: 167/2569 | L19: 244469

Sheet สรุปผล พค
A1: สรุปผลการดำเนินการจัดซื้อจัดจ้างหรือการจัดหาพัสดุของหน่วยงานประจำเดือน ปีงบประมาณ พ.ศ.2569
A2: ชื่อหน่วยงาน องค์การบริหารส่วนตำบลป่าตึง
D3: ประจำเดือน พฤษภาคม 2569
C4: ลำดับ | D4: วิธีการจัดซื้อจัดจ้าง | E4: จำนวนโครงการ | F4: จำนวนงบประมาณ
C5: 1 | D5: วิธีเฉพาะเจาะจง | E5: 34 | F5: 3237690.1
C6: 2 | D6: วิธีคัดเลือก | E6: - | F6: -
C7: 3 | D7: วิธีประกวดราคาอิเล็คทรอนิกส์ (e-bidding) | E7: - | F7: -
C8: 4 | D8: อื่น ๆ | E8: - | F8: -
D9: รวม | E9: =SUM(E5:E8) -> 34 | F9: =SUM(F5:F8) -> 3237690.1
A11: ปัญหา/อุปสรรค
A17: ข้อเสนอแนะ

Sheet พค69
A2: ลำดับที่ | B2: งานที่จัดซื้อจัดจ้าง | C2: วงเงินที่จะซื้อหรือจ้าง | D2: ราคากลาง | E2: วิธีจัดซื้อหรือจ้าง | F2: รายชื่อผู้เสนอราคา | G2: ราคาที่เสนอ | H2: ผู้ได้รับการคัดเลือก | I2: ราคาที่ตกลงซื้อหรือจ้าง | J2: เหตุผลที่คัดเลือกโดยสรุป | K2: เลขที่และวันที่ของสัญญาหรือข้อตกลงในการซื้อหรือจ้าง
A3: 1 | B3: จ้างรถรับ - ส่ง นักเรียนโรงเรียนองค์การบริหารส่วนตำบลป่าตึง ประจำภาคเรียนที่ 1/2569 ตั้งแต่วันที่ 18 พฤษภาคม 2569 ถึงวันที่ 9 ตุลาคม 2569 | C3: 426195 | D3: 426195 | E3: โดยวิธีเฉพาะเจาะจง | F3: นางเกษร ภิระบรรณ์ | G3: 425626.74 | H3: นางเกษร ภิระบรรณ์ | I3: 425626.74 | J3: เป็นผู้มีคุณสมบัติตรงตามเงื่อนไขที่กำหนด | K3: 002/2569 | L3: 244484
A4: 2 | B4: ซื้ออากาศยานไร้คนขับ (Drone) พร้อมอุปกรณ์ จำนวน 1 เครื่อง | C4: 198000 | D4: 198000 | E4: โดยวิธีเฉพาะเจาะจง | F4: ห้างหุ้นส่วนจำกัด ธนาทรัพย์ศิลา | G4: 198000 | H4: ห้างหุ้นส่วนจำกัด ธนาทรัพย์ศิลา | I4: 198000 | J4: เป็นผู้มีคุณสมบัติตรงตามเงื่อนไขที่กำหนด | K4: 012/2569 | L4: 244497
A5: 3 | B5: ซื้อครุภัณฑ์คอมพิวเตอร์หรืออิเล็กทรอนิกส์ จำนวน 5 รายการ | C5: 127000 | D5: 127000 | E5: โดยวิธีเฉพาะเจาะจง | F5: ห้างหุ้นส่วนจำกัด ธนาทรัพย์ศิลา | G5: 125780 | H5: ห้างหุ้นส่วนจำกัด ธนาทรัพย์ศิลา | I5: 125780 | J5: เป็นผู้มีคุณสมบัติตรงตามเงื่อนไขที่กำหนด | K5: 013/2569 | L5: 244497
A6: 4 | B6: จ้างปรับปรุงถนนคอนกรีตเสริมเหล็ก บ้านสันโค้ง หมู่ที่ 10 | C6: 4331.92 | D6: 4331.92 | E6: โดยวิธีเฉพาะเจาะจง | F6: ร้านสองวัสดุการค้า | G6: 4300 | H6: ร้านสองวัสดุการค้า | I6: 4300 | J6: เป็นผู้มีคุณสมบัติตรงตามเงื่อนไขที่กำหนด | K6: 071/2569 | L6: 244476
A7: 5 | B7: จ้างก่อสร้างถนนคอนกรีตเสริมเหล็ก บ้านปางสา หมู่ที่ 17 (บ้านจะดะ) | C7: 113900 | D7: 114187.61 | E7: โดยวิธีเฉพาะเจาะจง | F7: ห้างหุ้นส่วนจำกัด เอสเอสเค คอนสตรัคชั่น แอนด์ แมชชีน | G7: 113800 | H7: ห้างหุ้นส่วนจำกัด เอสเอสเค คอนสตรัคชั่น แอนด์ แมชชีน | I7: 113800 | J7: เป็นผู้มีคุณสมบัติตรงตามเงื่อนไขที่กำหนด | K7: 072/2569 | L7: 244477
A8: 6 | B8: จ้างก่อสร้างถนนคอนกรีตเสริมเหล็ก บ้านปางสา หมู่ที่ 17 | C8: 184400 | D8: 185145.63 | E8: โดยวิธีเฉพาะเจาะจง | F8: ห้างหุ้นส่วนจำกัด เอสเอสเค คอนสตรัคชั่น แอนด์ แมชชีน | G8: 184200 | H8: ห้างหุ้นส่วนจำกัด เอสเอสเค คอนสตรัคชั่น แอนด์ แมชชีน | I8: 184200 | J8: เป็นผู้มีคุณสมบัติตรงตามเงื่อนไขที่กำหนด | K8: 073/2569 | L8: 244477
A9: 7 | B9: จ้างก่อสร้างถนนคอนกรีตเสริมเหล็ก บ้านป่าเมี้ยง หมู่ที่ 9 | C9: 62000 | D9: 62072.97 | E9: โดยวิธีเฉพาะเจาะจง | F9: ร้าน จ.รุ่งเรืองค้าวัสดุ | G9: 61900 | H9: ร้าน จ.รุ่งเรืองค้าวัสดุ | I9: 61900 | J9: เป็นผู้มีคุณสมบัติตรงตามเงื่อนไขที่กำหนด | K9: 074/2569 | L9: 244480
A10: 8 | B10: จ้างก่อสร้างถนนคอนกรีตเสริมเหล็ก ต่อจากถนนคอนกรีตเสริมเหล็กเดิม บ้านป่าตึง หมู่ที่ 7 (บ้านน้ำตกตาดทอง) จำนวน 3 จุด | C10: 490500 | D10: 515511.24 | E10: โดยวิธีเฉพาะเจาะจง | F10: ห้างหุ้นส่วนจำกัด ฉีหลิง คอนสตรัคชั่น | G10: 489800 | H10: ห้างหุ้นส่วนจำกัด ฉีหลิง คอนสตรัคชั่น | I10: 489800 | J10: เป็นผู้มีคุณสมบัติตรงตามเงื่อนไขที่กำหนด | K10: 075/2569 | L10: 244480
A11: 9 | B11: จ้างก่อสร้างถนนคอนกรีตเสริมเหล็ก บ้านห้วยก้างปลา หมู่ที่ 15 (บ้านห้วยยาโนบน) | C11: 191200 | D11: 193435.51 | E11: โดยวิธีเฉพาะเจาะจง | F11: ห้างหุ้นส่วนจำกัด ฉีหลิง คอนสตรัคชั่น | G11: 190900 | H11: ห้างหุ้นส่วนจำกัด ฉีหลิง คอนสตรัคชั่น | I11: 190900 | J11: เป็นผู้มีคุณสมบัติตรงตามเงื่อนไขที่กำหนด | K11: 076/2569 | L11: 244480
A12: 10 | B12: จ้างปรับปรุงถนนลูกรัง โดยใช้หินคลุกถมพร้อมปรับเกลี่ย บ้านห้วยมะหินฝน หมู่ที่ 14 (จำนวน 3 ช่วง) | C12: 24100 | D12: 23868.27 | E12: โดยวิธีเฉพาะเจาะจง | F12: ร้านสองวัสดุการค้า | G12: 23600 | H12: ร้านสองวัสดุการค้า | I12: 23600 | J12: เป็นผู้มีคุณสมบัติตรงตามเงื่อนไขที่กำหนด | K12: 077/2569 | L12: 244481
A13: 11 | B13: จ้างก่อสร้างผนังกั้นน้ำคอนกรีตเสริมเหล็ก บ้านป่าเมี้ยง หมู่ที่ 9 | C13: 49900 | D13: 49901.7 | E13: โดยวิธีเฉพาะเจาะจง | F13: ร้านสองวัสดุการค้า | G13: 49500 | H13: ร้านสองวัสดุการค้า | I13: 49500 | J13: เป็นผู้มีคุณสมบัติตรงตามเงื่อนไขที่กำหนด | K13: 078/2569 | L13: 244481
A14: 12 | B14: จ้างก่อสร้างถนนคอนกรีตเสริมเหล็ก บ้านสันโค้ง หมู่ที่ 10 (บ้านลั๊วะสันเจริญ) | C14: 100000 | D14: 101848.39 | E14: โดยวิธีเฉพาะเจาะจง | F14: ร้านสองวัสดุการค้า | G14: 99600 | H14: ร้านสองวัสดุการค้า | I14: 99600 | J14: เป็นผู้มีคุณสมบัติตรงตามเงื่อนไขที่กำหนด | K14: 079/2569 | L14: 244481
... A36: 34 | B36: จ้างเหมาซ่อมแซมและบำรุงรักษาระบบกล้องวงจรปิด CCTV บริเวณน้ำพุร้อนป่าตึง | C36: 1400 | D36: 1400 | E36: โดยวิธีเฉพาะเจาะจง | F36: ห้างหุ้นส่วนจำกัด ธนาทรัพย์ศิลา | G36: 1400 | H36: ห้างหุ้นส่วนจำกัด ธนาทรัพย์ศิลา | I36: 1400 | J36: เป็นผู้มีคุณสมบัติตรงตามเงื่อนไขที่กำหนด | K36: 176/2569 | L36: 244496
I37: =SUM(I3:I36) -> 3237690.1

Sheet สรุปผล มิย
A1: สรุปผลการดำเนินการจัดซื้อจัดจ้างหรือการจัดหาพัสดุของหน่วยงานประจำเดือน ปีงบประมาณ พ.ศ.2569
A2: ชื่อหน่วยงาน องค์การบริหารส่วนตำบลป่าตึง
D3: ประจำเดือน มิถุนายน 2569
C4: ลำดับ | D4: วิธีการจัดซื้อจัดจ้าง | E4: จำนวนโครงการ | F4: จำนวนงบประมาณ
C5: 1 | D5: วิธีเฉพาะเจาะจง | E5: 32 | F5: =F9-F7 -> 899276.05
C6: 2 | D6: วิธีคัดเลือก | E6: - | F6: -
C7: 3 | D7: วิธีประกวดราคาอิเล็คทรอนิกส์ (e-bidding) | E7: 1 | F7: 429900
C8: 4 | D8: อื่น ๆ | E8: - | F8: -
D9: รวม | E9: =SUM(E5:E8) -> 33 | F9: 1329176
A11: ปัญหา/อุปสรรค
A17: ข้อเสนอแนะ

Sheet มิย69
A2: ลำดับที่ | B2: งานที่จัดซื้อจัดจ้าง | C2: วงเงินที่จะซื้อหรือจ้าง | D2: ราคากลาง | E2: วิธีจัดซื้อหรือจ้าง | F2: รายชื่อผู้เสนอราคา | G2: ราคาที่เสนอ | H2: ผู้ได้รับการคัดเลือก | I2: ราคาที่ตกลงซื้อหรือจ้าง | J2: เหตุผลที่คัดเลือกโดยสรุป | K2: เลขที่และวันที่ของสัญญาหรือข้อตกลงในการซื้อหรือจ้าง
A3: 1 | B3: จ้างก่อสร้างโครงการปรับปรุงถนน บ้านแม่เฟือง หมู่ที่ 5 | C3: 600000 | D3: 608126.31 | E3: ด้วยวิธีประกวดราคาอิเล็กทรอนิกส์ (e-bidding) | F3: 1.ห้างหุ้นส่วนจำกัด ศาสตร์แย้ม 2.ห้างหุ้นส่วนจำกัด ก้องภพ การโยธา | G3: 1.430,000.00 2.585,789.00 | H3: ห้างหุ้นส่วนจำกัด ศาสตร์แย้ม | I3: 429900 | J3: เป็นผู้มีคุณสมบัติและข้อเสนอทางเทคนิค ถูกต้องครบถ้วนและเป็นผู้เสนอราคา ต่ำ สุด | K3: 085/2569 | L3: 244511
A4: 2 | B4: จ้างก่อสร้างถนนคอนกรีตเสริมเหล็ก เลียบลำน้ำจัน บ้านป่าตึง หมู่ที่ 8 | C4: 321500 | D4: 322773.31 | E4: โดยวิธีเฉพาะเจาะจง | F4: ห้างหุ้นส่วนจำกัด ชิง ไห่ ดีเวลลอปเมนท์ | G4: 321000 | H4: ห้างหุ้นส่วนจำกัด ชิง ไห่ ดีเวลลอปเมนท์ | I4: 321000 | J4: เป็นผู้มีคุณสมบัติตรงตามเงื่อนไขที่กำหนด | K4: 086/2569 | L4: 244525
A5: 3 | B5: ซื้อวัสดุจราจร จำนวน ๑ รายการ | C5: 39900 | D5: 39900 | E5: โดยวิธีเฉพาะเจาะจง | F5: มังกรน้อย | G5: 39900 | H5: มังกรน้อย | I5: 39900 | J5: เป็นผู้มีคุณสมบัติตรงตามเงื่อนไขที่กำหนด | K5: 128/2569 | L5: 244504
A6: 4 | B6: ซื้อวัสดุเพื่อขุดเจาะบ่อบาดาล บ้านถ้ำ หมู่ที่ 4 | C6: 87310 | D6: 87310 | E6: โดยวิธีเฉพาะเจาะจง | F6: ห้างหุ้นส่วนจำกัด ลัญญาภรณ์การบาดาล | G6: 87310 | H6: ห้างหุ้นส่วนจำกัด ลัญญาภรณ์การบาดาล | I6: 87310 | J6: เป็นผู้มีคุณสมบัติตรงตามเงื่อนไขที่กำหนด | K6: 129/2569 | L6: 244508
A7: 5 | B7: ซื้ออาหารเสริม(นม) สำหรับศูนย์พัฒนาเด็กเล็กบ้านห้วยมะหินฝน ตั้งแต่วันที่ 18 พฤษภาคม 2569 - 30 มิถุนายน พ.ศ.2569 | C7: 3298.56 | D7: 3298.56 | E7: โดยวิธีเฉพาะเจาะจง | F7: บริษัท เชียงใหม่เฟรชมิลค์ จำกัด | G7: 3298.56 | H7: บริษัท เชียงใหม่เฟรชมิลค์ จำกัด | I7: 3298.56 | J7: เป็นผู้มีคุณสมบัติตรงตามเงื่อนไขที่กำหนด | K7: 142/2569 | L7: 244510
A8: 6 | B8: ซื้ออาหารเสริม(นม) สำหรับศูนย์พัฒนาเด็กเล็กบ้านสันติสุข ตั้งแต่วันที่ 18 พฤษภาคม 2569 - 30 มิถุนายน พ.ศ.2569 | C8: 4123.2 | D8: 4123.2 | E8: โดยวิธีเฉพาะเจาะจง | F8: บริษัท เชียงใหม่เฟรชมิลค์ จำกัด | G8: 4123.2 | H8: บริษัท เชียงใหม่เฟรชมิลค์ จำกัด | I8: 4123.2 | J8: เป็นผู้มีคุณสมบัติตรงตามเงื่อนไขที่กำหนด | K8: 143/2569 | L8: 244510
A9: 7 | B9: ซื้ออาหารเสริม(นม) สำหรับศูนย์พัฒนาเด็กเล็กบ้านจะพือ ตั้งแต่วันที่ 18 พฤษภาคม 2569 - 30 มิถุนายน พ.ศ.2569 | C9: 8796.16 | D9: 8796.16 | E9: โดยวิธีเฉพาะเจาะจง | F9: บริษัท เชียงใหม่เฟรชมิลค์ จำกัด | G9: 8796.16 | H9: บริษัท เชียงใหม่เฟรชมิลค์ จำกัด | I9: 8796.16 | J9: เป็นผู้มีคุณสมบัติตรงตามเงื่อนไขที่กำหนด | K9: 144/2569 | L9: 244510
A10: 8 | B10: ซื้อวัสดุไฟฟ้าและวิทยุ จำนวน 4 รายการ | C10: 46640 | D10: 46640 | E10: โดยวิธีเฉพาะเจาะจง | F10: ห้างหุ้นส่วนจำกัด ธนาทรัพย์ศิลา | G10: 46640 | H10: ห้างหุ้นส่วนจำกัด ธนาทรัพย์ศิลา | I10: 46640 | J10: เป็นผู้มีคุณสมบัติตรงตามเงื่อนไขที่กำหนด | K10: 146/2569 | L10: 244516
A11: 9 | B11: ซื้อครุภัณฑ์สำนักงาน จำนวน 2 รายการ | C11: 16920 | D11: 16920 | E11: โดยวิธีเฉพาะเจาะจง | F11: มิตรใหม่ | G11: 16920 | H11: มิตรใหม่ | I11: 16920 | J11: เป็นผู้มีคุณสมบัติตรงตามเงื่อนไขที่กำหนด | K11: 147/2569 | L11: 244516
A12: 10 | B12: ซื้อวัสดุเครื่องแต่งกาย (เสื้อชูชีพ) จำนวน 1 รายการ | C12: 6400 | D12: 6400 | E12: โดยวิธีเฉพาะเจาะจง | F12: แบล็คอีเกิ้ล | G12: 6400 | H12: แบล็คอีเกิ้ล | I12: 6400 | J12: เป็นผู้มีคุณสมบัติตรงตามเงื่อนไขที่กำหนด | K12: 148/2569 | L12: 244517
A13: 11 | B13: ซื้อวัสดุสำนักงาน จำนวน 22 รายการ | C13: 77105 | D13: 77105 | E13: โดยวิธีเฉพาะเจาะจง | F13: จี.จี.ซัพพลาย | G13: 77105 | H13: จี.จี.ซัพพลาย | I13: 77105 | J13: เป็นผู้มีคุณสมบัติตรงตามเงื่อนไขที่กำหนด | K13: 149/2569 | L13: 244517
A14: 12 | B14: ซื้อวัสดุงานบ้านงานครัว จำนวน 1 รายการ | C14: 6600 | D14: 6600 | E14: โดยวิธีเฉพาะเจาะจง | F14: จี.จี.ซัพพลาย | G14: 6600 | H14: จี.จี.ซัพพลาย | I14: 6600 | J14: เป็นผู้มีคุณสมบัติตรงตามเงื่อนไขที่กำหนด | K14: 150/2569 | L14: 244519
A15: 13 | B15: ซื้อวัสดุก่อสร้าง จำนวน 8 รายการ | C15: 4125 | D15: 4125 | E15: โดยวิธีเฉพาะเจาะจง | F15: หจก.ป่าตึงวัสดุก่อสร้าง | G15: 4125 | H15: หจก.ป่าตึงวัสดุก่อสร้าง | I15: 4125 | J15: เป็นผู้มีคุณสมบัติตรงตามเงื่อนไขที่กำหนด | K15: 151/2569 | L15: 244519
... A35: 33 | B35: จ้างเหมาซ่อมแซมและบำรุงรักษาครุภัณฑ์รถยนต์ส่วนกลาง ยี่ห้อมาสด้า หมายเลขทะเบียน กจ1386 เชียงราย | C35: 1170 | D35: 1170 | E35: โดยวิธีเฉพาะเจาะจง | F35: ช.การช่าง | G35: 1170 | H35: ช.การช่าง | I35: 1170 | J35: เป็นผู้มีคุณสมบัติตรงตามเงื่อนไขที่กำหนด | K35: 191/2569 | L35: 244524
I36: =SUM(I3:I35) -> 1329176

Sheet สรุปผล กค
A1: สรุปผลการดำเนินการจัดซื้อจัดจ้างหรือการจัดหาพัสดุของหน่วยงานประจำเดือน ปีงบประมาณ พ.ศ.2569
A2: ชื่อหน่วยงาน องค์การบริหารส่วนตำบลป่าตึง
D3: ประจำเดือน กรกฎาคม 2569
C4: ลำดับ | D4: วิธีการจัดซื้อจัดจ้าง | E4: จำนวนโครงการ | F4: จำนวนงบประมาณ
C5: 1 | D5: วิธีเฉพาะเจาะจง | E5: 45 | F5: =กค69!I49 -> 2573703.5
C6: 2 | D6: วิธีคัดเลือก | E6: - | F6: -
C7: 3 | D7: วิธีประกวดราคาอิเล็คทรอนิกส์ (e-bidding) | E7: 1 | F7: 630000
C8: 4 | D8: อื่น ๆ | E8: - | F8: -
D9: รวม | E9: =SUM(E5:E8) -> 46 | F9: =F5-F7 -> 1943703.5
A11: ปัญหา/อุปสรรค
A17: ข้อเสนอแนะ

Sheet กค69
A2: ลำดับที่ | B2: งานที่จัดซื้อจัดจ้าง | C2: วงเงินที่จะซื้อหรือจ้าง | D2: ราคากลาง | E2: วิธีจัดซื้อหรือจ้าง | F2: รายชื่อผู้เสนอราคา | G2: ราคาที่เสนอ | H2: ผู้ได้รับการคัดเลือก | I2: ราคาที่ตกลงซื้อหรือจ้าง | J2: เหตุผลที่คัดเลือกโดยสรุป | K2: เลขที่และวันที่ของสัญญาหรือข้อตกลงในการซื้อหรือจ้าง
A3: 1 | B3: ซื้อโคมไฟฟ้าส่องสว่างสาธารณะพลังงานแสงอาทิตย์ พร้อมติดตั้ง สายทาง 1089 บ้านถ้ำ หมู่ที่ 4 | C3: 25500 | D3: 25500 | E3: โดยวิธีเฉพาะเจาะจง | F3: ห้างหุ้นส่วนจำกัด โซล่าร์เซลล์ เชียงราย | G3: 25500 | H3: ห้างหุ้นส่วนจำกัด โซล่าร์เซลล์ เชียงราย | I3: 25500 | J3: เป็นผู้มีคุณสมบัติตรงตามเงื่อนไขที่กำหนด | K3: 014/2569 | L3: 244533
A4: 2 | B4: จ้างก่อสร้างลานอเนกประสงค์คอนกรีตเสริมเหล็ก บ้านป่าเมี้ยง หมู่ที่ 9 | C4: 279000 | D4: 279023.74 | E4: โดยวิธีเฉพาะเจาะจง | F4: ห้างหุ้นส่วนจำกัด ชิงหลง คอนสทรัคชั่น | G4: 278500 | H4: ห้างหุ้นส่วนจำกัด ชิงหลง คอนสทรัคชั่น | I4: 278500 | J4: เป็นผู้มีคุณสมบัติตรงตามเงื่อนไขที่กำหนด | K4: 087/2569 | L4: 244532
A5: 3 | B5: จ้างก่อสร้างถนนคอนกรีตเสริมเหล็ก บ้านห้วยก้างปลา หมู่ที่ 15 (บ้านป่าบงงามล่าง) | C5: 248000 | D5: 250360.43 | E5: โดยวิธีเฉพาะเจาะจง | F5: ห้างหุ้นส่วนจำกัด ฉีหลิง คอนสตรัคชั่น | G5: 247300 | H5: ห้างหุ้นส่วนจำกัด ฉีหลิง คอนสตรัคชั่น | I5: 247300 | J5: เป็นผู้มีคุณสมบัติตรงตามเงื่อนไขที่กำหนด | K5: 088/2569 | L5: 244532
A6: 4 | B6: จ้างก่อสร้างถนนคอนกรีตเสริมเหล็ก บ้านปางสา หมู่ที่ 17 (บ้านจะดะ) | C6: 250000 | D6: 251896.44 | E6: โดยวิธีเฉพาะเจาะจง | F6: ห้างหุ้นส่วนจำกัด ฉีหลิง คอนสตรัคชั่น | G6: 249300 | H6: ห้างหุ้นส่วนจำกัด ฉีหลิง คอนสตรัคชั่น | I6: 249300 | J6: เป็นผู้มีคุณสมบัติตรงตามเงื่อนไขที่กำหนด | K6: 089/2569 | L6: 244532
A7: 5 | B7: จ้างก่อสร้างไหล่ทางถนนคอนกรีตเสริมเหล็ก บ้านป่าเมี้ยง หมู่ที่ 9 | C7: 79000 | D7: 79800.84 | E7: โดยวิธีเฉพาะเจาะจง | F7: ร้านสองวัสดุการค้า | G7: 78800 | H7: ร้านสองวัสดุการค้า | I7: 78800 | J7: เป็นผู้มีคุณสมบัติตรงตามเงื่อนไขที่กำหนด | K7: 090/2569 | L7: 244539
A8: 6 | B8: จ้างปรับปรุงหลังคาอาคารอเนกประสงค์ บ้านป่าตึง หมู่ที่ 8 | C8: 32500 | D8: 32761.54 | E8: โดยวิธีเฉพาะเจาะจง | F8: ร้านสองวัสดุการค้า | G8: 32200 | H8: ร้านสองวัสดุการค้า | I8: 32200 | J8: เป็นผู้มีคุณสมบัติตรงตามเงื่อนไขที่กำหนด | K8: 091/2569 | L8: 244539
A9: 7 | B9: จ้างก่อสร้างโครงการก่อสร้างถนนคอนกรีตเสริมเหล็ก บ้านท่าต้นแฟน หมู่ที่ 3 | C9: 753200 | D9: 810612.35 | E9: ด้วยวิธีประกวดราคาอิเล็กทรอนิกส์ (e-bidding) | F9: 1.หจก. แมกซ์เทียร์ 2.หจก. ปาวัน คอนสตรัคชั่น 3.หจก. ชิงหลง คอนสทรัคชั่น 4.หจก. แสนใจ คอนสตรัคชั่น 5.หจก. เอพี แลนด์ เชียงราย 6.หจก.เอสเอสเค คอนสตรัคชั่น แอนด์ แมชชีน 7.หจก. ทำดี อินฟินิท พลัส | G9: 690,000.00 648,450.00 680,000.00 750,000.00 630,000.00 661,000.00 677,888.00 | H9: ห้างหุ้นส่วนจำกัด เอพี แลนด์ เชียงราย | I9: 630000 | J9: เป็นผู้มีคุณสมบัติและข้อเสนอทางเทคนิค ถูกต้องครบถ้วนและเป็นผู้เสนอราคา ต่ำ สุด | K9: 092/2569 | L9: 244565
A10: 8 | B10: ซื้อวัสดุสำนักงาน จำนวน 7 รายการ | C10: 24700 | D10: 24700 | E10: โดยวิธีเฉพาะเจาะจง | F10: จี.จี.ซัพพลาย | G10: 24700 | H10: จี.จี.ซัพพลาย | I10: 24700 | J10: เป็นผู้มีคุณสมบัติตรงตามเงื่อนไขที่กำหนด | K10: 158/2569 | L10: 244531
A11: 9 | B11: ซื้อวัสดุกีฬา จำนวน 5 รายการ สำหรับกองการศึกษา ศาสนาและวัฒนธรรม | C11: 27570 | D11: 27570 | E11: โดยวิธีเฉพาะเจาะจง | F11: จี.จี.ซัพพลาย | G11: 27570 | H11: จี.จี.ซัพพลาย | I11: 27570 | J11: เป็นผู้มีคุณสมบัติตรงตามเงื่อนไขที่กำหนด | K11: 159/2569 | L11: 244533
A12: 10 | B12: ซื้อคอนกรีตผสมเสร็จ เพื่อแก้ไขปัญหาทางเข้าบ้านเรือนประชาชน บ้านป่าบง หมู่ที่ 1 | C12: 4200 | D12: 4200 | E12: โดยวิธีเฉพาะเจาะจง | F12: บริษัท แม่จันคอนกรีต (999) จำกัด | G12: 4200 | H12: บริษัท แม่จันคอนกรีต (999) จำกัด | I12: 4200 | J12: เป็นผู้มีคุณสมบัติตรงตามเงื่อนไขที่กำหนด | K12: 160/2569 | L12: 244533
A13: 11 | B13: ซื้อม่านปรับแสงพร้อมอุปกรณ์ติดตั้ง ห้องกองช่าง อบต.ป่าตึง | C13: 30000 | D13: 30000 | E13: โดยวิธีเฉพาะเจาะจง | F13: เชียงรายผ้าม่าน | G13: 30000 | H13: เชียงรายผ้าม่าน | I13: 30000 | J13: เป็นผู้มีคุณสมบัติตรงตามเงื่อนไขที่กำหนด | K13: 161/2569 | L13: 244533
A14: 12 | B14: ซื้อวัสดุไฟฟ้าและวิทยุ จำนวน 4 รายการ | C14: 17090 | D14: 17090 | E14: โดยวิธีเฉพาะเจาะจง | F14: ห้างหุ้นส่วนจำกัด ธนาทรัพย์ศิลา | G14: 17090 | H14: ห้างหุ้นส่วนจำกัด ธนาทรัพย์ศิลา | I14: 17090 | J14: เป็นผู้มีคุณสมบัติตรงตามเงื่อนไขที่กำหนด | K14: 162/2569 | L14: 244533
A15: 13 | B15: ซื้อผ้าม่านพร้อมอุปกรณ์ติดตั้ง ห้องจัดทำสื่อประชาสัมพันธ์ อบต.ป่าตึง จำนวน 3 รายการ | C15: 12600 | D15: 12600 | E15: โดยวิธีเฉพาะเจาะจง | F15: เชียงรายผ้าม่าน | G15: 12600 | H15: เชียงรายผ้าม่าน | I15: 12600 | J15: เป็นผู้มีคุณสมบัติตรงตามเงื่อนไขที่กำหนด | K15: 163/2569 | L15: 244539
A16: 14 | B16: ซื้อวัสดุเครื่องดับเพลิง จำนวน 5 รายการ | C16: 155000 | D16: 155000 | E16: โดยวิธีเฉพาะเจาะจง | F16: มังกรน้อย | G16: 155000 | H16: มังกรน้อย | I16: 155000 | J16: เป็นผู้มีคุณสมบัติตรงตามเงื่อนไขที่กำหนด | K16: 164/2569 | L16: 244539
A17: 15 | B17: ซื้อวัสดุวิทยาศาสตร์หรือการแพทย์ จำนวน 1 รายการ | C17: 6000 | D17: 6000 | E17: โดยวิธีเฉพาะเจาะจง | F17: บริษัท ซี.เค.กริฟฟิน จำกัด | G17: 6000 | H17: บริษัท ซี.เค.กริฟฟิน จำกัด | I17: 6000 | J17: เป็นผู้มีคุณสมบัติตรงตามเงื่อนไขที่กำหนด | K17: 165/2569 | L17: 244540
A18: 16 | B18: ซื้อวัสดุโฆษณาและเผยแพร่ จำนวน 2 รายการ | C18: 7100 | D18: 7100 | E18: โดยวิธีเฉพาะเจาะจง | F18: ห้างหุ้นส่วนจำกัด ธนาทรัพย์ศิลา | G18: 7100 | H18: ห้างหุ้นส่วนจำกัด ธนาทรัพย์ศิลา | I18: 7100 | J18: เป็นผู้มีคุณสมบัติตรงตามเงื่อนไขที่กำหนด | K18: 167/2569 | L18: 244543
A19: 17 | B19: ซื้อเครื่องแต่งกาย (ชุดกู้ชีพ) จำนวน 10 ชุด | C19: 15720 | D19: 15720 | E19: โดยวิธีเฉพาะเจาะจง | F19: ร้าน บัณฑิตา | G19: 15720 | H19: ร้าน บัณฑิตา | I19: 15720 | J19: เป็นผู้มีคุณสมบัติตรงตามเงื่อนไขที่กำหนด | K19: 168/2569 | L19: 244543
A20: 18 | B20: ซื้ออาหารเสริม(นม) สำหรับโรงเรียนบ้านป่าบงแม่จัน ประจำเดือน กรกฎาคม - ตุลาคม พ.ศ.2569 | C20: 238527.12 | D20: 238527.12 | E20: โดยวิธีเฉพาะเจาะจง | F20: บริษัท เชียงใหม่เฟรชมิลค์ จำกัด | G20: 238527.12 | H20: บริษัท เชียงใหม่เฟรชมิลค์ จำกัด | I20: 238527.12 | J20: เป็นผู้มีคุณสมบัติตรงตามเงื่อนไขที่กำหนด | K20: 169/2569 | L20: 244544
A21: 19 | B21: ซื้ออาหารเสริม(นม) สำหรับโรงเรียนบ้านป่าตึง ประจำเดือน กรกฎาคม - ตุลาคม พ.ศ. 2569 | C21: 35931.97 | D21: 35931.97 | E21: โดยวิธีเฉพาะเจาะจง | F21: บริษัท เชียงใหม่เฟรชมิลค์ จำกัด | G21: 35931.97 | H21: บริษัท เชียงใหม่เฟรชมิลค์ จำกัด | I21: 35931.97 | J21: เป็นผู้มีคุณสมบัติตรงตามเงื่อนไขที่กำหนด | K21: 170/2569 | L21: 244544
... A48: 46 | B48: จ้างเหมาติดตั้งรางน้ำฝนอาคารสำนักงานองค์การบริหารส่วนตำบลป่าตึง | C48: 6000 | D48: 6000 | E48: โดยวิธีเฉพาะเจาะจง | F48: ร้าน สว่างรางริน | G48: 6000 | H48: ร้าน สว่างรางริน | I48: 6000 | J48: เป็นผู้มีคุณสมบัติตรงตามเงื่อนไขที่กำหนด | K48: 218/2569 | L48: 244557
I49: =SUM(I3:I48) -> 2573703.5

Sheet สรุปผล สค
A1: สรุปผลการดำเนินการจัดซื้อจัดจ้างหรือการจัดหาพัสดุของหน่วยงานประจำเดือน ปีงบประมาณ พ.ศ.2569
A2: ชื่อหน่วยงาน องค์การบริหารส่วนตำบลป่าตึง
D3: ประจำเดือน สิงหาคม 2569
C4: ลำดับ | D4: วิธีการจัดซื้อจัดจ้าง | E4: จำนวนโครงการ | F4: จำนวนงบประมาณ
C5: 1 | D5: วิธีเฉพาะเจาะจง | E5: 28 | F5: 758326.54
C6: 2 | D6: วิธีคัดเลือก | E6: - | F6: -
C7: 3 | D7: วิธีประกวดราคาอิเล็คทรอนิกส์ (e-bidding) | E7: - | F7: -
C8: 4 | D8: อื่น ๆ | E8: - | F8: -
D9: รวม | E9: =SUM(E5:E8) -> 28 | F9: =SUM(F5:F8) -> 758326.54
A11: ปัญหา/อุปสรรค
A17: ข้อเสนอแนะ

Sheet สค69
A2: ลำดับที่ | B2: งานที่จัดซื้อจัดจ้าง | C2: วงเงินที่จะซื้อหรือจ้าง | D2: ราคากลาง | E2: วิธีจัดซื้อหรือจ้าง | F2: รายชื่อผู้เสนอราคา | G2: ราคาที่เสนอ | H2: ผู้ได้รับการคัดเลือก | I2: ราคาที่ตกลงซื้อหรือจ้าง | J2: เหตุผลที่คัดเลือกโดยสรุป | K2: เลขที่และวันที่ของสัญญาหรือข้อตกลงในการซื้อหรือจ้าง
A3: 1 | B3: ซื้อกล้องโทรทัศน์วงจรปิด พร้อมติดตั้ง จำนวน 1 รายการ | C3: 66000 | D3: 66000 | E3: โดยวิธีเฉพาะเจาะจง | F3: ห้างหุ้นส่วนจำกัด ธนาทรัพย์ศิลา | G3: 66000 | H3: ห้างหุ้นส่วนจำกัด ธนาทรัพย์ศิลา | I3: 66000 | J3: เป็นผู้มีคุณสมบัติตรงตามเงื่อนไขที่กำหนด | K3: 015/2569 | L3: 244589
A4: 2 | B4: ซื้อวัสดุคอมพิวเตอร์ จำนวน ๙ รายการ | C4: 38845 | D4: 38845 | E4: โดยวิธีเฉพาะเจาะจง | F4: ห้างหุ้นส่วนจำกัด ธนาทรัพย์ศิลา | G4: 38845 | H4: ห้างหุ้นส่วนจำกัด ธนาทรัพย์ศิลา | I4: 38845 | J4: เป็นผู้มีคุณสมบัติตรงตามเงื่อนไขที่กำหนด | K4: 189/2569 | L4: 244564
A5: 3 | B5: ซื้อวัสดุเพื่อใช้ในการอบรม โครงการฝึกอบรมและส่งเสริมอาชีพให้แก่ชุมชน กิจกรรมอบรม Eco Print ศิลปะการพิมพ์ลายและสีสันจากพืชพรรณธรรมชาติลงบนผืนผ้า ประจำปีงบประมาณ พ.ศ.2569 | C5: 40000 | D5: 40000 | E5: โดยวิธีเฉพาะเจาะจง | F5: วิสาหกิจชุมชน มาลีญา คราฟท์ แอนด์ ดีไซน์ | G5: 40000 | H5: วิสาหกิจชุมชน มาลีญา คราฟท์ แอนด์ ดีไซน์ | I5: 40000 | J5: เป็นผู้มีคุณสมบัติตรงตามเงื่อนไขที่กำหนด | K5: 190/2569 | L5: 244564
A6: 4 | B6: ซื้อวัสดุงานบ้านงานครัว จำนวน 17 รายการ | C6: 43930 | D6: 43930 | E6: โดยวิธีเฉพาะเจาะจง | F6: จี.จี.ซัพพลาย | G6: 43930 | H6: จี.จี.ซัพพลาย | I6: 43930 | J6: เป็นผู้มีคุณสมบัติตรงตามเงื่อนไขที่กำหนด | K6: 191/2569 | L6: 244572
A7: 5 | B7: ซื้อคอนกรีตผสมเสร็จ เพื่อซ่อมแซมถนน บ้านสันโค้ง หมู่ที่ 10 | C7: 7350 | D7: 7350 | E7: โดยวิธีเฉพาะเจาะจง | F7: บริษัท แม่จันคอนกรีต (999) จำกัด | G7: 7350 | H7: บริษัท แม่จันคอนกรีต (999) จำกัด | I7: 7350 | J7: เป็นผู้มีคุณสมบัติตรงตามเงื่อนไขที่กำหนด | K7: 192/2569 | L7: 244572
A8: 6 | B8: ซื้อวัสดุสำนักงานกองช่าง (จำนวน 7 รายการ) | C8: 16572 | D8: 16572 | E8: โดยวิธีเฉพาะเจาะจง | F8: จี.จี.ซัพพลาย | G8: 16572 | H8: จี.จี.ซัพพลาย | I8: 16572 | J8: เป็นผู้มีคุณสมบัติตรงตามเงื่อนไขที่กำหนด | K8: 193/2569 | L8: 244578
A9: 7 | B9: ซื้อคอนกรีตผสมเสร็จ เพื่อซ่อมแซมถนน บ้านห้วยก้างปลา หมู่ที่ 15 | C9: 11000 | D9: 11000 | E9: โดยวิธีเฉพาะเจาะจง | F9: บริษัท แม่จันคอนกรีต (999) จำกัด | G9: 11000 | H9: บริษัท แม่จันคอนกรีต (999) จำกัด | I9: 11000 | J9: เป็นผู้มีคุณสมบัติตรงตามเงื่อนไขที่กำหนด | K9: 194/2569 | L9: 244580
A10: 8 | B10: ซื้อครุภัณฑ์คอมพิวเตอร์หรืออิเล็กทรอนิกส์ (ปริ้นเตอร์) จำนวน 1 รายการ | C10: 8000 | D10: 8000 | E10: โดยวิธีเฉพาะเจาะจง | F10: ห้างหุ้นส่วนจำกัด ธนาทรัพย์ศิลา | G10: 8000 | H10: ห้างหุ้นส่วนจำกัด ธนาทรัพย์ศิลา | I10: 8000 | J10: เป็นผู้มีคุณสมบัติตรงตามเงื่อนไขที่กำหนด | K10: 195/2569 | L10: 244586
A11: 9 | B11: ซื้อวัสดุสำนักงาน จำนวน 17 รายการ | C11: 84526 | D11: 84526 | E11: โดยวิธีเฉพาะเจาะจง | F11: จี.จี.ซัพพลาย | G11: 84526 | H11: จี.จี.ซัพพลาย | I11: 84526 | J11: เป็นผู้มีคุณสมบัติตรงตามเงื่อนไขที่กำหนด | K11: 196/2569 | L11: 244586
A12: 10 | B12: ซื้อวัสดุสนาม จำนวน 2 รายการ | C12: 10000 | D12: 10000 | E12: โดยวิธีเฉพาะเจาะจง | F12: ห้างหุ้นส่วนจำกัด ธนาทรัพย์ศิลา | G12: 10000 | H12: ห้างหุ้นส่วนจำกัด ธนาทรัพย์ศิลา | I12: 10000 | J12: เป็นผู้มีคุณสมบัติตรงตามเงื่อนไขที่กำหนด | K12: 197/2569 | L12: 244586
A13: 11 | B13: ซื้อวัสดุเครื่องแต่งกาย จำนวน 3 รายการ (กองช่าง) | C13: 6900 | D13: 6900 | E13: โดยวิธีเฉพาะเจาะจง | F13: ดำรงค์การค้า | G13: 6900 | H13: ดำรงค์การค้า | I13: 6900 | J13: เป็นผู้มีคุณสมบัติตรงตามเงื่อนไขที่กำหนด | K13: 198/2569 | L13: 244586
A14: 12 | B14: ซื้อวัสดุเครื่องดับเพลิง จำนวน 3 รายการ | C14: 42100 | D14: 42100 | E14: โดยวิธีเฉพาะเจาะจง | F14: มังกรน้อย | G14: 42100 | H14: มังกรน้อย | I14: 42100 | J14: เป็นผู้มีคุณสมบัติตรงตามเงื่อนไขที่กำหนด | K14: 199/2569 | L14: 244586
... A30: 28 | B30: จ้างเหมาตามโครงการงานวันนัดพบเกษตรกร และอาหารปลอดภัยตำบลป่าตึง ประจำปี พ.ศ. 2569 | C30: 26000 | D30: 26000 | E30: โดยวิธีเฉพาะเจาะจง | F30: นาย วิชัย มูลหอม | G30: 26000 | H30: นาย วิชัย มูลหอม | I30: 26000 | J30: เป็นผู้มีคุณสมบัติตรงตามเงื่อนไขที่กำหนด | K30: 235/2569 | L30: 244586
I31: =SUM(I3:I30) -> 758326.54

Sheet สรุปผล กย
A1: สรุปผลการดำเนินการจัดซื้อจัดจ้างหรือการจัดหาพัสดุของหน่วยงานประจำเดือน ปีงบประมาณ พ.ศ.2569
A2: ชื่อหน่วยงาน องค์การบริหารส่วนตำบลป่าตึง
D3: ประจำเดือน กันยายน 2569
C4: ลำดับ | D4: วิธีการจัดซื้อจัดจ้าง | E4: จำนวนโครงการ | F4: จำนวนงบประมาณ
C5: 1 | D5: วิธีเฉพาะเจาะจง | E5: 65 | F5: =กย69!I68 -> 2616357.7
C6: 2 | D6: วิธีคัดเลือก | E6: - | F6: -
C7: 3 | D7: วิธีประกวดราคาอิเล็คทรอนิกส์ (e-bidding) | E7: - | F7: -
C8: 4 | D8: อื่น ๆ | E8: - | F8: -
D9: รวม | E9: =SUM(E5:E8) -> 65 | F9: =SUM(F5:F8) -> 2616357.7
A11: ปัญหา/อุปสรรค
A17: ข้อเสนอแนะ

Sheet กย69
A2: ลำดับที่ | B2: งานที่จัดซื้อจัดจ้าง | C2: วงเงินที่จะซื้อหรือจ้าง | D2: ราคากลาง | E2: วิธีจัดซื้อหรือจ้าง | F2: รายชื่อผู้เสนอราคา | G2: ราคาที่เสนอ | H2: ผู้ได้รับการคัดเลือก | I2: ราคาที่ตกลงซื้อหรือจ้าง | J2: เหตุผลที่คัดเลือกโดยสรุป | K2: เลขที่และวันที่ของสัญญาหรือข้อตกลงในการซื้อหรือจ้าง
A3: 1 | B3: ซื้อครุภัณฑ์คอมพิวเตอร์หรืออิเล็กทรอนิกส์ จำนวน 2 รายการ (กองคลัง) | C3: 102000 | D3: 102000 | E3: โดยวิธีเฉพาะเจาะจง | F3: ห้างหุ้นส่วนจำกัด ธนาทรัพย์ศิลา | G3: 102000 | H3: ห้างหุ้นส่วนจำกัด ธนาทรัพย์ศิลา | I3: 102000 | J3: เป็นผู้มีคุณสมบัติตรงตามเงื่อนไขที่กำหนด | K3: 016/2569 | L3: 244594
A4: 2 | B4: ซื้อครุภัณฑ์คอมพิวเตอร์หรืออิเล็กทรอนิกส์ จำนวน 2 รายการ (สำนักปลัด) | C4: 38500 | D4: 38500 | E4: โดยวิธีเฉพาะเจาะจง | F4: ห้างหุ้นส่วนจำกัด ธนาทรัพย์ศิลา | G4: 38500 | H4: ห้างหุ้นส่วนจำกัด ธนาทรัพย์ศิลา | I4: 38500 | J4: เป็นผู้มีคุณสมบัติตรงตามเงื่อนไขที่กำหนด | K4: 017/2569 | L4: 244594
A5: 3 | B5: จ้างปรับปรุงถนนคอนกรีตเสริมเหล็ก บ้านจะหยี (บ้านเล่าฝู่) หมู่ที่ 20 | C5: 89856.57 | D5: 89856.57 | E5: โดยวิธีเฉพาะเจาะจง | F5: ห้างหุ้นส่วนจำกัด เอสเอสเค คอนสตรัคชั่น แอนด์ แมชชีน | G5: 89700 | H5: ห้างหุ้นส่วนจำกัด เอสเอสเค คอนสตรัคชั่น แอนด์ แมชชีน | I5: 89700 | J5: เป็นผู้มีคุณสมบัติตรงตามเงื่อนไขที่กำหนด | K5: 093/2569 | L5: 244596
A6: 4 | B6: จ้างปรับปรุงถนนคอนกรีตเสริมเหล็ก โดยการเททับถนนคอนกรีตเดิม (จำนวน 2 จุด) บ้านใหม่เจริญ หมู่ที่ 18 | C6: 76506.13 | D6: 76506.13 | E6: โดยวิธีเฉพาะเจาะจง | F6: ร้านสองวัสดุการค้า | G6: 76000 | H6: ร้านสองวัสดุการค้า | I6: 76000 | J6: เป็นผู้มีคุณสมบัติตรงตามเงื่อนไขที่กำหนด | K6: 094/2569 | L6: 244596
A7: 5 | B7: ซื้อคอนกรีตผสมเสร็จ เพื่อซ่อมแซมถนน บ้านป่าบง หมู่ที่ 2 เชื่อม บ้านสันโค้ง หมู่ที่ 10 | C7: 8400 | D7: 8400 | E7: โดยวิธีเฉพาะเจาะจง | F7: บริษัท แม่จันคอนกรีต (999) จำกัด | G7: 8400 | H7: บริษัท แม่จันคอนกรีต (999) จำกัด | I7: 8400 | J7: เป็นผู้มีคุณสมบัติตรงตามเงื่อนไขที่กำหนด | K7: 202/2569 | L7: 244593
A8: 6 | B8: ซื้อครุภัณฑ์สำนักงาน จำนวน 2 รายการ | C8: 15590 | D8: 15590 | E8: โดยวิธีเฉพาะเจาะจง | F8: ห้างหุ้นส่วนจำกัด ธนาทรัพย์ศิลา | G8: 15590 | H8: ห้างหุ้นส่วนจำกัด ธนาทรัพย์ศิลา | I8: 15590 | J8: เป็นผู้มีคุณสมบัติตรงตามเงื่อนไขที่กำหนด | K8: 203/2569 | L8: 244593
A9: 7 | B9: ซื้อวัสดุสำนักงาน (โคมเวียนเทียนพลาสติก) จำนวน 20 อัน | C9: 1900 | D9: 1900 | E9: โดยวิธีเฉพาะเจาะจง | F9: จี.จี.ซัพพลาย | G9: 1900 | H9: จี.จี.ซัพพลาย | I9: 1900 | J9: เป็นผู้มีคุณสมบัติตรงตามเงื่อนไขที่กำหนด | K9: 205/2569 | L9: 244593
A10: 8 | B10: ซื้อวัสดุสำรวจ (บันไดอลูมิเนียม) จำนวน 1 อัน | C10: 5900 | D10: 5900 | E10: โดยวิธีเฉพาะเจาะจง | F10: จี.จี.ซัพพลาย | G10: 5900 | H10: จี.จี.ซัพพลาย | I10: 5900 | J10: เป็นผู้มีคุณสมบัติตรงตามเงื่อนไขที่กำหนด | K10: 206/2569 | L10: 244593
A11: 9 | B11: ซื้อวัสดุสำรวจ (บันไดอลูมิเนียม) จำนวน ๑ อัน | C11: 5900 | D11: 5900 | E11: โดยวิธีเฉพาะเจาะจง | F11: จี.จี.ซัพพลาย | G11: 5900 | H11: จี.จี.ซัพพลาย | I11: 5900 | J11: เป็นผู้มีคุณสมบัติตรงตามเงื่อนไขที่กำหนด | K11: 207/2569 | L11: 244593
A12: 10 | B12: ซื้อวัสดุงานบ้านงานครัว จำนวน 1 รายการ (กองสาธารณสุขและสิ่งแวดล้อม) | C12: 4800 | D12: 4800 | E12: โดยวิธีเฉพาะเจาะจง | F12: จี.จี.ซัพพลาย | G12: 4800 | H12: จี.จี.ซัพพลาย | I12: 4800 | J12: เป็นผู้มีคุณสมบัติตรงตามเงื่อนไขที่กำหนด | K12: 208/2569 | L12: 244593
A13: 11 | B13: ซื้อวัสดุจราจร จำนวน 2 รายการ | C13: 180200 | D13: 180200 | E13: โดยวิธีเฉพาะเจาะจง | F13: มังกรน้อย | G13: 180200 | H13: มังกรน้อย | I13: 180200 | J13: เป็นผู้มีคุณสมบัติตรงตามเงื่อนไขที่กำหนด | K13: 222/2569 | L13: 244599
A14: 12 | B14: จ้างเหมาซ่อมแซมถนนโดยใช้หินคลุกพร้อมปรับเกลี่ย บ้านสันโค้ง หมู่ที่ 10 | C14: 13150 | D14: 13150 | E14: โดยวิธีเฉพาะเจาะจง | F14: ร้านสองวัสดุการค้า | G14: 13150 | H14: ร้านสองวัสดุการค้า | I14: 13150 | J14: เป็นผู้มีคุณสมบัติตรงตามเงื่อนไขที่กำหนด | K14: 236/2569 | L14: 244593
... A67: 65 | B67: จ้างซ่อมแซมหลังคาดาดฟ้าอาคารสำนักงานองค์การบริหารส่วนตำบลป่าตึง | C67: 24200 | D67: 24200 | E67: โดยวิธีเฉพาะเจาะจง | F67: นายวิเชียร อูปสาแก้ว | G67: 24200 | H67: นายวิเชียร อูปสาแก้ว | I67: 24200 | J67: เป็นผู้มีคุณสมบัติตรงตามเงื่อนไขที่กำหนด | K67: 262/2569 | L67: 244614
I68: =SUM(I3:I67) -> 2616357.7
